BEGIN:VCALENDAR
VERSION:2.0
PRODID:-//AIA California Calendar - ECPv6.15.11//NONSGML v1.0//EN
CALSCALE:GREGORIAN
METHOD:PUBLISH
X-ORIGINAL-URL:https://events.aiacalifornia.org
X-WR-CALDESC:Events for AIA California Calendar
REFRESH-INTERVAL;VALUE=DURATION:PT1H
X-Robots-Tag:noindex
X-PUBLISHED-TTL:PT1H
BEGIN:VTIMEZONE
TZID:America/Los_Angeles
BEGIN:DAYLIGHT
TZOFFSETFROM:-0800
TZOFFSETTO:-0700
TZNAME:PDT
DTSTART:20230312T100000
END:DAYLIGHT
BEGIN:STANDARD
TZOFFSETFROM:-0700
TZOFFSETTO:-0800
TZNAME:PST
DTSTART:20231105T090000
END:STANDARD
BEGIN:DAYLIGHT
TZOFFSETFROM:-0800
TZOFFSETTO:-0700
TZNAME:PDT
DTSTART:20240310T100000
END:DAYLIGHT
BEGIN:STANDARD
TZOFFSETFROM:-0700
TZOFFSETTO:-0800
TZNAME:PST
DTSTART:20241103T090000
END:STANDARD
BEGIN:DAYLIGHT
TZOFFSETFROM:-0800
TZOFFSETTO:-0700
TZNAME:PDT
DTSTART:20250309T100000
END:DAYLIGHT
BEGIN:STANDARD
TZOFFSETFROM:-0700
TZOFFSETTO:-0800
TZNAME:PST
DTSTART:20251102T090000
END:STANDARD
END:VTIMEZONE
BEGIN:VTIMEZONE
TZID:UTC
BEGIN:STANDARD
TZOFFSETFROM:+0000
TZOFFSETTO:+0000
TZNAME:UTC
DTSTART:20200101T000000
END:STANDARD
END:VTIMEZONE
BEGIN:VEVENT
DTSTART;TZID=America/Los_Angeles:20240530T120000
DTEND;TZID=America/Los_Angeles:20240530T140000
DTSTAMP:20260424T100243
CREATED:20240508T075845Z
LAST-MODIFIED:20240523T232119Z
UID:10000260-1717070400-1717077600@events.aiacalifornia.org
SUMMARY:AIA Large States Townhall
DESCRIPTION:Join us on May 30\, 2024 starting at 12pm Pacific Time. \nZoom Link:Â  https://us06web.zoom.us/j/82849901293?pwd=phXacSvPLj6Obqq3Z0PFhyB0MImHsb.1 \nMeeting ID: 828 4990 1293 \nPasscode: 575764
URL:https://events.aiacalifornia.org/event/aia-large-states-townhall/
LOCATION:Virtual
CATEGORIES:AIACA
ATTACH;FMTTYPE=image/jpeg:https://events.aiacalifornia.org/wp-content/uploads/2024/05/general-AIACA-LargeStates-graphic-1200x800-1.jpg
ORGANIZER;CN="Nicki Dennis Stephens":MAILTO:ndennis@aiacalifornia.org
END:VEVENT
BEGIN:VEVENT
DTSTART;TZID=UTC:20231204T123000
DTEND;TZID=UTC:20231204T170000
DTSTAMP:20260424T100243
CREATED:20230829T235849Z
LAST-MODIFIED:20230829T235849Z
UID:10000092-1701693000-1701709200@events.aiacalifornia.org
SUMMARY:Executive Committee Meeting (if needed)
DESCRIPTION:
URL:https://events.aiacalifornia.org/event/executive-committee-meeting-if-needed/
LOCATION:Virtual
CATEGORIES:Executive Committee
ORGANIZER;CN="Nicki Dennis Stephens":MAILTO:ndennis@aiacalifornia.org
END:VEVENT
BEGIN:VEVENT
DTSTART;TZID=UTC:20231103T163000
DTEND;TZID=UTC:20231103T173000
DTSTAMP:20260424T100243
CREATED:20230829T235646Z
LAST-MODIFIED:20231101T020331Z
UID:10000091-1699029000-1699032600@events.aiacalifornia.org
SUMMARY:Installation and Leadership Celebration
DESCRIPTION:Recognizing the passionate commitment to and generous spirit of improving the architectural profession in California. \nand \nInstalling Winston Thorne\, AIA as AIA California’s 79th president. \nDo join us on Zoom for a special evening with your colleagues and the AIA California Board of Directors.
URL:https://events.aiacalifornia.org/event/installation-and-leadership-celebration/
LOCATION:AIA California Office\, 1931 H Street\, Sacramento\, CA\, 95811\, United States
CATEGORIES:Board Meeting
ATTACH;FMTTYPE=image/png:https://events.aiacalifornia.org/wp-content/uploads/2023/08/Installation-2024-1200x800-1.png
ORGANIZER;CN="Nicki Dennis Stephens":MAILTO:ndennis@aiacalifornia.org
END:VEVENT
BEGIN:VEVENT
DTSTART;TZID=UTC:20231103T140000
DTEND;TZID=UTC:20231103T160000
DTSTAMP:20260424T100243
CREATED:20230829T235402Z
LAST-MODIFIED:20230829T235402Z
UID:10000090-1699020000-1699027200@events.aiacalifornia.org
SUMMARY:Board of Directors Meeting
DESCRIPTION:
URL:https://events.aiacalifornia.org/event/board-of-directors-meeting-2/
LOCATION:Virtual
CATEGORIES:Board Meeting
ORGANIZER;CN="Nicki Dennis Stephens":MAILTO:ndennis@aiacalifornia.org
END:VEVENT
BEGIN:VEVENT
DTSTART;TZID=UTC:20231103T100000
DTEND;TZID=UTC:20231103T160000
DTSTAMP:20260424T100243
CREATED:20230829T234845Z
LAST-MODIFIED:20230829T234845Z
UID:10000089-1699005600-1699027200@events.aiacalifornia.org
SUMMARY:Executive Committee Meeting
DESCRIPTION:
URL:https://events.aiacalifornia.org/event/executive-committee-meeting-3/
LOCATION:AIA California Office\, 1931 H Street\, Sacramento\, CA\, 95811\, United States
CATEGORIES:Executive Committee
ORGANIZER;CN="Nicki Dennis Stephens":MAILTO:ndennis@aiacalifornia.org
END:VEVENT
BEGIN:VEVENT
DTSTART;TZID=UTC:20231019T140000
DTEND;TZID=UTC:20231019T153000
DTSTAMP:20260424T100243
CREATED:20230829T234549Z
LAST-MODIFIED:20230829T234634Z
UID:10000088-1697724000-1697729400@events.aiacalifornia.org
SUMMARY:Board Information Meeting: Engagement
DESCRIPTION:
URL:https://events.aiacalifornia.org/event/board-information-meeting-engagement/
LOCATION:Virtual
CATEGORIES:Board Meeting
ORGANIZER;CN="Nicki Dennis Stephens":MAILTO:ndennis@aiacalifornia.org
END:VEVENT
BEGIN:VEVENT
DTSTART;TZID=UTC:20231006T080000
DTEND;TZID=UTC:20231006T170000
DTSTAMP:20260424T100243
CREATED:20230829T234410Z
LAST-MODIFIED:20230829T234410Z
UID:10000087-1696579200-1696611600@events.aiacalifornia.org
SUMMARY:Board of Directors Meeting
DESCRIPTION:
URL:https://events.aiacalifornia.org/event/board-of-directors-meeting/
LOCATION:Virtual
CATEGORIES:Board Meeting
ORGANIZER;CN="Nicki Dennis Stephens":MAILTO:ndennis@aiacalifornia.org
END:VEVENT
BEGIN:VEVENT
DTSTART;TZID=UTC:20230922T140000
DTEND;TZID=UTC:20230922T153000
DTSTAMP:20260424T100243
CREATED:20230829T234322Z
LAST-MODIFIED:20230829T234322Z
UID:10000086-1695391200-1695396600@events.aiacalifornia.org
SUMMARY:Board Information Meeting: Governance
DESCRIPTION:
URL:https://events.aiacalifornia.org/event/board-information-meeting-governance/
LOCATION:Virtual
CATEGORIES:Board Meeting
ORGANIZER;CN="Nicki Dennis Stephens":MAILTO:ndennis@aiacalifornia.org
END:VEVENT
BEGIN:VEVENT
DTSTART;TZID=UTC:20230915T140000
DTEND;TZID=UTC:20230915T160000
DTSTAMP:20260424T100243
CREATED:20230829T234149Z
LAST-MODIFIED:20230829T234149Z
UID:10000085-1694786400-1694793600@events.aiacalifornia.org
SUMMARY:Executive Committee Meeting
DESCRIPTION:
URL:https://events.aiacalifornia.org/event/executive-committee-meeting-2/
LOCATION:Virtual
CATEGORIES:Executive Committee
ORGANIZER;CN="Nicki Dennis Stephens":MAILTO:ndennis@aiacalifornia.org
END:VEVENT
BEGIN:VEVENT
DTSTART;TZID=UTC:20230818T140000
DTEND;TZID=UTC:20230818T153000
DTSTAMP:20260424T100243
CREATED:20230829T233953Z
LAST-MODIFIED:20230829T233953Z
UID:10000084-1692367200-1692372600@events.aiacalifornia.org
SUMMARY:Executive Committee Meeting
DESCRIPTION:
URL:https://events.aiacalifornia.org/event/executive-committee-meeting/
LOCATION:Virtual
CATEGORIES:Executive Committee
ORGANIZER;CN="Nicki Dennis Stephens":MAILTO:ndennis@aiacalifornia.org
END:VEVENT
BEGIN:VEVENT
DTSTART;TZID=UTC:20230628T120000
DTEND;TZID=UTC:20230628T133000
DTSTAMP:20260424T100243
CREATED:20230622T015311Z
LAST-MODIFIED:20231026T061803Z
UID:10000069-1687953600-1687959000@events.aiacalifornia.org
SUMMARY:Path to Fellowship Webinar
DESCRIPTION:Throughout this webinar\, the AIA CA College of Fellow Regional Representatives will go into a detailed explanation about the process of applying for Fellowship and what steps are needed as members develop their portfolio. Once they are finished reviewing the steps necessary to apply for Fellowship\, they will host a live Q&A and panel discussion for the audience to ask their candid questions about Fellowship. \nCollege of Fellows Regional Representatives: \nAaron Hyland\, FAIA \nJoyce K. Polhamus\, FAIA \nRobert L. Ooley\, FAIA \nMichael Enomoto\, FAIA \nWinston Thorne\, AIA \n\nEarn 1.5 LU for attending live.\n\nhttps://youtu.be/N0NsY96_b-4
URL:https://events.aiacalifornia.org/event/path-to-fellowship-webinar-2/
LOCATION:Virtual
CATEGORIES:Practice
ATTACH;FMTTYPE=image/jpeg:https://events.aiacalifornia.org/wp-content/uploads/2023/06/Practice-Webinar-Path-to-Fellowship-1200x800-1.jpg
ORGANIZER;CN="Nicki Dennis Stephens":MAILTO:ndennis@aiacalifornia.org
END:VEVENT
BEGIN:VEVENT
DTSTART;TZID=UTC:20230406T120000
DTEND;TZID=UTC:20230406T130000
DTSTAMP:20260424T100243
CREATED:20230725T055102Z
LAST-MODIFIED:20240814T191317Z
UID:10000072-1680782400-1680786000@events.aiacalifornia.org
SUMMARY:California Accessory Dwelling Units (ADUs): 2023 Plus-Delta (+ / Î”) Perspectives
DESCRIPTION:Scroll down for archived video. \nThis panel discussion with subject matter experts coming from a number of different perspectives will discuss the current state of Accessory Dwelling Unit design and permitting in California using the following questions as a baseline:\nPlus (+): What”™s going well?\nDelta (Î”): Where is there room for improvement? \nDuring this session our esteemed panelists will outline if the processes\, policies\, and standards are working as intended; highlight conundrums\, inconsistencies\, and disconnects; and discuss how those might be addressed going forward. The focus of this session will be on issues that are of statewide significance rather than specific jurisdictions. \nThis lively\, fast paced\, and information program is open to all professionals working on the design and permitting of Accessory Dwelling Units in California. It is an offshoot of the AIA California Accessory Dwelling Unit Knowledge Network Program. \nPanel: \n\nJennifer Kretschmer\, AIA | Principal Architect | J.Kretshmer Architect – Moderator\nEllen Bildsten\, AIA |Â  Principal Architect | Bildsten Architecture and Planning\nMichael McLaughlin | HCD Specialist | California Housing and Community Development\nNick Brown\, CEA | President | Build Smart Group\nMehgie Tabar\, AICP | Principal Consultant | Senate Housing Committee\nDenise Pinkston | Partner | TMG Partners\nChristopher Olvera\n\n  \nViewing this video recording on the AIA CA website or on theÂ AIA CA YouTube channelÂ doesÂ notÂ qualify for continuing education or a certificate. If you are interested in obtaining CE or a certificate\, please access this recording on-demand through the aecKnowledge websiteÂ here. \n\nAdditional Resources\nFull Presentation_California ADUs_Plus Delta Perspectives
URL:https://events.aiacalifornia.org/event/california-accessory-dwelling-units-adus-2023-plus-delta-%ce%b4-perspectives/
LOCATION:Virtual
CATEGORIES:Practice
ATTACH;FMTTYPE=image/jpeg:https://events.aiacalifornia.org/wp-content/uploads/2023/07/Practice-Webinar-ADU-Video-Library-1200x800-1.jpg
ORGANIZER;CN="Nicki Dennis Stephens":MAILTO:ndennis@aiacalifornia.org
END:VEVENT
BEGIN:VEVENT
DTSTART;TZID=UTC:20230315T120000
DTEND;TZID=UTC:20230315T130000
DTSTAMP:20260424T100243
CREATED:20230720T032442Z
LAST-MODIFIED:20231222T064617Z
UID:10000061-1678881600-1678885200@events.aiacalifornia.org
SUMMARY:2022 Energy Code for Single-family Lighting
DESCRIPTION:Speaker:\nGina Rodda\, CEA | Principal/Owner of Gabel Associates\, LLC\n		 \n\n									Additional Resources\n									Additional Resources \nLearning Objectives Slidedeck_Code Breaker Singlefamily 2022 Lighting
URL:https://events.aiacalifornia.org/event/2022-energy-code-for-single-family-lighting/
LOCATION:Virtual
CATEGORIES:Climate Action
ATTACH;FMTTYPE=image/jpeg:https://events.aiacalifornia.org/wp-content/uploads/2023/07/2023-Climate-Action-Webinar-22-Energy-Code-for-Single-Family-lighting-1200x800-1.jpg
ORGANIZER;CN="Nicki Dennis Stephens":MAILTO:ndennis@aiacalifornia.org
END:VEVENT
BEGIN:VEVENT
DTSTART;TZID=UTC:20210831T120000
DTEND;TZID=UTC:20210831T130000
DTSTAMP:20260424T100243
CREATED:20210901T010707Z
LAST-MODIFIED:20231214T022332Z
UID:10000129-1630411200-1630414800@events.aiacalifornia.org
SUMMARY:AIA CA CACE Meeting: Fonteva Questions w/ Mike Skiadas
DESCRIPTION:
URL:https://events.aiacalifornia.org/event/aia-ca-cace-meeting-fonteva-questions-w-mike-skiadas/
LOCATION:Virtual
ATTACH;FMTTYPE=image/jpeg:https://events.aiacalifornia.org/wp-content/uploads/2021/08/General-AIACA-Event-graphic-1.jpg
ORGANIZER;CN="Nicki Dennis Stephens":MAILTO:ndennis@aiacalifornia.org
END:VEVENT
BEGIN:VEVENT
DTSTART;TZID=UTC:20210227T120000
DTEND;TZID=UTC:20210227T130000
DTSTAMP:20260424T100243
CREATED:20210228T015916Z
LAST-MODIFIED:20231201T024157Z
UID:10000128-1614427200-1614430800@events.aiacalifornia.org
SUMMARY:2021 Tour d'Architecture Sacramento
DESCRIPTION:
URL:https://events.aiacalifornia.org/event/2021-tour-darchitecture-sacramento/
LOCATION:Virtual
ORGANIZER;CN="Nicki Dennis Stephens":MAILTO:ndennis@aiacalifornia.org
END:VEVENT
BEGIN:VEVENT
DTSTART;TZID=UTC:20210224T120000
DTEND;TZID=UTC:20210224T130000
DTSTAMP:20260424T100243
CREATED:20210225T022405Z
LAST-MODIFIED:20231214T010748Z
UID:10000130-1614168000-1614171600@events.aiacalifornia.org
SUMMARY:AIA CA Committee on the Environment: Local Advocacy Tips and Tricks
DESCRIPTION:
URL:https://events.aiacalifornia.org/event/aia-ca-committee-on-the-environment-local-advocacy-tips-and-tricks/
LOCATION:Virtual
CATEGORIES:Climate Action
ORGANIZER;CN="Nicki Dennis Stephens":MAILTO:ndennis@aiacalifornia.org
END:VEVENT
END:VCALENDAR