BEGIN:VCALENDAR
VERSION:2.0
PRODID:-//AIA California Calendar - ECPv6.15.11//NONSGML v1.0//EN
CALSCALE:GREGORIAN
METHOD:PUBLISH
X-ORIGINAL-URL:https://events.aiacalifornia.org
X-WR-CALDESC:Events for AIA California Calendar
REFRESH-INTERVAL;VALUE=DURATION:PT1H
X-Robots-Tag:noindex
X-PUBLISHED-TTL:PT1H
BEGIN:VTIMEZONE
TZID:America/Los_Angeles
BEGIN:DAYLIGHT
TZOFFSETFROM:-0800
TZOFFSETTO:-0700
TZNAME:PDT
DTSTART:20230312T100000
END:DAYLIGHT
BEGIN:STANDARD
TZOFFSETFROM:-0700
TZOFFSETTO:-0800
TZNAME:PST
DTSTART:20231105T090000
END:STANDARD
BEGIN:DAYLIGHT
TZOFFSETFROM:-0800
TZOFFSETTO:-0700
TZNAME:PDT
DTSTART:20240310T100000
END:DAYLIGHT
BEGIN:STANDARD
TZOFFSETFROM:-0700
TZOFFSETTO:-0800
TZNAME:PST
DTSTART:20241103T090000
END:STANDARD
BEGIN:DAYLIGHT
TZOFFSETFROM:-0800
TZOFFSETTO:-0700
TZNAME:PDT
DTSTART:20250309T100000
END:DAYLIGHT
BEGIN:STANDARD
TZOFFSETFROM:-0700
TZOFFSETTO:-0800
TZNAME:PST
DTSTART:20251102T090000
END:STANDARD
BEGIN:DAYLIGHT
TZOFFSETFROM:-0800
TZOFFSETTO:-0700
TZNAME:PDT
DTSTART:20260308T100000
END:DAYLIGHT
BEGIN:STANDARD
TZOFFSETFROM:-0700
TZOFFSETTO:-0800
TZNAME:PST
DTSTART:20261101T090000
END:STANDARD
BEGIN:DAYLIGHT
TZOFFSETFROM:-0800
TZOFFSETTO:-0700
TZNAME:PDT
DTSTART:20270314T100000
END:DAYLIGHT
BEGIN:STANDARD
TZOFFSETFROM:-0700
TZOFFSETTO:-0800
TZNAME:PST
DTSTART:20271107T090000
END:STANDARD
END:VTIMEZONE
BEGIN:VTIMEZONE
TZID:UTC
BEGIN:STANDARD
TZOFFSETFROM:+0000
TZOFFSETTO:+0000
TZNAME:UTC
DTSTART:20230101T000000
END:STANDARD
END:VTIMEZONE
BEGIN:VEVENT
DTSTART;TZID=America/Los_Angeles:20260211T183000
DTEND;TZID=America/Los_Angeles:20260211T220000
DTSTAMP:20260424T083428
CREATED:20260126T225706Z
LAST-MODIFIED:20260211T205410Z
UID:10000389-1770834600-1770847200@events.aiacalifornia.org
SUMMARY:Monument Bus Tour and Dinner @ Leadership Summit
DESCRIPTION:AIA CA will be hosting its annual dinner at the AIA Leadership Summit. This exciting rooftop setting brings California members together with AIA leaders to connect\, collaborate\, and trade ides that help your component thrive. \nThis year\, we are planning something special – getting out of the hotel to see the city! We’ve arranged for a coach to whisk us away for “monuments in the moonlight” tour followed by a rooftop gathering. When you purchase your ticket for the dinner\, you will have the option to join the party bus at no extra charge. Please ensure you let us know if you can join us on the party bus. \nThe event schedule is as follows: \n\n6:15pm – Meet up at the Marriott Marquis Hotel for the party bus\n     Please only RSVP for the bus if you can participate\n6:30pm – Monument Tour commences and will stop at:\n• Jefferson Memorial\n• MLK Memorial\n• Lincoln Memorial\, includes Vietnam Memorial and others\n\n8:00pm – Party Bus will end at the Dinner Event\n10:00pm – Free bus ride back to the Marriott Marquis\n\nPurchase your ticket(s) now as there are only 40 tickets available. \nPlease note\, due to dinner venue security demands\, no tickets will be sold the day of the event. Please purchase your ticket in advance. \n 
URL:https://events.aiacalifornia.org/event/monument-bus-tour-and-dinner-leadership-summit/
LOCATION:KTGY Architecture + Planning\, Alexander Court\, 2001 K Street\, Washington\, DC\, 2001 K Street\, Washington DC\, United States
CATEGORIES:AIACA
ATTACH;FMTTYPE=image/png:https://events.aiacalifornia.org/wp-content/uploads/2026/01/2026-California-Dinner-1200x800-1.png
ORGANIZER;CN="Mirna Douet":MAILTO:MDouet@AIACalifornia.org
END:VEVENT
BEGIN:VEVENT
DTSTART;TZID=America/Los_Angeles:20251114T100000
DTEND;TZID=America/Los_Angeles:20251114T213000
DTSTAMP:20260424T083428
CREATED:20251021T233928Z
LAST-MODIFIED:20251027T150525Z
UID:10000379-1763114400-1763155800@events.aiacalifornia.org
SUMMARY:AIA CA Governance Events
DESCRIPTION:AIA CA will be hosting its annual meeting on Friday\, November 14\, 2025 at DPR Construction located at 1801 J Street\, Sacramento\, CA 95811. There will be a total of three (3) categories of sessions taking place\, they are: \n10:00am – 1:00pmAIA CA Executive Committee In-Person Meeting \n2:00pm – 4:30pm AIA CA Board of Directors Virtual Meeting(local members are encouraged to attend in person) \n5:00pm – 7:00pm Installation & Celebration Event Please join us in celebrating the installation of the new 2026 AIA CA President\, Ginger Thompson\, AIA\, and honor members for their achievements.(local members are encouraged to attend in person) \nA headcount is needed for all sessions. For each session\, please identify if you will attend in person\, virtually\, or not available. Please reach out to Mirna Douet mdouet@aiacalifornia.org if you have any questions.
URL:https://events.aiacalifornia.org/event/aia-ca-governance-events/
CATEGORIES:AIACA
ATTACH;FMTTYPE=image/webp:https://events.aiacalifornia.org/wp-content/uploads/2025/10/2025_BOD_Image-4-Zoom-Mtgs-1200x800-1.webp
ORGANIZER;CN="Mirna Douet":MAILTO:MDouet@AIACalifornia.org
END:VEVENT
BEGIN:VEVENT
DTSTART;TZID=America/Los_Angeles:20250606T210000
DTEND;TZID=America/Los_Angeles:20250606T230000
DTSTAMP:20260424T083428
CREATED:20250522T235044Z
LAST-MODIFIED:20250527T170001Z
UID:10000352-1749243600-1749250800@events.aiacalifornia.org
SUMMARY:2025 New Fellows Reception
DESCRIPTION:We are proud to celebrate the 2025 new fellows! In California\, a total of 17 new fellows have earned this designation. Being named a Fellow is a tremendous honor and speaks volumes about the accomplishments and dedication of your colleagues\, so please join us as we celebrate\, cheer\, and honor the 2025 new Fellows from California at Deck 12 at Yotel in Boston.
URL:https://events.aiacalifornia.org/event/2025-new-fellows-reception/
LOCATION:Deck 12 at Yotel\, 65 Seaport Blvd.\, Boston\, MA\, 02210\, United States
CATEGORIES:AIACA
ATTACH;FMTTYPE=image/png:https://events.aiacalifornia.org/wp-content/uploads/2025/05/New-Fellows-Reception-1200x800-1.png
ORGANIZER;CN="Mirna Douet":MAILTO:MDouet@AIACalifornia.org
END:VEVENT
BEGIN:VEVENT
DTSTART;TZID=UTC:20241108T173000
DTEND;TZID=UTC:20241108T183000
DTSTAMP:20260424T083428
CREATED:20231213T063438Z
LAST-MODIFIED:20241106T204053Z
UID:10000225-1731087000-1731090600@events.aiacalifornia.org
SUMMARY:INSTALLATION & LEADERSHIP CELEBRATION
DESCRIPTION:Please join us in celebration the installation of the new 2025 AIA CA President and honor members for their achievements.
URL:https://events.aiacalifornia.org/event/installation-leadership-celebration/
LOCATION:Virtual
CATEGORIES:Board Meeting
ATTACH;FMTTYPE=image/png:https://events.aiacalifornia.org/wp-content/uploads/2023/12/Installation-Celebration-graphic2-1200x800-1.png
ORGANIZER;CN="Mirna Douet":MAILTO:MDouet@AIACalifornia.org
END:VEVENT
BEGIN:VEVENT
DTSTART;TZID=UTC:20241108T140000
DTEND;TZID=UTC:20241108T170000
DTSTAMP:20260424T083428
CREATED:20231213T041508Z
LAST-MODIFIED:20240910T004723Z
UID:10000215-1731074400-1731085200@events.aiacalifornia.org
SUMMARY:BOARD OF DIRECTORS  NOVEMBER MEETING
DESCRIPTION:This is a virtual meeting.Â  To register for this meeting\, please see the BOD Basecamp posting.Â  Elections for the 2025 officers will be held during this meeting.
URL:https://events.aiacalifornia.org/event/board-of-directors-meeting-6/
LOCATION:Virtual
CATEGORIES:Board Meeting
ATTACH;FMTTYPE=image/jpeg:https://events.aiacalifornia.org/wp-content/uploads/2023/12/General-AIACA-Event-graphic-Board-of-Directors-1.jpg
ORGANIZER;CN="Mirna Douet":MAILTO:MDouet@AIACalifornia.org
END:VEVENT
BEGIN:VEVENT
DTSTART;TZID=UTC:20241108T100000
DTEND;TZID=UTC:20241108T140000
DTSTAMP:20260424T083428
CREATED:20231213T050442Z
LAST-MODIFIED:20240522T075213Z
UID:10000221-1731060000-1731074400@events.aiacalifornia.org
SUMMARY:EXECUTIVE COMMITTEE NOVEMBER MEETING
DESCRIPTION:This is an in-person meeting taking place at the AIA CA Sacramento office.
URL:https://events.aiacalifornia.org/event/executive-committee-meeting-9/
LOCATION:AIA California Office\, 1931 H Street\, Sacramento\, CA\, 95811\, United States
CATEGORIES:Executive Committee
ATTACH;FMTTYPE=image/jpeg:https://events.aiacalifornia.org/wp-content/uploads/2023/12/General-AIACA-event-graphic-Meeting.jpg
ORGANIZER;CN="Mirna Douet":MAILTO:MDouet@AIACalifornia.org
END:VEVENT
BEGIN:VEVENT
DTSTART;TZID=UTC:20241021T140000
DTEND;TZID=UTC:20241021T160000
DTSTAMP:20260424T083428
CREATED:20240329T062219Z
LAST-MODIFIED:20240402T232742Z
UID:10000242-1729519200-1729526400@events.aiacalifornia.org
SUMMARY:Planning & Finance Committee Meeting
DESCRIPTION:
URL:https://events.aiacalifornia.org/event/planning-finance-committee-meeting-2/
LOCATION:Virtual
CATEGORIES:Planning & Finance
ATTACH;FMTTYPE=image/png:https://events.aiacalifornia.org/wp-content/uploads/2024/03/Committee-PlanningFinance-1200x800-2.png
ORGANIZER;CN="Mirna Douet":MAILTO:MDouet@AIACalifornia.org
END:VEVENT
BEGIN:VEVENT
DTSTART;TZID=UTC:20240930T140000
DTEND;TZID=UTC:20240930T160000
DTSTAMP:20260424T083428
CREATED:20231213T050008Z
LAST-MODIFIED:20240522T074831Z
UID:10000220-1727704800-1727712000@events.aiacalifornia.org
SUMMARY:EXECUTIVE COMMITTEE SEPTEMBER MEETING
DESCRIPTION:This is a virtual meeting and the link for this meeting will be posted on the Executive Committee Basecamp site.
URL:https://events.aiacalifornia.org/event/executive-committee-meeting-8/
LOCATION:Virtual
CATEGORIES:Executive Committee
ATTACH;FMTTYPE=image/jpeg:https://events.aiacalifornia.org/wp-content/uploads/2023/12/General-AIACA-event-graphic-Meeting.jpg
ORGANIZER;CN="Mirna Douet":MAILTO:MDouet@AIACalifornia.org
END:VEVENT
BEGIN:VEVENT
DTSTART;TZID=UTC:20240927T140000
DTEND;TZID=UTC:20240927T153000
DTSTAMP:20260424T083428
CREATED:20231213T062630Z
LAST-MODIFIED:20240522T074941Z
UID:10000224-1727445600-1727451000@events.aiacalifornia.org
SUMMARY:BOARD INFORMATIONAL SEPTEMBER MEETING
DESCRIPTION:This is a virtual meeting.Â  To register for this meeting\, please see the BOD Basecamp posting.
URL:https://events.aiacalifornia.org/event/board-informational-meeting-3/
LOCATION:Virtual
CATEGORIES:Board Meeting
ATTACH;FMTTYPE=image/jpeg:https://events.aiacalifornia.org/wp-content/uploads/2023/12/General-AIACA-Event-graphic.jpg
ORGANIZER;CN="Mirna Douet":MAILTO:MDouet@AIACalifornia.org
END:VEVENT
BEGIN:VEVENT
DTSTART;TZID=UTC:20240913T100000
DTEND;TZID=UTC:20240913T120000
DTSTAMP:20260424T083428
CREATED:20240329T062041Z
LAST-MODIFIED:20240905T170310Z
UID:10000241-1726221600-1726228800@events.aiacalifornia.org
SUMMARY:Planning & Finance Committee September Meeting
DESCRIPTION:
URL:https://events.aiacalifornia.org/event/planning-finance/
LOCATION:Virtual
CATEGORIES:Planning & Finance
ATTACH;FMTTYPE=image/png:https://events.aiacalifornia.org/wp-content/uploads/2024/03/Committee-PlanningFinance-1200x800-2.png
ORGANIZER;CN="Mirna Douet":MAILTO:MDouet@AIACalifornia.org
END:VEVENT
BEGIN:VEVENT
DTSTART;TZID=UTC:20240816T140000
DTEND;TZID=UTC:20240816T160000
DTSTAMP:20260424T083428
CREATED:20231213T041056Z
LAST-MODIFIED:20240522T072621Z
UID:10000214-1723816800-1723824000@events.aiacalifornia.org
SUMMARY:BOARD OF DIRECTORS AUGUST MEETING
DESCRIPTION:This is a virtual meeting.Â  To register for this meeting\, please see the BOD Basecamp posting.
URL:https://events.aiacalifornia.org/event/board-of-directors-meeting-5/
LOCATION:Virtual
CATEGORIES:Board Meeting
ATTACH;FMTTYPE=image/jpeg:https://events.aiacalifornia.org/wp-content/uploads/2023/12/General-AIACA-Event-graphic-Board-of-Directors-1.jpg
ORGANIZER;CN="Mirna Douet":MAILTO:MDouet@AIACalifornia.org
END:VEVENT
BEGIN:VEVENT
DTSTART;TZID=UTC:20240808T163000
DTEND;TZID=UTC:20240808T173000
DTSTAMP:20260424T083428
CREATED:20240522T072445Z
LAST-MODIFIED:20240730T223801Z
UID:10000263-1723134600-1723138200@events.aiacalifornia.org
SUMMARY:BOARD OF DIRECTORS MEETING PREP CALL
DESCRIPTION:Want to prepare for the May 31st AIA CA Board meeting?Â  Join your colleagues\, Winston Thorne\, AIA and Carina Mills\, AIA for an open discussion of issues to be addressed during the Board of Directors meeting. They will share their strategy for preparing for the meeting and answer questions you may have about the agenda items. Please see the Board of Directors Basecamp site for this meeting’s zoom link\, where registration is not required.
URL:https://events.aiacalifornia.org/event/board-of-directors-8-16-prep-discussion-call/
LOCATION:Virtual
CATEGORIES:Board Meeting
ATTACH;FMTTYPE=image/jpeg:https://events.aiacalifornia.org/wp-content/uploads/2024/05/General-AIACA-Event-graphic-Board-of-Directors-1.jpg
ORGANIZER;CN="Mirna Douet":MAILTO:MDouet@AIACalifornia.org
END:VEVENT
BEGIN:VEVENT
DTSTART;TZID=America/Los_Angeles:20240806T120000
DTEND;TZID=America/Los_Angeles:20240806T133000
DTSTAMP:20260424T083428
CREATED:20240715T223548Z
LAST-MODIFIED:20241216T174712Z
UID:10000269-1722945600-1722951000@events.aiacalifornia.org
SUMMARY:Path to Fellowship (Now On-Video)
DESCRIPTION:**Scroll down to access video of this past AIA California webinar.** \nThroughout this webinar\, the AIA California College of Fellow Regional Representatives will go into a detailed explanation about the process of applying for Fellowship and what steps are needed as members develop their portfolio. Once they are finished reviewing the steps necessary to apply for Fellowship\, they will host a live Q&A and panel discussion for the audience to ask their candid questions about Fellowship. \n  \nRobert L. Ooley\, FAIASouthern CA-Regional Rep.Bio\nMichael Enomoto\, FAIASouthern CA-Regional Rep.Bio\nJoyce Polhamus\, FAIANorthern CA-Regional Rep.Bio\nAaron Hyland\, FAIANorthern CA-Regional Rep.Bio\n  \n  \n  \n  \n  \n  \n 
URL:https://events.aiacalifornia.org/event/aia-ca-path-to-fellowship/
LOCATION:Virtual
CATEGORIES:AIACA,Practice
ATTACH;FMTTYPE=image/jpeg:https://events.aiacalifornia.org/wp-content/uploads/2024/07/COF_P2F_CalendarImage-1200x800-2.jpg
ORGANIZER;CN="Mirna Douet":MAILTO:MDouet@AIACalifornia.org
END:VEVENT
BEGIN:VEVENT
DTSTART;TZID=UTC:20240731T140000
DTEND;TZID=UTC:20240731T160000
DTSTAMP:20260424T083428
CREATED:20231213T045813Z
LAST-MODIFIED:20240624T233444Z
UID:10000219-1722434400-1722441600@events.aiacalifornia.org
SUMMARY:EXECUTIVE COMMITTEE JULY MEETING
DESCRIPTION:This is a virtual meeting.
URL:https://events.aiacalifornia.org/event/executive-committee-meeting-7/
LOCATION:AIA California Office\, 1931 H Street\, Sacramento\, CA\, 95811\, United States
CATEGORIES:Executive Committee
ATTACH;FMTTYPE=image/jpeg:https://events.aiacalifornia.org/wp-content/uploads/2023/12/General-AIACA-Event-graphic.jpg
ORGANIZER;CN="Mirna Douet":MAILTO:MDouet@AIACalifornia.org
END:VEVENT
BEGIN:VEVENT
DTSTART;TZID=UTC:20240712T140000
DTEND;TZID=UTC:20240712T160000
DTSTAMP:20260424T083428
CREATED:20231213T062238Z
LAST-MODIFIED:20240710T162350Z
UID:10000223-1720792800-1720800000@events.aiacalifornia.org
SUMMARY:BOARD of DIRECTORS - JULY MEETING
DESCRIPTION:This is a virtual meeting.Â  To register for this meeting\, please see the BOD Basecamp posting. \nDuring this meeting\, a special election for VP of Government Relations will take place.
URL:https://events.aiacalifornia.org/event/board-informational-meeting-2/
LOCATION:Virtual
CATEGORIES:Board Meeting
ATTACH;FMTTYPE=image/jpeg:https://events.aiacalifornia.org/wp-content/uploads/2024/05/General-AIACA-Event-graphic-Board-of-Directors-1.jpg
ORGANIZER;CN="Mirna Douet":MAILTO:MDouet@AIACalifornia.org
END:VEVENT
BEGIN:VEVENT
DTSTART;TZID=UTC:20240617T140000
DTEND;TZID=UTC:20240617T160000
DTSTAMP:20260424T083428
CREATED:20240329T061538Z
LAST-MODIFIED:20240522T075520Z
UID:10000240-1718632800-1718640000@events.aiacalifornia.org
SUMMARY:Planning & Finance Committee June Meeting
DESCRIPTION:
URL:https://events.aiacalifornia.org/event/planning-finance-committee/
LOCATION:Virtual
CATEGORIES:Planning & Finance
ATTACH;FMTTYPE=image/png:https://events.aiacalifornia.org/wp-content/uploads/2024/03/Committee-PlanningFinance-1200x800-2.png
ORGANIZER;CN="Mirna Douet":MAILTO:MDouet@AIACalifornia.org
END:VEVENT
BEGIN:VEVENT
DTSTART;TZID=America/Los_Angeles:20240606T210000
DTEND;TZID=America/Los_Angeles:20240606T223000
DTSTAMP:20260424T083428
CREATED:20240424T061302Z
LAST-MODIFIED:20240822T143947Z
UID:10000253-1717707600-1717713000@events.aiacalifornia.org
SUMMARY:2024 AIA California New Fellows Reception
DESCRIPTION:AIA California takes great delight in celebrating the elevation of new Fellows each year. Please join us for a celebration to honor the twenty AIA California members elevated in 2024 during AIA24 in Washington DC. \nIf you are planning to attend the AIA Conference on Architecture in Washington\, D.C.\, do join us for an evening of cocktails\, desserts\, and celebration as part of AIA California’s special AIA24 programming. \n\nThank you to our Donors!\n\n\n\n\nRonald Altoon\, FAIA Member Emeritus ofÂ ALTOON STRAGETIC\, LLC \nRobert Bracamonte\, FAIA\n“My sincerest CONGRATULATIONS to the new Fellows! Have one on me.“ \nThomas Braham\, FAIA \nGordon Carrier\, FAIA \nDonald Caskey\, FAIA Member Emeritus \nGordon Chong\, FAIA Member Emeritus \nChristos Chrysiliou\, FAIA\n“Congratulations to our New Fellows! Very well deserved.” \nAmy Chu\, FAIA \nRobert Culvahouse\, FAIA \nDavid Darling\, FAIA \nArthur Dyson\, FAIA \nBrian Dougherty\, FAIA \nBetsey Dougherty\, FAIA \nMichael Enomoto\, FAIA ofÂ GRUEN ASSOCIATES \nJ. Handel Evans\, FAIA Member Emeritus \nJonathan Feldman\, FAIA \nJohn Friedman\, FAIA \nMary Follenweider\, FAIA Member Emeritus \nDebra Gerod\, FAIA ofÂ GRUEN ASSOCIATES \nCraig Hamilton\, FAIA \nRichard Heinz\, FAIA Member Emeritus\n“Congratulations to all new California AIA Fellows!” \nCharles Higueras\, FAIA\n“I heartily congratulate all the newly minted Fellows! Huzzah!!” \nMichael Hricak\, FAIA \n\n\n\n\n\n\n\n\nRoberta Jorgensen\, FAIA \nNerin Kadribegovic\, FAIA \nAlice Kimm\, FAIA \nSylvia Kwan\, FAIA \nMarc L”™Italien\, FAIA \nEllen Lou\, FAIA\n“Honor the 2024 CA New Fellows from Ellen Lou\, Skidmore\, Owings & Merrill” \nMichael Malinowski\, FAIA ofÂ Streamline Institute \nClarence Mamuyac\, FAIA \nWilliam Melby\, FAIA Member Emeritus \nPaul Neel\, FAIA Member Emeritus \nJon Niemuth\, FAIA\n“Congrats Hao Ko + Anthony Brower!” \nEdward Niles\, FAIA Member Emeritus \nChristopher Noll\, FAIA \nSam Nunes\, FAIA ofÂ WRNS Studio \nJoyce Polhamus\, FAIA \nLynn Pomeroy\, FAIA Member Emeritus \nMark Quattrocchi\, FAIA \nWendy Rogers\, FAIA\n“Enjoy the New Fellows Reception” \nMichael Roush\, FAIA \nRona Rothenberg\, FAIA\n“Sorry I can”™t join you”¦ENJOY!” \n\n\n\n\n\n\n\n\nLee Salin\, FAIA \nBryan Shiles\, FAIA ofÂ WRNS Studio \nLynn Simon\, FAIA\n“Congratulations on achieving Fellow!” \nMichael Smith\, FAIA \nSteven Sobel\, FAIA \nPauline Souza\, FAIA ofÂ WRNS Studio \nRichard Stacy\, FAIA \nMichael Stanton\, FAIA \nRobert Steinberg\, FAIA\n“Congratulations to a most well deserving group of Fellows!” \nMichael Strogoff\, FAIA ofÂ Strogoff Consulting \nJanet Tam\, FAIA \nH. Ruth Todd\, FAIA \nJoel Tomei\, FAIA Member Emeritus\n“Congratulations New Fellows! I wish that I could attend your reception\, but know that it will be one of your most memorable life experiences.” \nWilliam Valentine\, FAIA Member Emeritus \nChristopher Wasney\, FAIA \nAlison Whitelaw\, FAIA Member Emeritus \nAllison Williams\, FAIA\n“Congratulations to the AIA Fellowship Class of 2024! Allison Grace Williams FAIA AGWms_studio” \nMichael Willis\, FAIA Member Emeritus \nSteven Winkel\, FAIA \nTakashi Yanai\, FAIA
URL:https://events.aiacalifornia.org/event/2024-aia-california-new-fellows-reception/
LOCATION:Alexander Court\, 2001 K Street NW\, Washington DC\, DC\, 20006\, United States
CATEGORIES:AIACA
ATTACH;FMTTYPE=image/jpeg:https://events.aiacalifornia.org/wp-content/uploads/2024/04/2024-FellowsReception.jpg
ORGANIZER;CN="Mirna Douet":MAILTO:MDouet@AIACalifornia.org
END:VEVENT
BEGIN:VEVENT
DTSTART;TZID=America/Los_Angeles:20240531T100000
DTEND;TZID=America/Los_Angeles:20240531T160000
DTSTAMP:20260424T083428
CREATED:20231213T040859Z
LAST-MODIFIED:20240523T225145Z
UID:10000213-1717149600-1717171200@events.aiacalifornia.org
SUMMARY:Board of Directors Meeting - May
DESCRIPTION:This is a virtual meeting.Â  To register for this meeting\, please see the BOD Basecamp posting.
URL:https://events.aiacalifornia.org/event/board-of-directors-meeting-4/
LOCATION:Virtual
CATEGORIES:Board Meeting
ATTACH;FMTTYPE=image/jpeg:https://events.aiacalifornia.org/wp-content/uploads/2023/12/General-AIACA-Event-graphic-Board-of-Directors-1.jpg
ORGANIZER;CN="Mirna Douet":MAILTO:MDouet@AIACalifornia.org
END:VEVENT
BEGIN:VEVENT
DTSTART;TZID=America/Los_Angeles:20240530T120000
DTEND;TZID=America/Los_Angeles:20240530T140000
DTSTAMP:20260424T083428
CREATED:20240508T075845Z
LAST-MODIFIED:20240523T232119Z
UID:10000260-1717070400-1717077600@events.aiacalifornia.org
SUMMARY:AIA Large States Townhall
DESCRIPTION:Join us on May 30\, 2024 starting at 12pm Pacific Time. \nZoom Link:Â  https://us06web.zoom.us/j/82849901293?pwd=phXacSvPLj6Obqq3Z0PFhyB0MImHsb.1 \nMeeting ID: 828 4990 1293 \nPasscode: 575764
URL:https://events.aiacalifornia.org/event/aia-large-states-townhall/
LOCATION:Virtual
CATEGORIES:AIACA
ATTACH;FMTTYPE=image/jpeg:https://events.aiacalifornia.org/wp-content/uploads/2024/05/general-AIACA-LargeStates-graphic-1200x800-1.jpg
ORGANIZER;CN="Nicki Dennis Stephens":MAILTO:ndennis@aiacalifornia.org
END:VEVENT
BEGIN:VEVENT
DTSTART;TZID=America/Los_Angeles:20240524T100000
DTEND;TZID=America/Los_Angeles:20240524T160000
DTSTAMP:20260424T083428
CREATED:20231213T045705Z
LAST-MODIFIED:20240523T231944Z
UID:10000218-1716544800-1716566400@events.aiacalifornia.org
SUMMARY:Executive Committee Meeting - May
DESCRIPTION:The May 10th Executive Committee meeting has been moved to Friday\, May 24. \nThis is an in-person taking place at the AIA CA Sacramento office.
URL:https://events.aiacalifornia.org/event/executive-committee-meeting-6/
LOCATION:AIA California Office\, 1931 H Street\, Sacramento\, CA\, 95811\, United States
CATEGORIES:Executive Committee
ATTACH;FMTTYPE=image/jpeg:https://events.aiacalifornia.org/wp-content/uploads/2023/12/General-AIACA-Event-graphic.jpg
ORGANIZER;CN="Mirna Douet":MAILTO:MDouet@AIACalifornia.org
END:VEVENT
BEGIN:VEVENT
DTSTART;TZID=UTC:20240523T163000
DTEND;TZID=UTC:20240523T173000
DTSTAMP:20260424T083428
CREATED:20240522T072115Z
LAST-MODIFIED:20240522T072157Z
UID:10000262-1716481800-1716485400@events.aiacalifornia.org
SUMMARY:BOARD OF DIRECTORS 5/31 PREP DISCUSSION CALL
DESCRIPTION:Want to prepare for the May 31st AIA CA Board meeting?Â  Join your colleagues\, Winston Thorne\, AIA and Carina Mills\, AIA for an open discussion of issues to be addressed during the Board of Directors meeting. They will share their strategy for preparing for the meeting and answer questions you may have about the agenda items. Please see the Board of Directors Basecamp site for this meeting’s zoom link\, where registration is not required.
URL:https://events.aiacalifornia.org/event/board-of-directors-5-31-prep-discussion-call/
LOCATION:Virtual
CATEGORIES:Board Meeting
ATTACH;FMTTYPE=image/jpeg:https://events.aiacalifornia.org/wp-content/uploads/2024/05/General-AIACA-Event-graphic-Board-of-Directors-1.jpg
ORGANIZER;CN="Mirna Douet":MAILTO:MDouet@AIACalifornia.org
END:VEVENT
BEGIN:VEVENT
DTSTART;TZID=America/Los_Angeles:20240523T140000
DTEND;TZID=America/Los_Angeles:20240523T160000
DTSTAMP:20260424T083428
CREATED:20240329T061220Z
LAST-MODIFIED:20240523T231831Z
UID:10000239-1716472800-1716480000@events.aiacalifornia.org
SUMMARY:Planning & Finance Committee May Meeting
DESCRIPTION:
URL:https://events.aiacalifornia.org/event/planning-finance-committee-meeting/
LOCATION:Virtual
CATEGORIES:Planning & Finance
ATTACH;FMTTYPE=image/png:https://events.aiacalifornia.org/wp-content/uploads/2024/03/Committee-PlanningFinance-1200x800-2.png
ORGANIZER;CN="Mirna Douet":MAILTO:MDouet@AIACalifornia.org
END:VEVENT
BEGIN:VEVENT
DTSTART;TZID=UTC:20240517T140000
DTEND;TZID=UTC:20240517T153000
DTSTAMP:20260424T083428
CREATED:20231213T062006Z
LAST-MODIFIED:20240508T024553Z
UID:10000222-1715954400-1715959800@events.aiacalifornia.org
SUMMARY:Board Informational Meeting on Advocacy - May
DESCRIPTION:This is a virtual meeting.Â  To register for this meeting\, please see the BOD Basecamp posting. \nThe April 5th Board Information meeting has been moved to Friday\, May 17.
URL:https://events.aiacalifornia.org/event/board-informational-meeting/
LOCATION:Virtual
CATEGORIES:Board Meeting
ATTACH;FMTTYPE=image/jpeg:https://events.aiacalifornia.org/wp-content/uploads/2023/12/General-AIACA-Event-graphic.jpg
ORGANIZER;CN="Mirna Douet":MAILTO:MDouet@AIACalifornia.org
END:VEVENT
BEGIN:VEVENT
DTSTART;TZID=UTC:20240314T100000
DTEND;TZID=UTC:20240314T160000
DTSTAMP:20260424T083428
CREATED:20231213T045550Z
LAST-MODIFIED:20240227T052833Z
UID:10000217-1710410400-1710432000@events.aiacalifornia.org
SUMMARY:EXECUTIVE COMMITTEE MEETING
DESCRIPTION:This is an in-person taking place at the AIA CA Sacramento office.
URL:https://events.aiacalifornia.org/event/executive-committee-meeting-5/
LOCATION:AIA California Office\, 1931 H Street\, Sacramento\, CA\, 95811\, United States
CATEGORIES:Executive Committee
ATTACH;FMTTYPE=image/jpeg:https://events.aiacalifornia.org/wp-content/uploads/2023/12/General-AIACA-event-graphic-Meeting.jpg
ORGANIZER;CN="Mirna Douet":MAILTO:MDouet@AIACalifornia.org
END:VEVENT
BEGIN:VEVENT
DTSTART;TZID=UTC:20240126T140000
DTEND;TZID=UTC:20240126T153000
DTSTAMP:20260424T083428
CREATED:20231213T043534Z
LAST-MODIFIED:20231213T050725Z
UID:10000216-1706277600-1706283000@events.aiacalifornia.org
SUMMARY:EXECUTIVE COMMITTEE MEETING
DESCRIPTION:This is a virtual meeting and the link for this meeting will be posted on the Executive Committee Basecamp site.
URL:https://events.aiacalifornia.org/event/executive-committee-meeting-4/
LOCATION:Virtual
CATEGORIES:Board Meeting,Executive Committee
ATTACH;FMTTYPE=image/jpeg:https://events.aiacalifornia.org/wp-content/uploads/2023/12/General-AIACA-Event-graphic.jpg
ORGANIZER;CN="Mirna Douet":MAILTO:MDouet@AIACalifornia.org
END:VEVENT
END:VCALENDAR