BEGIN:VCALENDAR
VERSION:2.0
PRODID:-//AIA California Calendar - ECPv6.15.11//NONSGML v1.0//EN
CALSCALE:GREGORIAN
METHOD:PUBLISH
X-ORIGINAL-URL:https://events.aiacalifornia.org
X-WR-CALDESC:Events for AIA California Calendar
REFRESH-INTERVAL;VALUE=DURATION:PT1H
X-Robots-Tag:noindex
X-PUBLISHED-TTL:PT1H
BEGIN:VTIMEZONE
TZID:UTC
BEGIN:STANDARD
TZOFFSETFROM:+0000
TZOFFSETTO:+0000
TZNAME:UTC
DTSTART:20230101T000000
END:STANDARD
END:VTIMEZONE
BEGIN:VEVENT
DTSTART;TZID=UTC:20240918T090000
DTEND;TZID=UTC:20240918T170000
DTSTAMP:20260424T083258
CREATED:20240409T055248Z
LAST-MODIFIED:20240716T160002Z
UID:10000247-1726650000-1726678800@events.aiacalifornia.org
SUMMARY:2024 Healthcare Facilities Forum
DESCRIPTION:Each year the Healthcare Facilities Forum brings you a glimpse into the future of healthcare facilities.Â  What trends\, technologies and numerous other factors will impact the design and delivery of hospitals and outpatient facilities? \nThis year we are seeing technology and data impact healthcare design in greater ways than ever before. Don’t miss out on this event that will give you a future view of the profession and be able to think and assist your clients from a strategic lens. \nJoin in person in Los Angeles\, livestreamed in San Francisco or\, if travel funds or time are tight\, join us through our virtual pass to watch from your desk or home office. \nJoin us to hear from healthcare system leaders and other experts as we explore these topics”¦and more\, on September 18\, 2024!
URL:https://events.aiacalifornia.org/event/healthcare-facilities-forum-2/
LOCATION:Steelcase WorkLife Center Showroom\, 1150 S. Olive Street\, Los Angeles\, 90015\, United States
CATEGORIES:Healthcare
ATTACH;FMTTYPE=image/png:https://events.aiacalifornia.org/wp-content/uploads/2024/06/HFF-lrg-banner-1200x800-2-UPDATED.png
ORGANIZER;CN="Hillary Cole":MAILTO:hcole@aiacalifornia.org
END:VEVENT
BEGIN:VEVENT
DTSTART;TZID=UTC:20240917T090000
DTEND;TZID=UTC:20240918T213000
DTSTAMP:20260424T083258
CREATED:20240409T060307Z
LAST-MODIFIED:20240711T222636Z
UID:10000248-1726563600-1726695000@events.aiacalifornia.org
SUMMARY:Net Zero Conference
DESCRIPTION:AIA CA is a proud partner of the 2024 Net Zero Conference! Hosted by Verdical Group\, this event will bring together experts in climate\, net zero\, ESG\, equity\, carbon\, and resilience on 9/17 + 9/18 at theÂ Anaheim Convention Center. Join us in experiencing insightful educational sessions\, notable keynotes\, and networking in the Expo Hall. \nUse code NZMP15 for 15% off! \n#NetzeroFuture
URL:https://events.aiacalifornia.org/event/net-zero-conference/
ATTACH;FMTTYPE=image/jpeg:https://events.aiacalifornia.org/wp-content/uploads/2024/04/NZ24-Social-Graphic-Landscape-1200x800-2.jpg
ORGANIZER;CN="Rebekah Aceves":MAILTO:raceves@aiacalifornia.org
END:VEVENT
END:VCALENDAR