BEGIN:VCALENDAR
VERSION:2.0
PRODID:-//AIA California Calendar - ECPv6.15.11//NONSGML v1.0//EN
CALSCALE:GREGORIAN
METHOD:PUBLISH
X-ORIGINAL-URL:https://events.aiacalifornia.org
X-WR-CALDESC:Events for AIA California Calendar
REFRESH-INTERVAL;VALUE=DURATION:PT1H
X-Robots-Tag:noindex
X-PUBLISHED-TTL:PT1H
BEGIN:VTIMEZONE
TZID:America/Los_Angeles
BEGIN:DAYLIGHT
TZOFFSETFROM:-0800
TZOFFSETTO:-0700
TZNAME:PDT
DTSTART:20240310T100000
END:DAYLIGHT
BEGIN:STANDARD
TZOFFSETFROM:-0700
TZOFFSETTO:-0800
TZNAME:PST
DTSTART:20241103T090000
END:STANDARD
BEGIN:DAYLIGHT
TZOFFSETFROM:-0800
TZOFFSETTO:-0700
TZNAME:PDT
DTSTART:20250309T100000
END:DAYLIGHT
BEGIN:STANDARD
TZOFFSETFROM:-0700
TZOFFSETTO:-0800
TZNAME:PST
DTSTART:20251102T090000
END:STANDARD
BEGIN:DAYLIGHT
TZOFFSETFROM:-0800
TZOFFSETTO:-0700
TZNAME:PDT
DTSTART:20260308T100000
END:DAYLIGHT
BEGIN:STANDARD
TZOFFSETFROM:-0700
TZOFFSETTO:-0800
TZNAME:PST
DTSTART:20261101T090000
END:STANDARD
END:VTIMEZONE
BEGIN:VEVENT
DTSTART;TZID=America/Los_Angeles:20251119T120000
DTEND;TZID=America/Los_Angeles:20251119T130000
DTSTAMP:20260424T135459
CREATED:20251101T164307Z
LAST-MODIFIED:20251117T172955Z
UID:10000380-1763553600-1763557200@events.aiacalifornia.org
SUMMARY:Credit Cram EDI | A Conversation With the 2025 AIA Firm Award Winner
DESCRIPTION:Join AIA California for a lunchtime presentation of world-changing ideas with the 2025 AIA Architecture Firm Award winner: LPA Design Studios. Hosted online and moderated by AIA CA President Carina Mills\, the panel will explore how LPA’s integrated teams are cutting carbon and advancing equity on every project\, at every scale and budget. Through the lens of recent civic\, education and healthcare work in the region\, firm leaders will share what it takes to eliminate carbon emissions from buildings — and why an interdisciplinary\, no-excuses approach is central to their practice. From net-zero buildings and carbon-sequestering landscapes to meeting the health challenges of underserved communities\, LPA is helping shape what’s next in California. Come meet the people behind the work — and be part of the conversation. \n  \nRegistration for this webinar will close at 10am PT on Wednesday\, November 19\, 2025. Registrants will receive their Zoom link no later than 10:30am PT the day of. \n  \nModerator:\nCarina Mills\, AIA | Senior Director of Talent Management\, Senior Associate | Studio One Eleven\n  \nSpeakers:\n\n\n\n\n\nWendy Rogers\, FAIA | CEO/CTO | LPA Design Studios\n\nKeith Hempel\, FAIA | President/CDO | LPA Design Studios\n\nKari Kikuta\, PLA\, ASLA | Director of Landscape Architecture | LPA Design Studios\n\nKate Mraw\, RID\, ALEP | Director of K-12 | LPA Design Studios\n\nBryan Seamer\, SE | Director of Structural Engineering | LPA Design Studios
URL:https://events.aiacalifornia.org/event/a-conversation-with-the-2025-aia-firm-award-winner/
LOCATION:Virtual
CATEGORIES:Credit Cram 2025
ATTACH;FMTTYPE=image/png:https://events.aiacalifornia.org/wp-content/uploads/2025/10/Credit-Cram-EDI-Track-A-Conversation-with-1200x800-1.png
ORGANIZER;CN="Rebekah Aceves":MAILTO:raceves@aiacalifornia.org
END:VEVENT
BEGIN:VEVENT
DTSTART;TZID=America/Los_Angeles:20251119T120000
DTEND;TZID=America/Los_Angeles:20251119T130000
DTSTAMP:20260424T135459
CREATED:20251101T164459Z
LAST-MODIFIED:20251118T193351Z
UID:10000377-1763553600-1763557200@events.aiacalifornia.org
SUMMARY:Credit Cram ZNCD | Clean Science: All-electric Laboratory Solutions
DESCRIPTION:Registration for this webinar will close at 10am PT on Wednesday\, November 19\, 2025. Registrants will receive their Zoom link no later than 10:30am PT the day of.  \nResearch laboratories can significantly contribute to a building’s overall energy usage\, greenhouse gas emissions and may pose safety risks to staff and occupants. To combat this\, it is imperative for laboratory facilities to move towards electrifying their systems while also maintaining research performance. Join us for this webinar as we take a deeper dive into all-electric\, high performing laboratory projects covering challenges\, strategies and lessons learned. \nModerator:\nIsmar Enriquez\, AIA\, LFA\, LEED AP | Architect & Sustainability Strategist\, Practice \nSpeakers:\nGeorge Reilly | Building Environments West Coast Leader\, Buro Happold \nSidney Pilarski\, PE | Associate Mechanical Engineer\, Buro Happold \nYensi Izquierdo\, PE | Associate Principal\, Buro Happold
URL:https://events.aiacalifornia.org/event/credit-cram-zncd-clean-science-all-electric-laboratory-solutions/
LOCATION:Virtual
CATEGORIES:Credit Cram 2025
ATTACH;FMTTYPE=image/webp:https://events.aiacalifornia.org/wp-content/uploads/2025/10/Credit-Cram-Clean-Science-All-electric-Laboratory-Solutions-1200x800-webp.webp
ORGANIZER;CN="Sarah Vasquez":MAILTO:svasquez@aiacalifornia.org
END:VEVENT
END:VCALENDAR