BEGIN:VCALENDAR
VERSION:2.0
PRODID:-//AIA California Calendar - ECPv6.15.11//NONSGML v1.0//EN
CALSCALE:GREGORIAN
METHOD:PUBLISH
X-ORIGINAL-URL:https://events.aiacalifornia.org
X-WR-CALDESC:Events for AIA California Calendar
REFRESH-INTERVAL;VALUE=DURATION:PT1H
X-Robots-Tag:noindex
X-PUBLISHED-TTL:PT1H
BEGIN:VTIMEZONE
TZID:America/Los_Angeles
BEGIN:DAYLIGHT
TZOFFSETFROM:-0800
TZOFFSETTO:-0700
TZNAME:PDT
DTSTART:20240310T100000
END:DAYLIGHT
BEGIN:STANDARD
TZOFFSETFROM:-0700
TZOFFSETTO:-0800
TZNAME:PST
DTSTART:20241103T090000
END:STANDARD
BEGIN:DAYLIGHT
TZOFFSETFROM:-0800
TZOFFSETTO:-0700
TZNAME:PDT
DTSTART:20250309T100000
END:DAYLIGHT
BEGIN:STANDARD
TZOFFSETFROM:-0700
TZOFFSETTO:-0800
TZNAME:PST
DTSTART:20251102T090000
END:STANDARD
BEGIN:DAYLIGHT
TZOFFSETFROM:-0800
TZOFFSETTO:-0700
TZNAME:PDT
DTSTART:20260308T100000
END:DAYLIGHT
BEGIN:STANDARD
TZOFFSETFROM:-0700
TZOFFSETTO:-0800
TZNAME:PST
DTSTART:20261101T090000
END:STANDARD
END:VTIMEZONE
BEGIN:VEVENT
DTSTART;TZID=America/Los_Angeles:20251120T120000
DTEND;TZID=America/Los_Angeles:20251120T130000
DTSTAMP:20260424T133338
CREATED:20251020T155316Z
LAST-MODIFIED:20251021T185757Z
UID:10000378-1763640000-1763643600@events.aiacalifornia.org
SUMMARY:Credit Cram ZNCD | Kitchen Decarbonization: The May Lee State Office Complex Case Study
DESCRIPTION:Registration for this webinar will close at 10am PT on Thursday\, November 20\, 2025. Registrants will receive their Zoom link no later than 10:30am PT the day of.  \nLocated in the Sacramento River District\, the 1.25 million gross square foot building leads in sustainability features and is named after former DGS employee May Lee\, the longest-serving state employee in California state history. This project\, coming in at a whopping 1.25 million gross square feet\, leads the way in sustainability as one of the largest zero-net carbon facilities and the most extensive all-electric kitchen in the country. Join us as we take a deep dive into this project and it’s groundbreaking all-electric commercial kitchen. \nModerator:\nPaul Poirier\, AIA | Principal Architect\, Owner at Poirier + Associates Architects \nSpeaker:\nAnne Cotter\, AIA | Principal\, ZGF
URL:https://events.aiacalifornia.org/event/credit-cram-zncd-kitchen-decarbonization-the-may-lee-state-office-complex-case-study/
LOCATION:Virtual
CATEGORIES:Credit Cram 2025
ATTACH;FMTTYPE=image/webp:https://events.aiacalifornia.org/wp-content/uploads/2025/10/Credit-Cram-Kitchen-Decarbonization-The-May-Lee-State-Office-Complex-Case-Study-1200x800-webp.webp
ORGANIZER;CN="Sarah Vasquez":MAILTO:svasquez@aiacalifornia.org
END:VEVENT
BEGIN:VEVENT
DTSTART;TZID=America/Los_Angeles:20251120T120000
DTEND;TZID=America/Los_Angeles:20251120T130000
DTSTAMP:20260424T133338
CREATED:20251031T173031Z
LAST-MODIFIED:20251117T173056Z
UID:10000381-1763640000-1763643600@events.aiacalifornia.org
SUMMARY:Credit Cram EDI | Coalition-Building for Change: Arquitectos Colectivos National and the Power of Collaboration
DESCRIPTION:This session explores how the National Latinx Architects Coalition (NLAC) is driving leadership\, advocacy\, and representation within the architectural profession through collaboration between AIA Knowledge Communities and allied organizations. Building on AIA California’s core priorities—leadership\, equity\, advocacy\, and chapter strengthening—the session features a balanced panel of AIA community leaders and external partners who will share replicable\, case-based models of impact. Attendees will gain insight into successful initiatives such as LiA SF’s “How to Start a LiA” guide and its national influence\, Arquitectos’ mentorship and outreach frameworks\, LA.IDEA’s community-based programs in Washington\, D.C.\, and the Immigrant Architects Coalition’s advocacy and leadership work. Additionally\, the discussion will highlight NLAC’s collaborative programming at AIA National Conferences since 2023\, offering practical strategies to strengthen chapters and foster inclusive leadership across the profession. \n  \nRegistration for this webinar will close at 10am PT on Thursday\, November 20\, 2025. Registrants will receive their Zoom link no later than 10:30am PT the day of. \n  \nModerator:\nDaniel Perez\, AIA | Principal Architect | Studio Perez\nSpeakers:\n\n\n\n\n\nPatricia Alarcón\, AIA | Chair | AIA San Francisco LiA Knowledge Community\n\nGraciela Carillo\, FAIA | Vice President & Treasurer | Immigrant Architect Coalition\n\nJulia Mosqueda\, Assoc. AIA | Arquitectos\n\nHeber Muñoz\, AIA | Treasurer | LA.IDEA (AIA DC)\n\n\n\n\n  \n  \n  \n 
URL:https://events.aiacalifornia.org/event/coalition-building-for-change-arquitectos-colectivos-national-and-the-power-of-collaboration/
LOCATION:Virtual
CATEGORIES:Credit Cram 2025
ATTACH;FMTTYPE=image/png:https://events.aiacalifornia.org/wp-content/uploads/2025/10/Credit-Cram-EDI-Track-Coalition-Building-for-Change-1200x800-1.png
ORGANIZER;CN="Rebekah Aceves":MAILTO:raceves@aiacalifornia.org
END:VEVENT
END:VCALENDAR