BEGIN:VCALENDAR
VERSION:2.0
PRODID:-//AIA California Calendar - ECPv6.15.11//NONSGML v1.0//EN
CALSCALE:GREGORIAN
METHOD:PUBLISH
X-ORIGINAL-URL:https://events.aiacalifornia.org
X-WR-CALDESC:Events for AIA California Calendar
REFRESH-INTERVAL;VALUE=DURATION:PT1H
X-Robots-Tag:noindex
X-PUBLISHED-TTL:PT1H
BEGIN:VTIMEZONE
TZID:America/Los_Angeles
BEGIN:DAYLIGHT
TZOFFSETFROM:-0800
TZOFFSETTO:-0700
TZNAME:PDT
DTSTART:20240310T100000
END:DAYLIGHT
BEGIN:STANDARD
TZOFFSETFROM:-0700
TZOFFSETTO:-0800
TZNAME:PST
DTSTART:20241103T090000
END:STANDARD
BEGIN:DAYLIGHT
TZOFFSETFROM:-0800
TZOFFSETTO:-0700
TZNAME:PDT
DTSTART:20250309T100000
END:DAYLIGHT
BEGIN:STANDARD
TZOFFSETFROM:-0700
TZOFFSETTO:-0800
TZNAME:PST
DTSTART:20251102T090000
END:STANDARD
BEGIN:DAYLIGHT
TZOFFSETFROM:-0800
TZOFFSETTO:-0700
TZNAME:PDT
DTSTART:20260308T100000
END:DAYLIGHT
BEGIN:STANDARD
TZOFFSETFROM:-0700
TZOFFSETTO:-0800
TZNAME:PST
DTSTART:20261101T090000
END:STANDARD
END:VTIMEZONE
BEGIN:VEVENT
DTSTART;TZID=America/Los_Angeles:20251117T120000
DTEND;TZID=America/Los_Angeles:20251117T130000
DTSTAMP:20260424T183513
CREATED:20251103T200145Z
LAST-MODIFIED:20251117T175913Z
UID:10000382-1763380800-1763384400@events.aiacalifornia.org
SUMMARY:Credit Cram EDI | Inclusive & Universal Design
DESCRIPTION:This session explores the evolving standards and cultural context of gender-inclusive and universal restroom design. Led by California State Architect Ida Clair\, FAIA\, and design leader\, Julia Weatherspoon\, AIA of Gensler\, the session will combine code-based guidance with real-world case studies to illustrate how inclusive design principles are being applied across diverse building types. Participants will gain an understanding of current code developments\, design best practices\, and the broader national and cultural conversations shaping the future of equitable restroom access. Through this session\, attendees will learn how inclusive and universal design can create safer\, more welcoming environments for all users while meeting accessibility and compliance standards. \n  \nRegistration for this webinar will close at 10am PT on Monday\, November 17\, 2025. Registrants will receive their Zoom link no later than 10:30am PT the day of. \n  \nModerator:\nRoss Stilleson\, AIA\nSpeakers:\n\n\n\n\n\nIda Clair\, FAIA | State Architect | Division of the State Architect\, State of California\n\nJulia Weatherspoon\, AIA | Architect | Gensler
URL:https://events.aiacalifornia.org/event/credit-cram-edi-inclusive-universal-design/
LOCATION:Virtual
CATEGORIES:Credit Cram 2025
ATTACH;FMTTYPE=image/png:https://events.aiacalifornia.org/wp-content/uploads/2025/11/Credit-Cram-Universal-and-Inclusive-1200x800-1.png
ORGANIZER;CN="Rebekah Aceves":MAILTO:raceves@aiacalifornia.org
END:VEVENT
BEGIN:VEVENT
DTSTART;TZID=America/Los_Angeles:20251117T120000
DTEND;TZID=America/Los_Angeles:20251117T130000
DTSTAMP:20260424T183513
CREATED:20251103T200558Z
LAST-MODIFIED:20251118T193029Z
UID:10000375-1763380800-1763384400@events.aiacalifornia.org
SUMMARY:Credit Cram ZNCD | Designing for Zero Carbon: All-electric K-12 Schools
DESCRIPTION:Registration for this webinar will close at 10am PT on Monday\, November 17\, 2025. Registrants will receive their Zoom link no later than 10:30am PT the day of.  \nSouthern California Edison produced a series of case study books covering an expansive range of building types to support the adoption of sustainable building design practices in California\, including all-electric strategies\, and provides decision-making insights\, detailed performance analysis\, key images of building design\, and countless indispensable lessons learned. \nJoin us for this webinar and discover projects featured in the case study book Designing for Zero Carbon: Volume 3\, Case Studies of All-Electric K-12 Schools\, 2025 as they share insights into all-electric designs\, their impacts on this critical building type\, and how decarbonization of schools positively impacts students\, staff and community. \nModerator:\nEd Dean\, FAIA | Principal\, BERNHEIM+DEAN \nSpeaker:\nLauren Maass\, AIA | Principal\, Multistudio
URL:https://events.aiacalifornia.org/event/credit-cram-zncd-designing-for-zero-carbon-all-electric-k-12-schools/
LOCATION:Virtual
CATEGORIES:Credit Cram 2025
ATTACH;FMTTYPE=image/webp:https://events.aiacalifornia.org/wp-content/uploads/2025/10/Credit-Cram-Designing-for-Zero-Carbon-All-electric-K-12-Schools-1200x800-webp.webp
ORGANIZER;CN="Sarah Vasquez":MAILTO:svasquez@aiacalifornia.org
END:VEVENT
END:VCALENDAR