BEGIN:VCALENDAR
VERSION:2.0
PRODID:-//AIA California Calendar - ECPv6.15.11//NONSGML v1.0//EN
CALSCALE:GREGORIAN
METHOD:PUBLISH
X-WR-CALNAME:AIA California Calendar
X-ORIGINAL-URL:https://events.aiacalifornia.org
X-WR-CALDESC:Events for AIA California Calendar
REFRESH-INTERVAL;VALUE=DURATION:PT1H
X-Robots-Tag:noindex
X-PUBLISHED-TTL:PT1H
BEGIN:VTIMEZONE
TZID:America/Los_Angeles
BEGIN:DAYLIGHT
TZOFFSETFROM:-0800
TZOFFSETTO:-0700
TZNAME:PDT
DTSTART:20240310T100000
END:DAYLIGHT
BEGIN:STANDARD
TZOFFSETFROM:-0700
TZOFFSETTO:-0800
TZNAME:PST
DTSTART:20241103T090000
END:STANDARD
BEGIN:DAYLIGHT
TZOFFSETFROM:-0800
TZOFFSETTO:-0700
TZNAME:PDT
DTSTART:20250309T100000
END:DAYLIGHT
BEGIN:STANDARD
TZOFFSETFROM:-0700
TZOFFSETTO:-0800
TZNAME:PST
DTSTART:20251102T090000
END:STANDARD
BEGIN:DAYLIGHT
TZOFFSETFROM:-0800
TZOFFSETTO:-0700
TZNAME:PDT
DTSTART:20260308T100000
END:DAYLIGHT
BEGIN:STANDARD
TZOFFSETFROM:-0700
TZOFFSETTO:-0800
TZNAME:PST
DTSTART:20261101T090000
END:STANDARD
END:VTIMEZONE
BEGIN:VEVENT
DTSTART;TZID=America/Los_Angeles:20250528T120000
DTEND;TZID=America/Los_Angeles:20250528T133000
DTSTAMP:20260425T041601
CREATED:20250506T195927Z
LAST-MODIFIED:20250729T165738Z
UID:10000347-1748433600-1748439000@events.aiacalifornia.org
SUMMARY:Fire Response Session 5 | Wildfire Prepared Home Program: Improving Property Survivability and Insurability
DESCRIPTION:This session qualifies for 1.5 LU/HSW (live webinar attendees only). \nFREE registration for this webinar will close at 12pm PT on Wednesday\, May 28\, 2025. \nThe AIA in CALIFORNIA is responding to the recent southern California fires with a unified plan for response\, recovery and rebuilding for communities that were devastated by the disaster. This series of sessions will help the architectural profession understand the rapidly changing landscape\, the local issues facing communities\, and strategies for resilient design and disaster response; the AIA in California is connecting policy makers\, government officials\, and practitioners uniting architects in building a more just\, equitable\, and resilient future. \nIBHS is a non-profit research organization has spent years researching material and component vulnerabilities\, wind-driven ember ignitions\, and wind-driven building-to-building fire spread. Insights from these experiments have informed the Wildfire Prepared Home Program – a designation certification program that outlines a system of actions homeowners can take at the parcel-level to address a property’s roof\, building features\, and defensible space to meaningfully reduce its risk to wildfire ignition. \nThis session will walk attendees through the science conducted at IBHS’ Research Center in South Carolina\, along with post-disaster field investigations\, that have collectively identified the most vulnerable areas around the home that must be addressed. IBHS will discuss the two Wildfire Prepared Home designation level requirements and how each addresses ignitions from embers\, radiant heat\, and direct flame contact. IBHS is actively engaged in improving community-scale wildfire resilience through its recently launched Wildfire Prepared Neighborhood standard. This neighborhood-level operational framework includes the science-backed requirements of its Home-level program and incorporates additional requirements to address structure density\, the presence of connective fuels\, and building materials – the three pillars of wildfire conflagration. \nSpeakers:\n\n\n\n\n\nDr. Anne Cope | Chief Engineer\, IBHS\n\nRoy Wright | President and CEO\, IBHS\n\n\n\n\n\n\n\nClick to view the Full Presentation
URL:https://events.aiacalifornia.org/event/fire-response-session-5-wildfire-prepared-home-program/
LOCATION:Virtual
CATEGORIES:Fire Response
ATTACH;FMTTYPE=image/jpeg:https://events.aiacalifornia.org/wp-content/uploads/2025/05/Fire-Response-Session-5-Wildfire-Prepared-Home-Program-1200x800-Video-Library.jpg
ORGANIZER;CN="Sarah Vasquez":MAILTO:svasquez@aiacalifornia.org
END:VEVENT
END:VCALENDAR