BEGIN:VCALENDAR
VERSION:2.0
PRODID:-//AIA California Calendar - ECPv6.15.11//NONSGML v1.0//EN
CALSCALE:GREGORIAN
METHOD:PUBLISH
X-ORIGINAL-URL:https://events.aiacalifornia.org
X-WR-CALDESC:Events for AIA California Calendar
REFRESH-INTERVAL;VALUE=DURATION:PT1H
X-Robots-Tag:noindex
X-PUBLISHED-TTL:PT1H
BEGIN:VTIMEZONE
TZID:America/Los_Angeles
BEGIN:DAYLIGHT
TZOFFSETFROM:-0800
TZOFFSETTO:-0700
TZNAME:PDT
DTSTART:20230312T100000
END:DAYLIGHT
BEGIN:STANDARD
TZOFFSETFROM:-0700
TZOFFSETTO:-0800
TZNAME:PST
DTSTART:20231105T090000
END:STANDARD
BEGIN:DAYLIGHT
TZOFFSETFROM:-0800
TZOFFSETTO:-0700
TZNAME:PDT
DTSTART:20240310T100000
END:DAYLIGHT
BEGIN:STANDARD
TZOFFSETFROM:-0700
TZOFFSETTO:-0800
TZNAME:PST
DTSTART:20241103T090000
END:STANDARD
BEGIN:DAYLIGHT
TZOFFSETFROM:-0800
TZOFFSETTO:-0700
TZNAME:PDT
DTSTART:20250309T100000
END:DAYLIGHT
BEGIN:STANDARD
TZOFFSETFROM:-0700
TZOFFSETTO:-0800
TZNAME:PST
DTSTART:20251102T090000
END:STANDARD
END:VTIMEZONE
BEGIN:VEVENT
DTSTART;TZID=America/Los_Angeles:20241002T120000
DTEND;TZID=America/Los_Angeles:20241002T130000
DTSTAMP:20260425T134602
CREATED:20240731T184124Z
LAST-MODIFIED:20241031T150854Z
UID:10000277-1727870400-1727874000@events.aiacalifornia.org
SUMMARY:Emerging Trends in Architecture: Harnessing AI for Embodied Carbon Reductions
DESCRIPTION:This session qualifies forÂ 1 LU/HSW andÂ 1 hr Zero Net Carbon Design Mandatory Continuing Education. (Live webinar attendees only) \nThis lecture delves into the architectural industry”™s environmental footprint\, spotlighting the integration of Artificial Intelligence (AI) as a pivotal tool for designing sustainable buildings. Patrick Chopson\, an expert in AI-driven sustainable design\, will guide participants through the transformative potential of AI in optimizing architectural workflows. This includes automating complex carbon reporting tasks and improving client communications regarding environmental impacts. \nThrough real-world case studies\, participants will critically evaluate how AI applications can significantly enhance sustainability and operational efficiency within architectural practices. This course equips professionals with the knowledge and tools necessary to drive impactful climate action in the Architecture\, Engineering\, and Construction (AEC) industry. \nModerator:  \nIsmar Enriquez\, AIA\, LFA\, LEED AP | Design Lead & Project Manager\, Practice\n  \n  \n  \n  \n  \n  \n  \nSpeakers:  \nPatrick Chopson\, AIA | Co-Founder and Chief Product Officer\, cove.tool\n  \n  \n  \n  \n  \n  \n 
URL:https://events.aiacalifornia.org/event/emerging-trends-in-architecture-harnessing-ai-for-embodied-carbon-reductions/
LOCATION:Virtual
CATEGORIES:Climate Action
ATTACH;FMTTYPE=image/jpeg:https://events.aiacalifornia.org/wp-content/uploads/2024/07/2024-Climate-Action-Webinar-Harnessing-AI-1200x800-1.jpg
ORGANIZER;CN="Sarah Vasquez":MAILTO:svasquez@aiacalifornia.org
END:VEVENT
BEGIN:VEVENT
DTSTART;TZID=America/Los_Angeles:20241009T120000
DTEND;TZID=America/Los_Angeles:20241009T133000
DTSTAMP:20260425T134602
CREATED:20240827T210413Z
LAST-MODIFIED:20241031T151006Z
UID:10000278-1728475200-1728480600@events.aiacalifornia.org
SUMMARY:Path to Zero Carbon
DESCRIPTION:This session qualifies forÂ 1.5 LU/HSWÂ andÂ 1.5 hr Zero Net Carbon Design Mandatory Continuing Education (live webinar attendees only). \nThe Path To Zero Carbon Series explores research and solutions for one of the most significant challenges of the 21st century. Addressing the climate crisis requires the building industry to reach carbon neutral design and construction across all projects. Our industry is responsible for nearly half of global warming\, so our actions to reduce these emissions have a massive impact. \nGlobal warming is caused primarily by CO2e\, but what do we need to know to have useful conversations on CO2e instead of just talking energy efficiency? What resources\, policies\, and frameworks are out there on embodied carbon operational carbon? This webinar will address these questions and more to understand the path forward to zero carbon. \nModerator: Laura Dulski\, AIA | Principal\, DLR Group \nSpeaker: Kjell Anderson\, FAIA\, CSBA\, LEED Fellow\, FitWel | Principal\, Director of Sustainable Design\, LMN Architects \nLaura Dulski\, AIA | Principal\, DLR Group\nKjell Anderson\, FAIA\, CSBA\, LEED Fellow\, FitWel | Principal\, Director of Sustainable Design\, LMN Architects\n  \n  \n  \n  \n  \n  \n  \n  \n 
URL:https://events.aiacalifornia.org/event/path-to-zero-carbon/
LOCATION:Virtual
CATEGORIES:Climate Action
ATTACH;FMTTYPE=image/jpeg:https://events.aiacalifornia.org/wp-content/uploads/2024/08/2024-Climate-Action-Webinar-Path-to-Zero-Carbon-1200x800-1.jpg
ORGANIZER;CN="Sarah Vasquez":MAILTO:svasquez@aiacalifornia.org
END:VEVENT
BEGIN:VEVENT
DTSTART;TZID=America/Los_Angeles:20241016T120000
DTEND;TZID=America/Los_Angeles:20241016T130000
DTSTAMP:20260425T134602
CREATED:20240912T191043Z
LAST-MODIFIED:20241031T151101Z
UID:10000280-1729080000-1729083600@events.aiacalifornia.org
SUMMARY:Circular Construction
DESCRIPTION:This session qualifies forÂ 1 LU/HSW. (Live webinar attendees only) \nDon”™t miss your chance to attend! Registration closes at 10am\, Wednesday\, October 16. You should receive your Zoom confirmation link no later than 10:30am the day of.Â  \nJoin a panel of experts from the Circular Construction Lab at Cornell University\, Construction Junction and Lake|Flato who will share research being conducted within the architecture\, engineering and construction industry\, and how some pilot projects currently underway may impact further reduction in building operation and embodied carbon through improved process management. \nSpeakers:  \nDan Bergsagel | Sustainability Lead\, schlaich bergermann partner NY\, member of CCL at Cornell University.\nMike Gable | Founding Executive Director\, Construction Junction (CJ)\nFelix Heisel | Assistant Professor and Director of the Circular Construction Lab (CCL)\, Cornell University\, College of Architecture\, Art\, and Planning\nDan Stine\, AIA | Director of Design Technology\, Lake|Flato\n  \n  \n  \n  \n  \n  \n  \n  \n  \nModerator:  \nFred Marks\, FAIA | Visiting Scholar\, Salk Institute for Biological Studies\n  \n  \n  \n  \n  \n  \n  \n \n  \n  \n 
URL:https://events.aiacalifornia.org/event/circular-construction/
LOCATION:Virtual
CATEGORIES:Climate Action
ATTACH;FMTTYPE=image/jpeg:https://events.aiacalifornia.org/wp-content/uploads/2024/09/2024-Climate-Action-Webinar-Circular-Construction-1200x800-1.jpg
ORGANIZER;CN="Sarah Vasquez":MAILTO:svasquez@aiacalifornia.org
END:VEVENT
BEGIN:VEVENT
DTSTART;TZID=America/Los_Angeles:20241023T120000
DTEND;TZID=America/Los_Angeles:20241023T130000
DTSTAMP:20260425T134602
CREATED:20240912T194709Z
LAST-MODIFIED:20250812T173434Z
UID:10000281-1729684800-1729688400@events.aiacalifornia.org
SUMMARY:Circular and Architectural Design - Harvesting End Of Life Opportunities
DESCRIPTION:This session qualifies forÂ 1 LU/HSW (live webinar attendees only). \nDon”t miss your chance to attend! Registration closes at 10am\, Wednesday\, October 23. You should receive your Zoom confirmation link no later than 10:30am the day of.  \nThis course explores the intersection of circular economy principles and architecture\, focusing on practical strategies for sustainable design and material reuse. Participants will learn how to integrate circularity into architectural projects\, emphasizing the creation of nature-inclusive buildings with minimal ecological footprints. The course will cover innovative building technologies\, region and process development\, and educational aspects\, drawing from the extensive experience of Superuse Studios\, an international architecture collective specializing in circular and sustainable design. \n\nSpeaker:\nLoriane Icibaci | Director\, Superuse North America \nLoriane Icibaci | Director\, Superuse North America\n \nModerator:\nIsmar Enriquez\, AIA\, LFA\, LEED AP | Design Lead & Project Manager\, Practice \nIsmar Enriquez\, AIA\, LFA\, LEED AP | Design Lead & Project Manager\, Practice
URL:https://events.aiacalifornia.org/event/circular-and-architectural-design-harvesting-end-of-life-opportunities/
LOCATION:Virtual
CATEGORIES:Climate Action
ATTACH;FMTTYPE=image/jpeg:https://events.aiacalifornia.org/wp-content/uploads/2024/09/2024-Climate-Action-Webinar-Circular-and-Architectural-Design-Harvesting-End-Of-Life-Opportunities-1200x800-1.jpg
ORGANIZER;CN="Sarah Vasquez":MAILTO:svasquez@aiacalifornia.org
END:VEVENT
END:VCALENDAR