BEGIN:VCALENDAR
VERSION:2.0
PRODID:-//AIA California Calendar - ECPv6.15.11//NONSGML v1.0//EN
CALSCALE:GREGORIAN
METHOD:PUBLISH
X-ORIGINAL-URL:https://events.aiacalifornia.org
X-WR-CALDESC:Events for AIA California Calendar
REFRESH-INTERVAL;VALUE=DURATION:PT1H
X-Robots-Tag:noindex
X-PUBLISHED-TTL:PT1H
BEGIN:VTIMEZONE
TZID:UTC
BEGIN:STANDARD
TZOFFSETFROM:+0000
TZOFFSETTO:+0000
TZNAME:UTC
DTSTART:20220101T000000
END:STANDARD
END:VTIMEZONE
BEGIN:VEVENT
DTSTART;TZID=UTC:20240506T180000
DTEND;TZID=UTC:20240506T190000
DTSTAMP:20260424T132118
CREATED:20231205T070841Z
LAST-MODIFIED:20240501T020014Z
UID:10000145-1715018400-1715022000@events.aiacalifornia.org
SUMMARY:Study Hub: Project Planning & Design (PPD)
DESCRIPTION:Project Planning & Design (PPD)Â focuses onÂ the preliminary design of sites and buildings. You should be able toÂ demonstrate an understanding of and abilities in design concepts\, sustainability/environmental design\, universal design\, and other forms of governing codes and regulations. \nSpeaker: Elif Bayram \nElif Bayram is the founder of arequestions.com\, a specialized platform committed to offering comprehensive practice materials for the National Council of Architectural Registration Boards (NCARB) Architectural Registration Examinations (ARE). Ms. Bayram’s academic credentials include a Bachelor’s degree in Architecture obtained from Selcuk University\, Turkey in 2008\, followed by a Master’s degree in Architectural Design at Istanbul Bilgi University in 2010. \nDuring the course of her own preparation for the ARE exams\, she identified a scarcity of adequate practice material\, which led her to create her own collection of questions to complement her studies. \nOver time\, her library expanded to over 1100 questions\, which she began to share with her colleagues and friends. Encouraged by the positive feedback from the architectural community\, Ms. Bayram brought arequestions.com to fruition in late 2020\, extending her invaluable resources to the wider ARE candidate community. In her endeavor to deliver a comprehensive learning experience\, Elif Bayram does not limit her offerings to practice questions. She also provides extensive video lectures on various ARE topics and holds regular interactive sessions on Zoom\, aimed at guiding licensure candidates. Moreover\, she shares her knowledge through free\, one-on-one meetings with candidates\, free presentations on diverse subjects\, such as strategies to successfully pass the ARE examinations\, structural systems and more. Since early\, 2022\, Elif works full time for her company and works on increasing the content of her platform continuously.
URL:https://events.aiacalifornia.org/event/study-hub-project-planning-design-ppd/
LOCATION:Virtual
CATEGORIES:Emerging
ATTACH;FMTTYPE=image/png:https://events.aiacalifornia.org/wp-content/uploads/2023/08/HUB-1200x800-updated.png
ORGANIZER;CN="Ashley Taylor":MAILTO:ataylor@aiacalifornia.org
END:VEVENT
BEGIN:VEVENT
DTSTART;TZID=UTC:20240415T180000
DTEND;TZID=UTC:20240415T190000
DTSTAMP:20260424T132118
CREATED:20231205T070601Z
LAST-MODIFIED:20240410T041905Z
UID:10000144-1713204000-1713207600@events.aiacalifornia.org
SUMMARY:Study Hub: Programming & Analysis
DESCRIPTION:Programming & Analysis (PA)Â focuses on the evaluation of project requirements\, constraints\, and opportunities.Â You should be able to demonstrate an understanding of and abilities in project type analysis\, the establishment of qualitative and quantitative project requirements\, evaluation of project site and context\, and assessment of economic issues. \nSpeaker: \nRon Culver\, AIA ”“ Co-Founder of Form Found Design
URL:https://events.aiacalifornia.org/event/study-hub-programming-analysis-4/
LOCATION:Virtual
CATEGORIES:Emerging
ATTACH;FMTTYPE=image/jpeg:https://events.aiacalifornia.org/wp-content/uploads/2023/12/HUB-1200x800-April15-Ron-Culver.jpg
ORGANIZER;CN="Ashley Taylor":MAILTO:ataylor@aiacalifornia.org
END:VEVENT
BEGIN:VEVENT
DTSTART;TZID=UTC:20240401T180000
DTEND;TZID=UTC:20240401T190000
DTSTAMP:20260424T132118
CREATED:20231205T070429Z
LAST-MODIFIED:20240329T232140Z
UID:10000143-1711994400-1711998000@events.aiacalifornia.org
SUMMARY:Study Hub: Programming & Analysis
DESCRIPTION:Programming & Analysis (PA)Â focuses on the evaluation of project requirements\, constraints\, and opportunities.Â You should be able to demonstrate an understanding of and abilities in project type analysis\, the establishment of qualitative and quantitative project requirements\, evaluation of project site and context\, and assessment of economic issues. \nSpeaker: Tyler Laskowski\, AIA -Â  TLCD Architecture; Director of Emerging Professionals\, AIA Redwood Empire
URL:https://events.aiacalifornia.org/event/study-hub-programming-analysis-3/
LOCATION:Virtual
CATEGORIES:Emerging
ATTACH;FMTTYPE=image/jpeg:https://events.aiacalifornia.org/wp-content/uploads/2023/12/HUB-1200x800-Tyler-Laskowski-April-1.jpg
ORGANIZER;CN="Ashley Taylor":MAILTO:ataylor@aiacalifornia.org
END:VEVENT
BEGIN:VEVENT
DTSTART;TZID=UTC:20240318T180000
DTEND;TZID=UTC:20240318T190000
DTSTAMP:20260424T132118
CREATED:20231205T070316Z
LAST-MODIFIED:20240329T232501Z
UID:10000141-1710784800-1710788400@events.aiacalifornia.org
SUMMARY:Study Hub: Programming & Analysis
DESCRIPTION:Programming & Analysis (PA)Â focuses on the evaluation of project requirements\, constraints\, and opportunities.Â You should be able to demonstrate an understanding of and abilities in project type analysis\, the establishment of qualitative and quantitative project requirements\, evaluation of project site and context\, and assessment of economic issues. \nSpeaker: Ben Norkin \nAbout Our Speaker:Â Creator of Hyperfine and Principal at Ben Norkin Architecture\, Ben is a licensed Architect\, teacher\, student\, parent\, and a Navy veteran. From designing contemporary net-zero-ready homes to humble residential additions; from completing a Master”™s thesis to A.R.E. exams\, Ben has picked up a lot over the last five years and is excited to be able to share it with others. Ben teaches architecture as well\, and he always stresses to his students that he is just like they are”¦only a few years into the future.
URL:https://events.aiacalifornia.org/event/study-hub-programming-analysis/
LOCATION:Virtual
CATEGORIES:Emerging
ATTACH;FMTTYPE=image/jpeg:https://events.aiacalifornia.org/wp-content/uploads/2023/12/HUB-1200x800-mARCH18-Ben-Norkin-Hyperfine.jpg
ORGANIZER;CN="Ashley Taylor":MAILTO:ataylor@aiacalifornia.org
END:VEVENT
BEGIN:VEVENT
DTSTART;TZID=UTC:20240312T110000
DTEND;TZID=UTC:20240312T120000
DTSTAMP:20260424T132118
CREATED:20240217T093321Z
LAST-MODIFIED:20240405T052424Z
UID:10000236-1710241200-1710244800@events.aiacalifornia.org
SUMMARY:Forum for Emerging Professionals: Leading Sustainability Efforts at Architectural Firms
DESCRIPTION:Have you ever wondered what a sustainability director does? On March 12\, join RECORD and three sustainability directors””all from highly regarded architecture firms””to find out. The panelists will discuss how they collaborate with clients and colleagues to set performance goals\, how they shape the design process\, and how they keep projects on track. Speakers will also outline the career paths that brought them to their current leadership roles. \n  \nHosted by Architectural Record
URL:https://events.aiacalifornia.org/event/forum-for-emerging-professionals-leading-sustainability-efforts-at-architectural-firms/
LOCATION:Virtual
CATEGORIES:Emerging
ATTACH;FMTTYPE=image/jpeg:https://events.aiacalifornia.org/wp-content/uploads/2024/02/AR2024-Forum-03-12-2024-1200x628-002.jpg
ORGANIZER;CN="Ashley Taylor":MAILTO:ataylor@aiacalifornia.org
END:VEVENT
BEGIN:VEVENT
DTSTART;TZID=UTC:20240304T180000
DTEND;TZID=UTC:20240304T190000
DTSTAMP:20260424T132118
CREATED:20231205T070355Z
LAST-MODIFIED:20240329T232452Z
UID:10000142-1709575200-1709578800@events.aiacalifornia.org
SUMMARY:Study Hub: Programming & Analysis
DESCRIPTION:Programming & Analysis (PA)Â focuses on the evaluation of project requirements\, constraints\, and opportunities.Â You should be able to demonstrate an understanding of and abilities in project type analysis\, the establishment of qualitative and quantitative project requirements\, evaluation of project site and context\, and assessment of economic issues. \nSpeaker: Bryn Young\, AIA
URL:https://events.aiacalifornia.org/event/study-hub-programming-analysis-2/
LOCATION:Virtual
CATEGORIES:Emerging
ATTACH;FMTTYPE=image/png:https://events.aiacalifornia.org/wp-content/uploads/2023/12/HUB-1200x800-General-orange-March18.png
ORGANIZER;CN="Ashley Taylor":MAILTO:ataylor@aiacalifornia.org
END:VEVENT
BEGIN:VEVENT
DTSTART;TZID=UTC:20240221T180000
DTEND;TZID=UTC:20240221T190000
DTSTAMP:20260424T132118
CREATED:20231205T070219Z
LAST-MODIFIED:20240329T232126Z
UID:10000140-1708538400-1708542000@events.aiacalifornia.org
SUMMARY:Study Hub: Construction & Evaluation
DESCRIPTION:Construction & Evaluation (CE)Â focuses on construction contract administration and post-occupancy evaluation of projects. You should be able to demonstrate an understanding of and abilities in construction contract execution\, construction support services (including construction observation and shop drawing or submittal review)\, payment request processing\, and project closeout. In addition\, candidates must also demonstrate an understanding and abilities in project evaluation of integrated building systems and their performance. \nSpeaker: Ron Culver\, AIACo-Founder of Form Found Design \nRon is a licensed Architect and Contractor having founded design-build ventures in both Canada and the US. Ron has over 30 years of experience. \nAbout Study HubAIA California has a pathway for emerging professionals to study and pursue licensure ”“ The ARE/CSE California Study Hub. These statewide ARE study sessions and virtual study groups will serve as a hub for education\, connection\, and community. This portal will not replace other study materials or resources\, rather it supplements them\, serving as a network and allowing for collaboration between EPs and AIA professionals across California.
URL:https://events.aiacalifornia.org/event/study-hub-construction-evaluation-3/
LOCATION:Virtual
CATEGORIES:Emerging
ATTACH;FMTTYPE=image/png:https://events.aiacalifornia.org/wp-content/uploads/2024/02/5-STUDYHUB-1200x800-Construction-and-Evaluation-FEB21.png
ORGANIZER;CN="Ashley Taylor":MAILTO:ataylor@aiacalifornia.org
END:VEVENT
BEGIN:VEVENT
DTSTART;TZID=UTC:20240207T180000
DTEND;TZID=UTC:20240207T190000
DTSTAMP:20260424T132118
CREATED:20231205T070143Z
LAST-MODIFIED:20240329T232440Z
UID:10000139-1707328800-1707332400@events.aiacalifornia.org
SUMMARY:Study Hub: Construction & Evaluation
DESCRIPTION:Construction & Evaluation (CE)Â focuses on construction contract administration and post-occupancy evaluation of projects. You should be able to demonstrate an understanding of and abilities in construction contract execution\, construction support services (including construction observation and shop drawing or submittal review)\, payment request processing\, and project closeout. In addition\, candidates must also demonstrate an understanding and abilities in project evaluation of integrated building systems and their performance. \nSpeaker: Michael Riscica
URL:https://events.aiacalifornia.org/event/study-hub-construction-evaluation-2/
LOCATION:Virtual
CATEGORIES:Emerging
ATTACH;FMTTYPE=image/png:https://events.aiacalifornia.org/wp-content/uploads/2023/08/HUB-1200x800-updated.png
ORGANIZER;CN="Ashley Taylor":MAILTO:ataylor@aiacalifornia.org
END:VEVENT
BEGIN:VEVENT
DTSTART;TZID=UTC:20240115T180000
DTEND;TZID=UTC:20240115T190000
DTSTAMP:20260424T132118
CREATED:20231130T043619Z
LAST-MODIFIED:20240329T232432Z
UID:10000127-1705341600-1705345200@events.aiacalifornia.org
SUMMARY:Study Hub: Construction & Evaluation
DESCRIPTION:Construction & Evaluation (CE)Â focuses on construction contract administration and post-occupancy evaluation of projects. You should be able to demonstrate an understanding of and abilities in construction contract execution\, construction support services (including construction observation and shop drawing or submittal review)\, payment request processing\, and project closeout. In addition\, candidates must also demonstrate an understanding and abilities in project evaluation of integrated building systems and their performance. \nSpeaker: Vasilies Beseau\, AIA
URL:https://events.aiacalifornia.org/event/study-hub-construction-evaluation/
LOCATION:Virtual
CATEGORIES:Emerging
ATTACH;FMTTYPE=image/png:https://events.aiacalifornia.org/wp-content/uploads/2023/08/HUB-1200x800-updated.png
ORGANIZER;CN="Ashley Taylor":MAILTO:ataylor@aiacalifornia.org
END:VEVENT
BEGIN:VEVENT
DTSTART;TZID=UTC:20231204T180000
DTEND;TZID=UTC:20231204T190000
DTSTAMP:20260424T132118
CREATED:20231121T035813Z
LAST-MODIFIED:20240329T232423Z
UID:10000125-1701712800-1701716400@events.aiacalifornia.org
SUMMARY:Study Hub: Understanding the A201
DESCRIPTION:Project Management (PjM)Â focuses on the management of architectural projects\, including organizing principles\, contract management\, and consultant management. You should be able to demonstrate an understanding of and abilities in quality control\, project team configuration\, and project scheduling. \nSpeaker: Lauren Coles (Chair AIA|LA Practice Committee) / AIA Los Angeles \nAbout Our Speaker:
URL:https://events.aiacalifornia.org/event/study-hub-understanding-the-a201/
LOCATION:Virtual
CATEGORIES:Emerging
ATTACH;FMTTYPE=image/png:https://events.aiacalifornia.org/wp-content/uploads/2023/10/Study-Hub-lavender-1200x800-1.png
ORGANIZER;CN="Rebekah Aceves":MAILTO:raceves@aiacalifornia.org
END:VEVENT
BEGIN:VEVENT
DTSTART;TZID=UTC:20231120T180000
DTEND;TZID=UTC:20231120T190000
DTSTAMP:20260424T132118
CREATED:20231121T035640Z
LAST-MODIFIED:20240329T232402Z
UID:10000124-1700503200-1700506800@events.aiacalifornia.org
SUMMARY:Study Hub: Project Fees
DESCRIPTION:Project Management (PjM)Â focuses on the management of architectural projects\, including organizing principles\, contract management\, and consultant management. You should be able to demonstrate an understanding of and abilities in quality control\, project team configuration\, and project scheduling. \nSpeaker:Â Bryn Young\, AIA \nAbout Our Speaker: Bryn specializes in projects of all scales\, thinking of innovative designs and space planning to fit any need. She has a passion for design and is always looking to nature for inspiration. \nShe received her Masters in Architecture from NewSchool of Architecture & Design and holds undergraduate degrees in Interior Design\, Entrepreneurship\, and Small Business Management. Bryn has won multiple awards\, including her Master’s Thesis “Drought Tolerant Architecture”. \nBryn is currently on the Board of Directors at the La Jolla Historical Society and an adjunct professor at Chico State. When she’s not designing she loves to be outside hiking\, camping\, or exploring with her husband and two daughters.
URL:https://events.aiacalifornia.org/event/study-hub-project-fees/
LOCATION:Virtual
CATEGORIES:Emerging
ATTACH;FMTTYPE=image/png:https://events.aiacalifornia.org/wp-content/uploads/2023/10/Study-Hub-lavender-1200x800-1.png
ORGANIZER;CN="Rebekah Aceves":MAILTO:raceves@aiacalifornia.org
END:VEVENT
BEGIN:VEVENT
DTSTART;TZID=UTC:20231106T180000
DTEND;TZID=UTC:20231106T190000
DTSTAMP:20260424T132118
CREATED:20231024T011720Z
LAST-MODIFIED:20240329T232353Z
UID:10000110-1699293600-1699297200@events.aiacalifornia.org
SUMMARY:ARE/CSE Study Hub - PjM Utilization Rate & Related Metrics
DESCRIPTION:Project Management (PjM)Â focuses on the management of architectural projects\, including organizing principles\, contract management\, and consultant management. You should be able to demonstrate an understanding of and abilities in quality control\, project team configuration\, and project scheduling. \nSpeaker: Ben Norkin \nAbout Our Speaker: Creator of Hyperfine and Principal at Ben Norkin Architecture\, Ben is a licensed Architect\, teacher\, student\, parent\, and a Navy veteran. From designing contemporary net-zero-ready homes to humble residential additions; from completing a Master”™s thesis to A.R.E. exams\, Ben has picked up a lot over the last five years and is excited to be able to share it with others. Ben teaches architecture as well\, and he always stresses to his students that he is just like they are”¦only a few years into the future. \nBen Norkin\n 
URL:https://events.aiacalifornia.org/event/are-cse-study-hub-pjm-utilization-rate-related-metrics/
LOCATION:Virtual
CATEGORIES:Emerging
ATTACH;FMTTYPE=image/png:https://events.aiacalifornia.org/wp-content/uploads/2023/10/Study-Hub-lavender-1200x800-1.png
ORGANIZER;CN="Ashley Taylor":MAILTO:ataylor@aiacalifornia.org
END:VEVENT
BEGIN:VEVENT
DTSTART;TZID=UTC:20230926T110000
DTEND;TZID=UTC:20230926T120000
DTSTAMP:20260424T132118
CREATED:20230920T065315Z
LAST-MODIFIED:20230921T020519Z
UID:10000105-1695726000-1695729600@events.aiacalifornia.org
SUMMARY:Forum for Emerging Professionals and Students - Architecture at the Forefront: 2023 Design Vanguard Winners
DESCRIPTION:  \nSince 2000\, RECORD has annually honored 10 leading young firms with the Design Vanguard Award. Join senior editor Leopoldo Villardi for a conversation with three of this year’s winners: Future Expansion (Brooklyn\, New York)\, BLDUS (Washington\, D.C.)\, and Studio Contra (Lagos\, Nigeria). The principals will share recent projects and work on the boards\, as well as discuss their experience establishing an architecture firm. \nJeffrey Adjei | Managing Director – Studio Contra \nOlayinka Dosekun-Adjei | Creative Director – Studio Contra \nJack Becker | Principal & Founder – BLDUS \nAndrew Linn | Principal & Founder – BLDUS \nDeirdre McDermott | Partner – Future Expansion Architects \nNicholas McDermott | Partner – Future Expansion Architects \n  \nThis webinar is produced by Architectural Record
URL:https://events.aiacalifornia.org/event/forum-for-emerging-professionals-and-students-architecture-at-the-forefront-2023-design-vanguard-winners/
LOCATION:Virtual
CATEGORIES:Emerging
ATTACH;FMTTYPE=image/jpeg:https://events.aiacalifornia.org/wp-content/uploads/2023/09/AR2023-Forum-09-26-2023-1200x800-1.jpg
ORGANIZER;CN="Rebekah Aceves":MAILTO:raceves@aiacalifornia.org
END:VEVENT
BEGIN:VEVENT
DTSTART;TZID=UTC:20230918T180000
DTEND;TZID=UTC:20230918T190000
DTSTAMP:20260424T132118
CREATED:20230909T020624Z
LAST-MODIFIED:20240329T232342Z
UID:10000096-1695060000-1695063600@events.aiacalifornia.org
SUMMARY:ARE/CSE Study Hub - PcM Standard of Care (B101)
DESCRIPTION:Practice Management (PcM)Â focuses on the management of architectural practice\, including professional ethics\, fiduciary responsibilities\, and the regulations governing the practice of architecture. \nSpeaker: Sabas Padilla\, Assoc. AIA \nAbout Our Speaker: \nSabas is an Associate AIA member at the California Central Valley Chapter in Sacramento. He works as a designer for Ware Malcomb and specializes in preliminary site plans for programming and analysis. He has been involved in over 500 unique projects across various industries\, including industrial\, cold storage\, multi-family residential\, laboratories\, and film studios. He is on-track to becoming a licensed architect by 2024 and has recently completed the Practice Management\, and Programming & Analysis exams.
URL:https://events.aiacalifornia.org/event/are-cse-study-hub-pcm-standard-of-care-b101/
LOCATION:Virtual
CATEGORIES:Emerging
ATTACH;FMTTYPE=image/png:https://events.aiacalifornia.org/wp-content/uploads/2023/08/HUB-1200x800-updated.png
ORGANIZER;CN="Ashley Taylor":MAILTO:ataylor@aiacalifornia.org
END:VEVENT
BEGIN:VEVENT
DTSTART;TZID=UTC:20230907T180000
DTEND;TZID=UTC:20230907T190000
DTSTAMP:20260424T132118
CREATED:20230825T235128Z
LAST-MODIFIED:20240329T232333Z
UID:10000082-1694109600-1694113200@events.aiacalifornia.org
SUMMARY:ARE/CSE Study Hub - PcM Firm Finances
DESCRIPTION:Practice Management (PcM)Â focuses on the management of architectural practice\, including professional ethics\, fiduciary responsibilities\, and the regulations governing the practice of architecture. \nSpeaker: Ben Norkin \nAbout Our Speaker: Creator of Hyperfine and Principal at Ben Norkin Architecture\, Ben is a licensed Architect\, teacher\, student\, parent\, and a Navy veteran. From designing contemporary net-zero-ready homes to humble residential additions; from completing a Master”™s thesis to A.R.E. exams\, Ben has picked up a lot over the last five years and is excited to be able to share it with others. Ben teaches architecture as well\, and he always stresses to his students that he is just like they are”¦only a few years into the future. \n 
URL:https://events.aiacalifornia.org/event/pcm-firm-finances/
LOCATION:Virtual
CATEGORIES:Emerging
ATTACH;FMTTYPE=image/png:https://events.aiacalifornia.org/wp-content/uploads/2023/08/HUB-1200x800-updated.png
ORGANIZER;CN="Ashley Taylor":MAILTO:ataylor@aiacalifornia.org
END:VEVENT
END:VCALENDAR