BEGIN:VCALENDAR
VERSION:2.0
PRODID:-//AIA California Calendar - ECPv6.15.11//NONSGML v1.0//EN
CALSCALE:GREGORIAN
METHOD:PUBLISH
X-WR-CALNAME:AIA California Calendar
X-ORIGINAL-URL:https://events.aiacalifornia.org
X-WR-CALDESC:Events for AIA California Calendar
REFRESH-INTERVAL;VALUE=DURATION:PT1H
X-Robots-Tag:noindex
X-PUBLISHED-TTL:PT1H
BEGIN:VTIMEZONE
TZID:America/Los_Angeles
BEGIN:DAYLIGHT
TZOFFSETFROM:-0800
TZOFFSETTO:-0700
TZNAME:PDT
DTSTART:20240310T100000
END:DAYLIGHT
BEGIN:STANDARD
TZOFFSETFROM:-0700
TZOFFSETTO:-0800
TZNAME:PST
DTSTART:20241103T090000
END:STANDARD
BEGIN:DAYLIGHT
TZOFFSETFROM:-0800
TZOFFSETTO:-0700
TZNAME:PDT
DTSTART:20250309T100000
END:DAYLIGHT
BEGIN:STANDARD
TZOFFSETFROM:-0700
TZOFFSETTO:-0800
TZNAME:PST
DTSTART:20251102T090000
END:STANDARD
BEGIN:DAYLIGHT
TZOFFSETFROM:-0800
TZOFFSETTO:-0700
TZNAME:PDT
DTSTART:20260308T100000
END:DAYLIGHT
BEGIN:STANDARD
TZOFFSETFROM:-0700
TZOFFSETTO:-0800
TZNAME:PST
DTSTART:20261101T090000
END:STANDARD
END:VTIMEZONE
BEGIN:VEVENT
DTSTART;TZID=America/Los_Angeles:20250314T083000
DTEND;TZID=America/Los_Angeles:20250314T130000
DTSTAMP:20260425T053834
CREATED:20250218T174830Z
LAST-MODIFIED:20250313T224623Z
UID:10000327-1741941000-1741957200@events.aiacalifornia.org
SUMMARY:Designing for Fire Resilience\, a Reimagine Buildings Conference
DESCRIPTION:We know that climate change threatens us with frequent and devastating fires\, so how do we create fire-resilient buildings that don’t make the climate problem worse? How do we build safer buildings that are also part of the climate solution? To find out\, join us online forÂ Designing for Fire Resilience. \nLearn from the best minds in the industry:Â Hear from leading experts who are on the cutting edge of fire resilience\, building design\, and sustainability. \nGo beyond surface level discussions and uncover real solutions:Â Dive deep into the key issues and actionable strategies that impact fire resilience in today”™s built environment. \nGet an insider”™s view on the future of fire-resilient building practices:Â Understand what top experts believe the future of fire-safe\, sustainable architecture looks like 50 years from now””and the steps they”™re taking to get there. \nConnect with top professionals:Â Network with peers\, share insights\, and explore new opportunities for collaboration to drive positive change in the field of fire resilience. \nJoin us to gain the actionable insights and connections you need to create buildings that make a difference. \n  \nHalf of ticket proceeds will be donated to theÂ California Community Foundation Wildfire Relief and Recovery Fund \n  \nQuestions? Please reach out to: info@passivehouseaccelerator.com
URL:https://events.aiacalifornia.org/event/designing-for-fire-resilience-a-reimagine-buildings-conference/
LOCATION:Virtual
CATEGORIES:Community Partner Event,Conference
ATTACH;FMTTYPE=image/jpeg:https://events.aiacalifornia.org/wp-content/uploads/2025/02/Community-Partner-Webinar-Designing-for-Fire-Resilience-a-Reimagine-Buildings-Conference-1200x800-1.jpg
END:VEVENT
END:VCALENDAR