BEGIN:VCALENDAR
VERSION:2.0
PRODID:-//AIA California Calendar - ECPv6.15.11//NONSGML v1.0//EN
CALSCALE:GREGORIAN
METHOD:PUBLISH
X-ORIGINAL-URL:https://events.aiacalifornia.org
X-WR-CALDESC:Events for AIA California Calendar
REFRESH-INTERVAL;VALUE=DURATION:PT1H
X-Robots-Tag:noindex
X-PUBLISHED-TTL:PT1H
BEGIN:VTIMEZONE
TZID:UTC
BEGIN:STANDARD
TZOFFSETFROM:+0000
TZOFFSETTO:+0000
TZNAME:UTC
DTSTART:20220101T000000
END:STANDARD
END:VTIMEZONE
BEGIN:VEVENT
DTSTART;TZID=UTC:20230914T120000
DTEND;TZID=UTC:20230914T130000
DTSTAMP:20260424T124742
CREATED:20230906T035017Z
LAST-MODIFIED:20250228T020827Z
UID:10000095-1694692800-1694696400@events.aiacalifornia.org
SUMMARY:Building a Better Proposal: How Worldclass Architects Get Clients to Say Yes
DESCRIPTION:The proposal is a critical part of the client onboarding process. While there are multiple types of proposals\, there is never just one that works for every project. In this course\, we review what is included in the proposal\, the difference between a proposal and contract\, and terms and conditions to turn your proposal into a contract. We also highlight the importance of linking to your project setup and the valuable benefits of using AIA agreements.\nDouglas Teiger\, FAIA | Founder | Teiger Consultinghttps://youtu.be/zeTwAe5oi2Y		 \n\n									Additional Resources\n									Additional Resources \nLearning Objectives Slidedeck_Building a Better Proposal
URL:https://events.aiacalifornia.org/event/building-a-better-proposal-how-worldclass-architects-get-clients-to-say-yes-2/
LOCATION:Virtual
CATEGORIES:Community Partner Event
ATTACH;FMTTYPE=image/jpeg:https://events.aiacalifornia.org/wp-content/uploads/2023/09/Building-a-Better-Proposal-How-Worldclass-Architects-Get-Clients-to-Say-Yes-1200x800-1.jpg
ORGANIZER;CN="Rebekah Aceves":MAILTO:raceves@aiacalifornia.org
END:VEVENT
END:VCALENDAR