BEGIN:VCALENDAR
VERSION:2.0
PRODID:-//AIA California Calendar - ECPv6.15.11//NONSGML v1.0//EN
CALSCALE:GREGORIAN
METHOD:PUBLISH
X-WR-CALNAME:AIA California Calendar
X-ORIGINAL-URL:https://events.aiacalifornia.org
X-WR-CALDESC:Events for AIA California Calendar
REFRESH-INTERVAL;VALUE=DURATION:PT1H
X-Robots-Tag:noindex
X-PUBLISHED-TTL:PT1H
BEGIN:VTIMEZONE
TZID:America/Los_Angeles
BEGIN:DAYLIGHT
TZOFFSETFROM:-0800
TZOFFSETTO:-0700
TZNAME:PDT
DTSTART:20240310T100000
END:DAYLIGHT
BEGIN:STANDARD
TZOFFSETFROM:-0700
TZOFFSETTO:-0800
TZNAME:PST
DTSTART:20241103T090000
END:STANDARD
BEGIN:DAYLIGHT
TZOFFSETFROM:-0800
TZOFFSETTO:-0700
TZNAME:PDT
DTSTART:20250309T100000
END:DAYLIGHT
BEGIN:STANDARD
TZOFFSETFROM:-0700
TZOFFSETTO:-0800
TZNAME:PST
DTSTART:20251102T090000
END:STANDARD
BEGIN:DAYLIGHT
TZOFFSETFROM:-0800
TZOFFSETTO:-0700
TZNAME:PDT
DTSTART:20260308T100000
END:DAYLIGHT
BEGIN:STANDARD
TZOFFSETFROM:-0700
TZOFFSETTO:-0800
TZNAME:PST
DTSTART:20261101T090000
END:STANDARD
BEGIN:DAYLIGHT
TZOFFSETFROM:-0800
TZOFFSETTO:-0700
TZNAME:PDT
DTSTART:20270314T100000
END:DAYLIGHT
BEGIN:STANDARD
TZOFFSETFROM:-0700
TZOFFSETTO:-0800
TZNAME:PST
DTSTART:20271107T090000
END:STANDARD
END:VTIMEZONE
BEGIN:VEVENT
DTSTART;TZID=America/Los_Angeles:20251211T120000
DTEND;TZID=America/Los_Angeles:20251211T130000
DTSTAMP:20260425T055420
CREATED:20251119T170142Z
LAST-MODIFIED:20260128T000605Z
UID:10000385-1765454400-1765458000@events.aiacalifornia.org
SUMMARY:2025 Code Breaker: Nonresidential Overview of Energy Code Changes
DESCRIPTION:In this course\, we will review the 2025 California Building Energy Efficiency Standards (Title 24\, Part 6 or Energy Code) Mandatory and Prescriptive requirements for nonresidential envelope\, mechanical\, covered process\, photovoltaic\, and battery storage systems\, in addition to the new electric-ready and performance compliance metrics introduced in the 2025 Energy Code. \nEarn 1 LU/HSW for attending live. \nRegistration for this FREE webinar\, brought to you by Energy Code Ace\, will close at 12:00 pm PT on Thursday\, December 11th. \nSpeaker:\nGina Griffiths Rodda\, CEA\, LEED AP\nPrincipal/Owner\, Gabel Energy
URL:https://events.aiacalifornia.org/event/2025-code-breaker-nonresidential-overview-of-energy-code-changes/
LOCATION:Virtual
CATEGORIES:Community Partner Event
ATTACH;FMTTYPE=image/webp:https://events.aiacalifornia.org/wp-content/uploads/2025/11/Community-Partner-Webinar-Codebreaker-Nonresidential-Overview-1200x800-1.webp
ORGANIZER;CN="Rebekah Aceves":MAILTO:raceves@aiacalifornia.org
END:VEVENT
BEGIN:VEVENT
DTSTART;TZID=America/Los_Angeles:20260122T080000
DTEND;TZID=America/Los_Angeles:20260122T170000
DTSTAMP:20260425T055420
CREATED:20260106T235152Z
LAST-MODIFIED:20260106T235452Z
UID:10000386-1769068800-1769101200@events.aiacalifornia.org
SUMMARY:Facades+ Presented by The Architect's Newspaper
DESCRIPTION:Attend Facades+ for a full day of stimulating presentations and panels \nExamine the fast-paced evolution of facade technology\, address new perspectives on building skins\, and explore innovative\, sustainable design practices. \nAIA California members take advantage of a 20% discount. Please select “AEC Professional” under “Registration Type” and input the following code in the “Discount Code” Section: AIACA \n 
URL:https://events.aiacalifornia.org/event/facades-presented-by-the-architects-newspaper/
CATEGORIES:Community Partner Event
ATTACH;FMTTYPE=image/jpeg:https://events.aiacalifornia.org/wp-content/uploads/2026/01/SF-1200x800-1.jpg
END:VEVENT
BEGIN:VEVENT
DTSTART;TZID=America/Los_Angeles:20260122T120000
DTEND;TZID=America/Los_Angeles:20260122T130000
DTSTAMP:20260425T055420
CREATED:20260107T155806Z
LAST-MODIFIED:20260127T232856Z
UID:10000387-1769083200-1769086800@events.aiacalifornia.org
SUMMARY:Your Next Hire Might Not Be Human: How AI and Outsourcing Are Rewriting the Rules
DESCRIPTION:In an era where AI can draft proposals\, automate invoicing\, and even generate design options\, the question facing firm leaders isn’t who to hire; it’s whether to hire at all. Traditional staffing models are being challenged by automation\, global talent marketplaces\, and an urgent need for agility. At the same time\, the human dimension of business\, culture\, creativity\, and trust is more important than ever. \nThis webinar will challenge long-held assumptions about what a team should look like. We’ll explore when it makes sense to invest in a full-time hire\, when outsourcing or automation delivers better ROI\, and how to build a firm that clients trust\, even when your “team” looks very different from what they expect. \nWhether you’re a solo practitioner\, scaling your staff\, or leading a larger practice\, this session will help you rethink growth with clarity and confidence. \nRegistration for this FREE webinar\, brought to you by BQE will close at 12:00 pm PT on Thursday\, January 22\, 2026. \nSpeaker:\nSteven Burns\, FAIA | Founder | The Well-Designed Firm\n 
URL:https://events.aiacalifornia.org/event/your-next-hire-might-not-be-human-how-ai-and-outsourcing-are-rewriting-the-rules/
LOCATION:Virtual
CATEGORIES:Community Partner Event
ATTACH;FMTTYPE=image/webp:https://events.aiacalifornia.org/wp-content/uploads/2026/01/Community-Partner-Webinar-Your-Next-Hire-Might-1200x800-1.webp
ORGANIZER;CN="Sarah Vasquez":MAILTO:svasquez@aiacalifornia.org
END:VEVENT
BEGIN:VEVENT
DTSTART;TZID=America/Los_Angeles:20260305T120000
DTEND;TZID=America/Los_Angeles:20260305T130000
DTSTAMP:20260425T055420
CREATED:20260211T212758Z
LAST-MODIFIED:20260211T222633Z
UID:10000391-1772712000-1772715600@events.aiacalifornia.org
SUMMARY:Your Office is Leaking Money: How to Identify Losses and Plug the Holes
DESCRIPTION:Most firms look at profitability as a bottom-line metric. They use this as a gauge to determine if the firm is financially healthy. However\, every firm is composed of countless independent elements: employees\, clients\, projects\, phases\, consultants\, and a myriad of expenses. \nWhat does a firm do when they aren’t achieving the profit margins they desire or experiencing losses? Knowing the answer to this question is the purpose of this webinar. \nIn this webinar\, we will explore: \n\nThe best practices for monitoring the various profit-centers of your firm.\nThe means and methods that will not only alert you to problems but discuss how to resolve them.\n\nMost A&E firms don’t apply the same rigor\, discipline\, and consistency that they use when executing their projects. We will show how easy it is for your firm to be well-organized\, efficient\, and profitable by applying best practices and utilizing modern\, effortless\, affordable computing technologies. \nJoin us for an engaging\, live webinar presented by Steven Burns\, FAIA\, as he shares lessons learned over 35 years working with over 1\,000 A&E firms. \nRegistration for this FREE webinar\, brought to you by BQE will close at 12:00 pm PT on Thursday\, March 5\, 2026. \nSpeaker:\nSteven Burns\, FAIA | Founder | The Well-Designed Firm\n  \nPresented by:
URL:https://events.aiacalifornia.org/event/your-office-is-leaking-money-how-to-identify-losses-and-plug-the-holes/
LOCATION:Virtual
CATEGORIES:Community Partner Event
ATTACH;FMTTYPE=image/jpeg:https://events.aiacalifornia.org/wp-content/uploads/2026/02/Community-Partner-Your-Office-is-Leaking-1200x800-1.jpg
ORGANIZER;CN="Sarah Vasquez":MAILTO:svasquez@aiacalifornia.org
END:VEVENT
BEGIN:VEVENT
DTSTART;TZID=America/Los_Angeles:20260312T120000
DTEND;TZID=America/Los_Angeles:20260312T130000
DTSTAMP:20260425T055420
CREATED:20260211T215330Z
LAST-MODIFIED:20260211T215456Z
UID:10000392-1773316800-1773320400@events.aiacalifornia.org
SUMMARY:2025 Code Breaker: Multifamily Ventilation
DESCRIPTION:Indoor Air Quality (IAQ) is an important part of supporting health and safety for multifamily dwelling units\, and the 2025 California Building Energy Efficiency Standards (Title 24\, Part 6 or Energy Code) establishes new Mandatory requirements for IAQ ventilation in multifamily buildings. Additional prescriptive standards now also apply to multifamily IAQ in support of energy efficiency and health and safety. \nJoin us for this one-hour session in which we will dive into the equipment and testing requirements for a multifamily dwelling unit’s IAQ and local exhaust systems (such as kitchen range hoods). \nSpeaker:\nNick Brown\, CEA | Principal | Build Smart Group\nPresented by:
URL:https://events.aiacalifornia.org/event/2025-code-breaker-multifamily-ventilation/
LOCATION:Virtual
CATEGORIES:Community Partner Event
ATTACH;FMTTYPE=image/jpeg:https://events.aiacalifornia.org/wp-content/uploads/2026/02/Community-Partner-Webinar-2025-Code-Breaker-Multifamily-Ventilation-1200x800-1.jpg
ORGANIZER;CN="Sarah Vasquez":MAILTO:svasquez@aiacalifornia.org
END:VEVENT
BEGIN:VEVENT
DTSTART;TZID=America/Los_Angeles:20260402T120000
DTEND;TZID=America/Los_Angeles:20260402T130000
DTSTAMP:20260425T055420
CREATED:20260316T184914Z
LAST-MODIFIED:20260316T185227Z
UID:10000400-1775131200-1775134800@events.aiacalifornia.org
SUMMARY:If Price Is the Problem\, You're Telling the Wrong Story
DESCRIPTION:Registration for this FREE webinar\, brought to you by BQE will close at 12:00 pm PT on Thursday\, April 2\, 2026. \nToo many firms assume they lost the job because their price was too high. In most cases\, however\, the fee is merely a convenient excuse that masks a deeper issue. When a client does not clearly understand the value your firm brings to the table\, price becomes the deciding factor. That is not a pricing problem. It is a positioning problem. \nThis webinar challenges the outdated belief that winning work is about being competitive. You will learn how to earn trust\, create emotional resonance\, and position your firm as the only logical choice long before fees are ever discussed. We will explore how to shape the client’s perception\, elevate your value\, and design a sales process that moves your firm from the pricing conversation to a position of strength. \nThis session is for firm leaders who are ready to stop selling time and start selling expertise. \nSpeaker:\nSteven Burns\, FAIA | Founder | The Well-Designed Firm\nPresented by:
URL:https://events.aiacalifornia.org/event/if-price-is-the-problem-youre-telling-the-wrong-story/
LOCATION:Virtual
CATEGORIES:Community Partner Event
ATTACH;FMTTYPE=image/jpeg:https://events.aiacalifornia.org/wp-content/uploads/2026/03/Community-PartnerIf-Price-1200x800-1.jpg
ORGANIZER;CN="Sarah Vasquez":MAILTO:svasquez@aiacalifornia.org
END:VEVENT
BEGIN:VEVENT
DTSTART;TZID=America/Los_Angeles:20260409T120000
DTEND;TZID=America/Los_Angeles:20260409T130000
DTSTAMP:20260425T055420
CREATED:20260316T204459Z
LAST-MODIFIED:20260318T165925Z
UID:10000401-1775736000-1775739600@events.aiacalifornia.org
SUMMARY:Code Breaker: Solar\, Battery & Zero Net Carbon Design 2025 Energy Code
DESCRIPTION:Registration for this FREE webinar\, brought to you by Energy Code Ace will close at 12:00 pm PT on Thursday\, April 9\, 2026. Please note –  this program does not offer ZNCD mandatory continuing education hours.  \nJoin us for this one-hour presentation to review the 2025 Energy Code (Title 24\, Part 6\, the California Building Energy Efficiency Standards) requirements that support the goals of a Zero Net Carbon Design (ZNCD) project. We will review updated requirements for solar photovoltaic (PV) and battery energy storage system (BESS)\, domestic hot water system requirements supporting electrification\, pool and spa requirements supporting heat pump technology\, limits on Indoor Air Quality (IAQ) design options\, and additional heat pump design requirements. We’ll also explore the new Performance Approach compliance metric “Long-term System Cost” (LSC)\, which converts the predicted site energy use to long-term dollar costs to California’s energy system. \nSpeaker:\nBrian SelbyPrincipalSelby Energy\, Inc.\nPresented by:\nECA
URL:https://events.aiacalifornia.org/event/code-breaker-solar-battery-zero-net-carbon-design-2025-energy-code/
LOCATION:Virtual
CATEGORIES:Community Partner Event
ATTACH;FMTTYPE=image/jpeg:https://events.aiacalifornia.org/wp-content/uploads/2026/03/Community-Partner-Webinar-CodeBreaker-Solar-Battery-1200x800-1.jpg
ORGANIZER;CN="Sarah Vasquez":MAILTO:svasquez@aiacalifornia.org
END:VEVENT
END:VCALENDAR