BEGIN:VCALENDAR
VERSION:2.0
PRODID:-//AIA California Calendar - ECPv6.15.11//NONSGML v1.0//EN
CALSCALE:GREGORIAN
METHOD:PUBLISH
X-ORIGINAL-URL:https://events.aiacalifornia.org
X-WR-CALDESC:Events for AIA California Calendar
REFRESH-INTERVAL;VALUE=DURATION:PT1H
X-Robots-Tag:noindex
X-PUBLISHED-TTL:PT1H
BEGIN:VTIMEZONE
TZID:America/Los_Angeles
BEGIN:DAYLIGHT
TZOFFSETFROM:-0800
TZOFFSETTO:-0700
TZNAME:PDT
DTSTART:20250309T100000
END:DAYLIGHT
BEGIN:STANDARD
TZOFFSETFROM:-0700
TZOFFSETTO:-0800
TZNAME:PST
DTSTART:20251102T090000
END:STANDARD
BEGIN:DAYLIGHT
TZOFFSETFROM:-0800
TZOFFSETTO:-0700
TZNAME:PDT
DTSTART:20260308T100000
END:DAYLIGHT
BEGIN:STANDARD
TZOFFSETFROM:-0700
TZOFFSETTO:-0800
TZNAME:PST
DTSTART:20261101T090000
END:STANDARD
BEGIN:DAYLIGHT
TZOFFSETFROM:-0800
TZOFFSETTO:-0700
TZNAME:PDT
DTSTART:20270314T100000
END:DAYLIGHT
BEGIN:STANDARD
TZOFFSETFROM:-0700
TZOFFSETTO:-0800
TZNAME:PST
DTSTART:20271107T090000
END:STANDARD
END:VTIMEZONE
BEGIN:VEVENT
DTSTART;TZID=America/Los_Angeles:20260325T120000
DTEND;TZID=America/Los_Angeles:20260325T130000
DTSTAMP:20260424T064103
CREATED:20260310T170621Z
LAST-MODIFIED:20260313T012247Z
UID:10000399-1774440000-1774443600@events.aiacalifornia.org
SUMMARY:Zero Net Carbon Buildings - Then\, Now and the Future
DESCRIPTION:Registration for this ZNCD webinar will close at 10am PT on Wednesday\, March 25\, 2026. Registrants will receive their Zoom link no later than 10:30am PT the day of. \nCome learn about the relevant history of building electrification\, from NYC rooftop solar in 1906 to Berlin balcony solar in 2026\, from a gas ban that followed the 1923 Berkeley Fire to the 80+ gas bans that followed the fires in Santa Rosa (2017) and Paradise (2018). Then go for a deep dive into an Energy Commission funded\, futuristic\, 100% renewably powered off-grid apartment complex under construction in Petaluma that integrates bidirectional EVs\, ultra-efficient appliances\, a large central battery and a big solar array to house 131 low-income families that will never have to worry about a grid power outage. Looking at the evolution of zero net carbon buildings allows to see how far we’ve come and where we’re headed. \nSpeaker:\nSean Armstrong | Principal\, Redwood Energy
URL:https://events.aiacalifornia.org/event/zero-net-carbon-buildings-then-now-and-the-future/
LOCATION:Virtual
CATEGORIES:Climate Action
ATTACH;FMTTYPE=image/jpeg:https://events.aiacalifornia.org/wp-content/uploads/2026/03/Zero-Net-Carbon-Buildings-Then-Now-and-the-Future-1200x8002-1.jpg
ORGANIZER;CN="Sarah Vasquez":MAILTO:svasquez@aiacalifornia.org
END:VEVENT
END:VCALENDAR