BEGIN:VCALENDAR
VERSION:2.0
PRODID:-//AIA California Calendar - ECPv6.15.11//NONSGML v1.0//EN
CALSCALE:GREGORIAN
METHOD:PUBLISH
X-WR-CALNAME:AIA California Calendar
X-ORIGINAL-URL:https://events.aiacalifornia.org
X-WR-CALDESC:Events for AIA California Calendar
REFRESH-INTERVAL;VALUE=DURATION:PT1H
X-Robots-Tag:noindex
X-PUBLISHED-TTL:PT1H
BEGIN:VTIMEZONE
TZID:America/Los_Angeles
BEGIN:DAYLIGHT
TZOFFSETFROM:-0800
TZOFFSETTO:-0700
TZNAME:PDT
DTSTART:20240310T100000
END:DAYLIGHT
BEGIN:STANDARD
TZOFFSETFROM:-0700
TZOFFSETTO:-0800
TZNAME:PST
DTSTART:20241103T090000
END:STANDARD
BEGIN:DAYLIGHT
TZOFFSETFROM:-0800
TZOFFSETTO:-0700
TZNAME:PDT
DTSTART:20250309T100000
END:DAYLIGHT
BEGIN:STANDARD
TZOFFSETFROM:-0700
TZOFFSETTO:-0800
TZNAME:PST
DTSTART:20251102T090000
END:STANDARD
BEGIN:DAYLIGHT
TZOFFSETFROM:-0800
TZOFFSETTO:-0700
TZNAME:PDT
DTSTART:20260308T100000
END:DAYLIGHT
BEGIN:STANDARD
TZOFFSETFROM:-0700
TZOFFSETTO:-0800
TZNAME:PST
DTSTART:20261101T090000
END:STANDARD
END:VTIMEZONE
BEGIN:VTIMEZONE
TZID:UTC
BEGIN:STANDARD
TZOFFSETFROM:+0000
TZOFFSETTO:+0000
TZNAME:UTC
DTSTART:20230101T000000
END:STANDARD
END:VTIMEZONE
BEGIN:VEVENT
DTSTART;TZID=America/Los_Angeles:20251210T120000
DTEND;TZID=America/Los_Angeles:20251210T130000
DTSTAMP:20260424T100118
CREATED:20251112T215712Z
LAST-MODIFIED:20260127T235046Z
UID:10000384-1765368000-1765371600@events.aiacalifornia.org
SUMMARY:From Policy to Practice - Understanding the 2025 CA WUI Code Provisions and Wildfire Zone 0
DESCRIPTION:This session qualifies for 1 LU/HSW (live webinar attendees only\, pending AIA approval). \nRegistration for this webinar will close at 10am PT on Wednesday\, December 10\, 2025. Registrants will receive their Zoom link no later than 10:30am PT the day of.  \n2025 WUI updates and revisions have been adopted but are subject to the standard 6-month delay in activation. These revisions include a reorganization of information\, helping to clarify provisions that were previously scattered in different places and difficult to follow. \nIn this webinar\, our panelists will review these changes\, providing an overview of the newly established 2025 California Wildland-Urban Interface (CWUI) Code\, now Part 7 of Title 24. This summary will show how the CWUI Code consolidates wildland-urban interface requirements from three separate California codes into a single\, comprehensive document for clarity and consistency. This important webinar will also cover potential future developments to continue to support building design\, construction\, and code enforcement\, addressing broader wildfire risk reduction goals in California. \nSpeakers:\nPamela Brief\, PLA\, ASLA | President Pamela Studios & Instructor at UCLA Extension \nPaul Armstrong\, PE\, CBO | Regional Manager\, American Wood Council
URL:https://events.aiacalifornia.org/event/from-policy-to-practice-understanding-the-2025-ca-wui-code-provisions-and-wildfire-zone-0/
LOCATION:Virtual
CATEGORIES:California Building Code Changes,Continuing Education
ATTACH;FMTTYPE=image/jpeg:https://events.aiacalifornia.org/wp-content/uploads/2025/11/Climate-Action-Webinar-From-Policy-to-Practice-1200x800-1.jpg
ORGANIZER;CN="Sarah Vasquez":MAILTO:svasquez@aiacalifornia.org
END:VEVENT
BEGIN:VEVENT
DTSTART;TZID=UTC:20240131T120000
DTEND;TZID=UTC:20240131T130000
DTSTAMP:20260424T100118
CREATED:20240119T062749Z
LAST-MODIFIED:20240510T031628Z
UID:10000229-1706702400-1706706000@events.aiacalifornia.org
SUMMARY:2021 IEBC: A Focus on Commercial Structure to Residential
DESCRIPTION:Last year\, California Building Standards Commission altered California”™s Title 24 Part 10 Existing Building Code (CEBC) by adding Chapters 6\, 7\, 8\, 9\, 10\, 11 and 13 of the International Existing Building Code (IEBC) into the 2022 CEBC. \nWhat does this mean? Adding these chapters into the CEBC provides more pathways for compliance when working with existing buildings in California for occupancy changes. \nThe ICC has developed courses on these new-to-California chapters and compliance pathways for adaptive reuse projects. \nICC’s course 2021 IEBC: A Focus on Commercial Structure to ResidentialÂ will discuss the requirements for a change of occupancy from a warehouse (S-1 or S-2) to a condo or apartment complex using the 2021 IEBC.
URL:https://events.aiacalifornia.org/event/2021-iebc-a-focus-on-commercial-structure-to-residential/
LOCATION:Virtual
CATEGORIES:California Building Code Changes
ATTACH;FMTTYPE=image/jpeg:https://events.aiacalifornia.org/wp-content/uploads/2024/01/Code-Council-Training.jpg
ORGANIZER;CN="Sarah Vasquez":MAILTO:svasquez@aiacalifornia.org
END:VEVENT
BEGIN:VEVENT
DTSTART;TZID=UTC:20240124T120000
DTEND;TZID=UTC:20240124T130000
DTSTAMP:20260424T100118
CREATED:20240119T062252Z
LAST-MODIFIED:20240119T065418Z
UID:10000228-1706097600-1706101200@events.aiacalifornia.org
SUMMARY:2021 IEBC: Structure and Application (Online Live)
DESCRIPTION:Last year\, California Building Standards Commission altered California”™s Title 24 Part 10 Existing Building Code (CEBC) by adding Chapters 6\, 7\, 8\, 9\, 10\, 11 and 13 of the International Existing Building Code (IEBC) into the 2022 CEBC. \nWhat does this mean? Adding these chapters into the CEBC provides more pathways for compliance when working with existing buildings in California for occupancy changes. \nThe ICC has developed courses on these new-to-California chapters and compliance pathways for adaptive reuse projects. \nICC’s course 2021 IEBC: Structure and Application (Online Live) will provide an overview of the 2021 IEBC and the various methods of compliance available for existing buildings. This will include an emphasis on the intended scope and applicability of an existing building code. Emphasis will be placed on the similarities and differences between the Prescriptive and Work Area methods. In addition\, the intended application of the work area method will be explored.
URL:https://events.aiacalifornia.org/event/icc-course-1-2021-iebc-structure-and-application-online-live/
LOCATION:Virtual
CATEGORIES:California Building Code Changes
ATTACH;FMTTYPE=image/jpeg:https://events.aiacalifornia.org/wp-content/uploads/2024/01/Code-Council-Training.jpg
ORGANIZER;CN="Sarah Vasquez":MAILTO:svasquez@aiacalifornia.org
END:VEVENT
END:VCALENDAR