BEGIN:VCALENDAR
VERSION:2.0
PRODID:-//AIA California Calendar - ECPv6.15.11//NONSGML v1.0//EN
CALSCALE:GREGORIAN
METHOD:PUBLISH
X-ORIGINAL-URL:https://events.aiacalifornia.org
X-WR-CALDESC:Events for AIA California Calendar
REFRESH-INTERVAL;VALUE=DURATION:PT1H
X-Robots-Tag:noindex
X-PUBLISHED-TTL:PT1H
BEGIN:VTIMEZONE
TZID:America/Los_Angeles
BEGIN:DAYLIGHT
TZOFFSETFROM:-0800
TZOFFSETTO:-0700
TZNAME:PDT
DTSTART:20230312T100000
END:DAYLIGHT
BEGIN:STANDARD
TZOFFSETFROM:-0700
TZOFFSETTO:-0800
TZNAME:PST
DTSTART:20231105T090000
END:STANDARD
BEGIN:DAYLIGHT
TZOFFSETFROM:-0800
TZOFFSETTO:-0700
TZNAME:PDT
DTSTART:20240310T100000
END:DAYLIGHT
BEGIN:STANDARD
TZOFFSETFROM:-0700
TZOFFSETTO:-0800
TZNAME:PST
DTSTART:20241103T090000
END:STANDARD
BEGIN:DAYLIGHT
TZOFFSETFROM:-0800
TZOFFSETTO:-0700
TZNAME:PDT
DTSTART:20250309T100000
END:DAYLIGHT
BEGIN:STANDARD
TZOFFSETFROM:-0700
TZOFFSETTO:-0800
TZNAME:PST
DTSTART:20251102T090000
END:STANDARD
BEGIN:DAYLIGHT
TZOFFSETFROM:-0800
TZOFFSETTO:-0700
TZNAME:PDT
DTSTART:20260308T100000
END:DAYLIGHT
BEGIN:STANDARD
TZOFFSETFROM:-0700
TZOFFSETTO:-0800
TZNAME:PST
DTSTART:20261101T090000
END:STANDARD
END:VTIMEZONE
BEGIN:VTIMEZONE
TZID:UTC
BEGIN:STANDARD
TZOFFSETFROM:+0000
TZOFFSETTO:+0000
TZNAME:UTC
DTSTART:20190101T000000
END:STANDARD
END:VTIMEZONE
BEGIN:VEVENT
DTSTART;TZID=America/Los_Angeles:20251121T150000
DTEND;TZID=America/Los_Angeles:20251121T193000
DTSTAMP:20260424T132814
CREATED:20250911T002027Z
LAST-MODIFIED:20251120T210541Z
UID:10000367-1763737200-1763753400@events.aiacalifornia.org
SUMMARY:AIA California 2025 Awards Celebration at University of California Berkeley
DESCRIPTION:Join us for the 2025 AIA California Awards Celebration\, a dynamic in-person event that celebrates excellence in architecture. And\, connects renowned architects with students who will be next generation designers. \nThis year’s celebration comes with new features that deliver special insights into awarded projects\, visionary firms\, and outstanding professionals\, alongside special participation from students of the Department of Architecture\, University of California Berkeley. \nEvent Highlights:\n12:00P – 1:00P | Hard Hat Tour of UCB Gateway (Limited tickets\, FREE)\nJoin us for an exclusive hard hat tour of the UCB Gateway project at 12PM on November 21st\, led by Wendy Hilles\, Campus Architect\, in collaboration with the AIA CA Awards Celebration at UC Berkeley. This unique opportunity allows architecture and construction enthusiasts to experience firsthand the innovative design and construction excellence of this remarkable structure located at in Berkeley. \nDon’t miss this rare chance to walk through an active construction site and celebrate architectural excellence with the UC Berkeley community—space is limited and safety waivers will be required for all attendees.\n CLICK HERE TO REGISTER FOR THE HARD HAT TOUR » \n3:00P – 4:30P | (Stand on) Ceremony\, The Inside Stories of the 2025 AIA California Award Recipients  | Bauer Wurster Hall Room 112\nAn awards ceremony with a special touch. Each recipient will share a brief inside story\, not readily available in project descriptions\, about the celebrated work—including Design Award\, Urban Design Award\, and Residential Design Award recipients. The program also honors individuals and firms celebrated through California and Maybeck Awards.\nOpen to all (firms + students\, region-wide) For details\, Click Here. \n4:30P – 6:00P | Meet the Firms\, An Opportunity for Students and Firms to Connect | Bauer Wurster Hall First Floor \nA unique opportunity for professionals and students to connect 1:1. Explore the innovative projects\, see renderings and models\, and meet the renowned firms. \n6:15P – 7:30P | Reception | Bauer Wurster Hall First Floor\nCelebrate together. Relax among friends\, colleagues\, and peers. Enjoy tasty treats and refreshments. Open to students\, of course\, for free. \nPartners:\n\n\n\n\n\nGold Sponsors\n\n\n\n\n\n\n\n\n\n\n\n\n\n\n\n\n\n\n\n\n\nSilver Sponsor\n\n\n\n\n\n\n\n\n\n\n\n\n\n\n\n\n\n\n\nBronze Sponsor\n\n\n\n\n\n\n\n\n\n\nHosted By\n\n\n\n\n\n\n\n\n\n\nSupported By\n\n\n\n\n\n\n\n\n\n\n\n 
URL:https://events.aiacalifornia.org/event/aia-california-2025-awards-celebration-at-ucberkeley/
LOCATION:UC Berkeley Department of Architecture\, Bauer Wurster Hall\, Berkeley\, CA\, 94720\, United States
CATEGORIES:Awards
ATTACH;FMTTYPE=image/png:https://events.aiacalifornia.org/wp-content/uploads/2025/09/Awards-Celebration-graphic-final-1200x800-09.png
ORGANIZER;CN="Ashley Taylor":MAILTO:ataylor@aiacalifornia.org
END:VEVENT
BEGIN:VEVENT
DTSTART;TZID=America/Los_Angeles:20250514T120000
DTEND;TZID=America/Los_Angeles:20250514T130000
DTSTAMP:20260424T132814
CREATED:20250416T212253Z
LAST-MODIFIED:20250512T204045Z
UID:10000341-1747224000-1747227600@events.aiacalifornia.org
SUMMARY:Architecture At Zero - Design Solutions for School Decarbonization
DESCRIPTION:This session qualifies for 1 LU/HSW\, 1hr ZNCD MCE and NEW – GBCI Credit for self-reporting! (pending approval\, live webinar attendees only). \nRegistration for this webinar will close at 10am PT on Wednesday\, May 14\, 2025. Zoom links will be sent no later than 10:30am the day of. \nK-12 school buildings\, whether new or existing\, carry a unique set of decarbonization challenges. The 2024 Architecture at Zero Design Competition directed participants to integrate themes of decarbonization\, resilience\, and equity in the design of a new building for Griffith STEAM Magnet Middle School in East Los Angeles\, replacing a suite of aging portable buildings on campus. Entrants were required to develop a comprehensive site plan incorporating detailed performance analysis\, renewable energy\, and carbon reduction strategies. Participants also demonstrated how their designs would enhance resilience through robust climate adaptation strategies\, and to promote equity within the community. \nThis webinar offers an exploration of innovative architectural solutions\, conveying insight into how the competition’s winning entries were developed and what were some of the lessons learned throughout the process. \nSpeakers:\n\nDave Intner\, AIA | Architect & Certified Energy Manager\, Southern California Edison\nCharlie Boyd | Architect & Studio Manager\, Design Draw Build\nXin Gao | Architect & Team Leader\, McMillan Pazdan Smith Architecture\nJian Huang | Project Architect\, Designer\, Goodwyn Mills Cawood (GMC)\nBelina Nguyen | Student\, California State Polytechnic University Pomona\nStephanie Perez-Ocaranza | Student\, California State Polytechnic University Pomona
URL:https://events.aiacalifornia.org/event/architecture-at-zero-design-solutions/
LOCATION:Virtual
CATEGORIES:Awards,Climate Action
ATTACH;FMTTYPE=image/jpeg:https://events.aiacalifornia.org/wp-content/uploads/2025/04/2025-Climate-Action-Webinar-Architecture-at-Zero-1200x800-2.jpg
ORGANIZER;CN="Sarah Vasquez":MAILTO:svasquez@aiacalifornia.org
END:VEVENT
BEGIN:VEVENT
DTSTART;TZID=America/Los_Angeles:20241115T130000
DTEND;TZID=America/Los_Angeles:20241115T210000
DTSTAMP:20260424T132814
CREATED:20241010T211106Z
LAST-MODIFIED:20241114T202319Z
UID:10000284-1731675600-1731704400@events.aiacalifornia.org
SUMMARY:AIA California 2024 Awards Celebration at Woodbury University
DESCRIPTION:AIA California 2024 Awards Celebration at Woodbury University\nNovember 15\, 2024 | 1:00 PM – 9:00 PM | Woodbury University\, Burbank\, CA \nJoin us for the second annual AIA California Awards Celebration\, a dynamic in-person event celebrating excellence in architecture! And\, connecting renowned architects with students who will be next generation designers. \nThis year”™s celebration and ceremony promises to be an extraordinary day\, spotlighting innovative projects\, visionary firms\, and outstanding professionals\, alongside special participation from students at Woodbury University”™s College of Architecture. \nEvent Highlights:\n\n1:00P ”“ 3:00P | Woodbury School of Architecture Award Recipient Panels |\nWoodbury School of Architecture has arranged a terrific afternoon of panels. Students throughout Los Angeles are welcome. Panels offer HSW units for AIA Members. Open to all (firms + students\, region-wide) For details\, Click Here.\n3:30P ”“ 5:30P | Meet the Firms/Architecture Fair: Renowned Firms + Students | Ahmanson Courtyard\nThis fair provides a unique opportunity for professionals and students alike to gain insights into the latest trends and exceptional achievements inÂ architecture\, and to connect 1:1. Explore the most innovative projects\, renowned firms\, and outstanding individuals who have received our prestigious awards this year.\n4:00P – 5:30P Woodbury University School of Architecture Open House\nOpen House features the Solar Decathlon Home\, a 3-D Printed House featuring first of its kind construction technologies. Open to firms + Students. For more info\, Click Here.\n6:00P ”“ 7:00P | Award Ceremony | Fletcher Jones AuditoriumÂ \nJoin us as we honor the best and brightest in the field of architecture. Recognize and celebrate the recipients of this year”™s awards.\n7:00P ”“ 9:00P | Reception & Networking | Ahmanson Courtyard\nNetwork with industry professionals\, share your ideas\, and forge new connections while enjoying a delightful reception.\n\nTicket Information:\n\nArchitecture Students:\nYour attendance is free\, courtesy of AIA Members. Don”™t miss this opportunity to engage with the broader architecture community.\nAward Recipients and Firms:\nTicket cost supports the inclusion of students.\n\nPlease note tables at the architecture fair are reserved for AIACA Award Recipients and Platinum Sponsors. \nThank you to our 2024 Award Ceremony Sponsor!
URL:https://events.aiacalifornia.org/event/aia-california-2024-awards-ceremony-at-woodbury-university/
LOCATION:Woodbury University Burbank\, California\, 7500 N Glenoaks Blvd\, Burbank\, CA\, 91504\, United States
CATEGORIES:Awards
ATTACH;FMTTYPE=image/png:https://events.aiacalifornia.org/wp-content/uploads/2024/10/All-Awards-Colors9-1.png
ORGANIZER;CN="Ashley Taylor":MAILTO:ataylor@aiacalifornia.org
END:VEVENT
BEGIN:VEVENT
DTSTART;TZID=UTC:20240327T120000
DTEND;TZID=UTC:20240327T130000
DTSTAMP:20260424T132814
CREATED:20240301T011843Z
LAST-MODIFIED:20250430T204043Z
UID:10000237-1711540800-1711544400@events.aiacalifornia.org
SUMMARY:2024 Common Application Webinar
DESCRIPTION:VIEW THIS WEBINAR ON VIDEO – SCROLL DOWN \nHost: Katie Ackerly\, AIA – Common Application Jury Chair\n*** Early Bird Registration for the AIA California Design Awards Ends 03.22.24 Register Here ***\n \nThis year AIA California is hosting a webinar to review the Common Application. Come join the us as we review the form in depth\, answer questions\, and discuss common mistakes caught by the Common Application Review Jury. \nThe Common App for Design Excellence is an Excel-based tool\, originally conceived of and developed by Corey Squire\, AIA; Helena Zambrano\, AIA; and Anne Schopf\, FAIA; and others. The tool is intended to help streamline sustainability reporting for AIA design awards. Since its inception\, more than two dozen Design Awards Committees at the state and local level have adopted the Common App as part of the submission requirements for their chapter”™s design awards. Over the past year\, the COTE Network Common App Subcommittee has refreshed the Common App to improve consistency with the AIA Framework for Design Excellence and to enhance user functionality. – AIA COTE Network \nIf planning to submit for the AIA California Design Awards\, please look over the Common Application prior to the webinar and prepare questions to ask the panelists.
URL:https://events.aiacalifornia.org/event/2024-common-application-webinar/
LOCATION:Virtual
CATEGORIES:Awards
ATTACH;FMTTYPE=image/png:https://events.aiacalifornia.org/wp-content/uploads/2024/02/Design-Awards-2024-Common-Application-Webinar.png
ORGANIZER;CN="Ashley Taylor":MAILTO:ataylor@aiacalifornia.org
END:VEVENT
BEGIN:VEVENT
DTSTART;TZID=UTC:20231117T160000
DTEND;TZID=UTC:20231117T210000
DTSTAMP:20260424T132814
CREATED:20231024T053930Z
LAST-MODIFIED:20231128T060912Z
UID:10000113-1700236800-1700254800@events.aiacalifornia.org
SUMMARY:AIA California Award Ceremony at Cal Poly: Celebrating Excellence in Architecture
DESCRIPTION:We are thrilled to announce the return of AIA California’s Award Ceremony\, an in-person event after a several-year hiatus! This year’s ceremony promises to be an extraordinary celebration\, featuring a special inclusion of students from the Cal Poly San Luis Obispo College of Architecture. We invite you to join us for an evening of inspiration\, recognition\, and networking. \nEvent Details:\nDate: November 17\, 2023\nTime: 4:00P – 9:00P\nLocation: Cal Poly San Luis Obispo Campus\, Berg Gallery\, 1 Grand Ave\, San Luis Obispo\, CA 93407 \nAgenda:\nArchitecture Fair: From 4:00P – 6:00P\, explore the projects\, firms\, and outstanding individuals who have received our prestigious awards this year. This fair provides a unique opportunity for students and professionals alike to gain insights into the latest trends and exceptional achievements in the world of architecture. \noÂ Â Tables will be provided to those firms and individuals who wish to take part in the fair. We encourage all recipients to take part\, bring handouts on their projects and chat with students. \noÂ Â A poster board gallery of the recipients will be on display for students and professionals. Poster boards are being made in-house using images submitted. If we require any other images\, recipients will be contacted directly. \nAward Ceremony: From 6:30P – 7:30P\, join us as we honor the best and brightest in the field of architecture. Recognize and celebrate the recipients of this year’s awards. \nReception: From 7:30P – 9:00P\, network with industry professionals\, share your ideas\, and forge new connections while enjoying a delightful reception. \nTicket Information:\nCal Poly Architecture Students: Attendance is free! Your participation is highly encouraged\, and your fees are generously covered by the event. \nGeneral Attendees: Tickets are available for purchase. Your contribution directly supports the inclusion of Cal Poly architecture students. \nRSVP:\nTo ensure we have sufficient space and materials for all attendees\, we kindly request that everyone RSVP. Please secure your spot by confirming your attendance. \nPurchase Tickets Here \nA link to purchase parking spots will be sent out to all who register so you may reserve a spot prior to arriving. If you require closer parking to the site or other accommodations\, please contact Ashley Taylor at ataylor@aiacalifornia.org. \nAccommodations:\nFor your convenience\, a small hotel room block is available for booking until November 3\, 2023. If you plan to attend\, we recommend reserving your room in advance to secure your stay during this event. The hotel is about 3.5 miles away from the Cal Poly Campus. \nYou may reserve a room at the Embassy Suites here. \nThese rooms are in limited quantity and only available at this rate until Nov 3rd. \nÂ­Â­____________________________________________________________________________________ \nDon’t miss this opportunity to be part of the AIA California Award Ceremony at Cal Poly\, a night dedicated to celebrating architectural excellence and fostering connections within the community. \nWe look forward to seeing you on November 17th for an evening of inspiration\, learning\, and celebration! \nFor more information\, please visit contact Ashley Taylor at ataylor@aiacalifornia.org. \nExclusive Signage Partner \n \n  \nSilver\n \n \n  \n  \n \n  \nBronze \n \n  \nCelebration Ceremony Photographer
URL:https://events.aiacalifornia.org/event/aia-california-award-ceremony-at-cal-poly-celebrating-excellence-in-architecture/
LOCATION:California Polytechnic State University\, 1 Grand Ave\, San Luis Obispo\, CA\, 93407\, United States
CATEGORIES:Awards
ATTACH;FMTTYPE=image/png:https://events.aiacalifornia.org/wp-content/uploads/2023/10/2023-Design-Awards-Cal-Poly-Event-1200x800-1.png
ORGANIZER;CN="Ashley Taylor":MAILTO:ataylor@aiacalifornia.org
END:VEVENT
BEGIN:VEVENT
DTSTART;TZID=UTC:20201208T120000
DTEND;TZID=UTC:20201208T130000
DTSTAMP:20260424T132814
CREATED:20201208T200038Z
LAST-MODIFIED:20231209T181831Z
UID:10000208-1607428800-1607432400@events.aiacalifornia.org
SUMMARY:AIA CA 2020 Awards Full Video
DESCRIPTION:
URL:https://events.aiacalifornia.org/event/aia-ca-2020-awards-full-video/
LOCATION:Virtual
CATEGORIES:Awards
ORGANIZER;CN="Sarah Vasquez":MAILTO:svasquez@aiacalifornia.org
END:VEVENT
END:VCALENDAR