BEGIN:VCALENDAR
VERSION:2.0
PRODID:-//AIA California Calendar - ECPv6.15.11//NONSGML v1.0//EN
CALSCALE:GREGORIAN
METHOD:PUBLISH
X-WR-CALNAME:AIA California Calendar
X-ORIGINAL-URL:https://events.aiacalifornia.org
X-WR-CALDESC:Events for AIA California Calendar
REFRESH-INTERVAL;VALUE=DURATION:PT1H
X-Robots-Tag:noindex
X-PUBLISHED-TTL:PT1H
BEGIN:VTIMEZONE
TZID:UTC
BEGIN:STANDARD
TZOFFSETFROM:+0000
TZOFFSETTO:+0000
TZNAME:UTC
DTSTART:20210101T000000
END:STANDARD
END:VTIMEZONE
BEGIN:VEVENT
DTSTART;TZID=UTC:20220810T000000
DTEND;TZID=UTC:20220810T000000
DTSTAMP:20260424T115546
CREATED:20220719T234141Z
LAST-MODIFIED:20231026T015259Z
UID:65856-1660089600-1660089600@events.aiacalifornia.org
SUMMARY:ZNCD Case Study: California Air Resources Board\, Mary D. Nichols Campus
DESCRIPTION:When: August 10th\, 2022 11:30am – 1:00pmUnits: 1.5 LU/HSW Qualifies for Zero Net Carbon Design Mandatory Continuing Education. Certificate of completion will be provided to those who stay on and watch the webinar live. Moderator: Avideh Haghighi AIA\, LFA\, LEED GA — Associate Principal | ZGF ARCHITECTS LLP Speakers: Marisa Keckeisen |Associate\, ZGF Architects  Paul Erickson LEED® AP BD+C — Principal | Affiliated Engineers\, Inc. Situated in the historic City of Riverside\, the new headquarters of the California Air Resources Board (CARB) has now become the largest true net-zero energy facility in the nation—producing more energy than it uses. The project is designed to achieve LEED Platinum® certification and meets all CALGreen Tier 2 building standards. This facility symbolizes the transition of transportation in California to zero-emission technologies. This program will review noteworthy strategies that contribute to achieving net-zero performance for a dynamic and energy-intensive campus. Earn 1.5 LU|HSW and 1.5hr ZNCD MCE for attending live\, or 1.5hrs ZNCD MCE for watching on-demand here. 								\n				\n				\n				\n							\n			\n									Additional Resources\n							\n			\n									Additional Resources\n					PDF Presentation | ZNCD Case Study: CARB\, Mary D. Nichols Campus
URL:https://events.aiacalifornia.org/event/zncd-case-study-california-air-resources-board-mary-d-nichols-campus/
CATEGORIES:Climate Action
ATTACH;FMTTYPE=:
END:VEVENT
END:VCALENDAR