BEGIN:VCALENDAR
VERSION:2.0
PRODID:-//AIA California Calendar - ECPv6.15.11//NONSGML v1.0//EN
CALSCALE:GREGORIAN
METHOD:PUBLISH
X-WR-CALNAME:AIA California Calendar
X-ORIGINAL-URL:https://events.aiacalifornia.org
X-WR-CALDESC:Events for AIA California Calendar
REFRESH-INTERVAL;VALUE=DURATION:PT1H
X-Robots-Tag:noindex
X-PUBLISHED-TTL:PT1H
BEGIN:VTIMEZONE
TZID:UTC
BEGIN:STANDARD
TZOFFSETFROM:+0000
TZOFFSETTO:+0000
TZNAME:UTC
DTSTART:20220101T000000
END:STANDARD
END:VTIMEZONE
BEGIN:VEVENT
DTSTART;TZID=UTC:20230817T120000
DTEND;TZID=UTC:20230817T133000
DTSTAMP:20260424T095747
CREATED:20230725T230434Z
LAST-MODIFIED:20231221T064842Z
UID:86989-1692273600-1692279000@events.aiacalifornia.org
SUMMARY:Using Microgrids for Resilience
DESCRIPTION:Moderator:\n\nDavid Kaneda\, FAIA\, PE\, LEED Fellow | Principal and Thought Leader\, IDeAs Consulting\, Inc.\n\nSpeakers:\n\nAlex Kaffka | CEO & Senior Principal\, Verdera\n\nSean Armstrong | Managing Principal\, Redwood Energy\n\nFalling costs have increased interest in photovoltaic electric systems\, batteries\, battery recycling\, and microgrids that can operate independently of the utility grid. In this program we will illustrate how microgrids provide resilience against natural disasters and grid outages. Microgrids can also reduce carbon emissions while having a positive economic impact on an individual property or community.\n\nThe potential for natural disasters to threaten large areas of California is significant. This webinar will provide examples of resilient microgrid\, including an approximately one MW microgrid designed for riding through Public Safety Power Shutoff (PSPS) events\, a microgrid for a community disaster recovery center\, and microgrid systems with smart controls that provide resilience and eliminate the need for electrical service upgrades for electrification of existing single-family homes.\n\nQualifies for 1.5hrs of ZNCD MCE								\n				\n					\n		\n					\n		\n				\n						\n					\n			\n						\n				\n							\n			\n									Additional Resources\n							\n			\n									Additional Resources\n					Learning Objectives + Redwood Energy_Microgrids
URL:https://events.aiacalifornia.org/event/using-microgrids-for-resilience/
LOCATION:Virtual
CATEGORIES:Climate Action
ATTACH;FMTTYPE=image/jpeg:https://events.aiacalifornia.org/wp-content/uploads/2023/07/2023-Climate-Action-Webinar-Microgrids-1200x800-3.jpg
ORGANIZER;CN="Sarah Vasquez":MAILTO:svasquez@aiacalifornia.org
END:VEVENT
END:VCALENDAR