BEGIN:VCALENDAR
VERSION:2.0
PRODID:-//AIA California Calendar - ECPv6.15.11//NONSGML v1.0//EN
CALSCALE:GREGORIAN
METHOD:PUBLISH
X-WR-CALNAME:AIA California Calendar
X-ORIGINAL-URL:https://events.aiacalifornia.org
X-WR-CALDESC:Events for AIA California Calendar
REFRESH-INTERVAL;VALUE=DURATION:PT1H
X-Robots-Tag:noindex
X-PUBLISHED-TTL:PT1H
BEGIN:VTIMEZONE
TZID:America/Los_Angeles
BEGIN:DAYLIGHT
TZOFFSETFROM:-0800
TZOFFSETTO:-0700
TZNAME:PDT
DTSTART:20240310T100000
END:DAYLIGHT
BEGIN:STANDARD
TZOFFSETFROM:-0700
TZOFFSETTO:-0800
TZNAME:PST
DTSTART:20241103T090000
END:STANDARD
BEGIN:DAYLIGHT
TZOFFSETFROM:-0800
TZOFFSETTO:-0700
TZNAME:PDT
DTSTART:20250309T100000
END:DAYLIGHT
BEGIN:STANDARD
TZOFFSETFROM:-0700
TZOFFSETTO:-0800
TZNAME:PST
DTSTART:20251102T090000
END:STANDARD
BEGIN:DAYLIGHT
TZOFFSETFROM:-0800
TZOFFSETTO:-0700
TZNAME:PDT
DTSTART:20260308T100000
END:DAYLIGHT
BEGIN:STANDARD
TZOFFSETFROM:-0700
TZOFFSETTO:-0800
TZNAME:PST
DTSTART:20261101T090000
END:STANDARD
END:VTIMEZONE
BEGIN:VEVENT
DTSTART;TZID=America/Los_Angeles:20250522T080000
DTEND;TZID=America/Los_Angeles:20250522T173000
DTSTAMP:20260424T064747
CREATED:20250515T164042Z
LAST-MODIFIED:20250521T201733Z
UID:139057-1747900800-1747935000@events.aiacalifornia.org
SUMMARY:USGBC California Green Building Conference 2025
DESCRIPTION:  \nExplore the latest in green building\, network with over 850 professionals\, and discover award-winning projects and products shaping the future of sustainability at the California Green Building Conference on May 22\, 2025\, at Fort Mason in San Francisco!  \n  \nAbstract Topics Include:\nEquity & Healthy Buildings\nWater Innovation\nRebuilding & Recovery (introduced in response to the devastating Los Angeles wildfires)\nClimate Action & Decarbonization\nNature-Based Solutions
URL:https://events.aiacalifornia.org/event/usgbc-california-green-building-conference-2025/
LOCATION:Fort Mason Center for Arts & Culture\, 2 Marina Blvd\, San Francisco\, 94123\, United States
CATEGORIES:Community Partner Event,Conference
ATTACH;FMTTYPE=image/jpeg:https://events.aiacalifornia.org/wp-content/uploads/2025/05/USGBC-1200x800-1.jpg
ORGANIZER;CN="Rebekah Aceves":MAILTO:raceves@aiacalifornia.org
END:VEVENT
END:VCALENDAR