BEGIN:VCALENDAR
VERSION:2.0
PRODID:-//AIA California Calendar - ECPv6.15.11//NONSGML v1.0//EN
CALSCALE:GREGORIAN
METHOD:PUBLISH
X-WR-CALNAME:AIA California Calendar
X-ORIGINAL-URL:https://events.aiacalifornia.org
X-WR-CALDESC:Events for AIA California Calendar
REFRESH-INTERVAL;VALUE=DURATION:PT1H
X-Robots-Tag:noindex
X-PUBLISHED-TTL:PT1H
BEGIN:VTIMEZONE
TZID:UTC
BEGIN:STANDARD
TZOFFSETFROM:+0000
TZOFFSETTO:+0000
TZNAME:UTC
DTSTART:20220101T000000
END:STANDARD
END:VTIMEZONE
BEGIN:VEVENT
DTSTART;TZID=UTC:20231213T120000
DTEND;TZID=UTC:20231213T130000
DTSTAMP:20260424T101926
CREATED:20231121T043745Z
LAST-MODIFIED:20240123T035638Z
UID:95072-1702468800-1702472400@events.aiacalifornia.org
SUMMARY:The Power of Time Management: Tactics and Techniques for Year-End Success
DESCRIPTION:In architectural practices\, time is money. Without proper tracking and allocation of time there is no way to understand and manage profitability on your projects. In this webinar\, we will discuss time tracking via buckets\, calendar blocking\, and how to create the perfect work-life balance. As we approach the end of the year\, it’s a perfect time to reflect on your architectural firm’s achievements and prepare for a successful transition into 2024.\n\n \n\nDouglas Teiger\, FAIA | Founder | Teiger Consulting\n\n \n\n								\n				\n				\n				\n							\n							\n																\n													\n									\n					\n						\n				\n					\n		\n					\n		\n				\n						\n					\n			\n						\n				\n							\n			\n									Additional Resources\n							\n			\n									Additional Resources\n					Learning Objectives Slidedeck_Power of Time Management
URL:https://events.aiacalifornia.org/event/the-power-of-time-management-tactics-and-techniques-for-year-end-success/
LOCATION:Virtual
CATEGORIES:Community Partner Event
ATTACH;FMTTYPE=image/jpeg:https://events.aiacalifornia.org/wp-content/uploads/2023/11/Community-Partner-Webinar-The-Power-of-Time-1200x800-1.jpg
ORGANIZER;CN="Rebekah Aceves":MAILTO:raceves@aiacalifornia.org
END:VEVENT
END:VCALENDAR