BEGIN:VCALENDAR
VERSION:2.0
PRODID:-//AIA California Calendar - ECPv6.15.11//NONSGML v1.0//EN
CALSCALE:GREGORIAN
METHOD:PUBLISH
X-WR-CALNAME:AIA California Calendar
X-ORIGINAL-URL:https://events.aiacalifornia.org
X-WR-CALDESC:Events for AIA California Calendar
REFRESH-INTERVAL;VALUE=DURATION:PT1H
X-Robots-Tag:noindex
X-PUBLISHED-TTL:PT1H
BEGIN:VTIMEZONE
TZID:UTC
BEGIN:STANDARD
TZOFFSETFROM:+0000
TZOFFSETTO:+0000
TZNAME:UTC
DTSTART:20220101T000000
END:STANDARD
END:VTIMEZONE
BEGIN:VEVENT
DTSTART;TZID=UTC:20230606T120000
DTEND;TZID=UTC:20230606T130000
DTSTAMP:20260424T133313
CREATED:20230517T065617Z
LAST-MODIFIED:20231221T055714Z
UID:86859-1686052800-1686056400@events.aiacalifornia.org
SUMMARY:The Evolving Standard of Care: Resilient Design
DESCRIPTION:Brett Stewart\, J.D. | Risk Manager / Design Professional | AXA XL\, a division of AXA An overview of resilient design and how this concept is shaped by human and natural events\, with a primary focus on climate driven change. The standard of care is both defined and discussed against the backdrop of resilient design\, with emphasis on how catastrophic events can create additional liability exposures for design firms A variety of resilient design exposures are explored from the perspective of hazard and exposure analysis. The program concludes with solutions and best practices that firms can implement to help communicate program requirements to owners while safeguarding infrastructure and public health\, safety and welfare.  Earn 1.5 LU|HSW for attending live.								\n				\n				\n				\n							\n					\n						\n				\n					\n		\n					\n		\n				\n						\n					\n			\n						\n				\n							\n			\n									Additional Resources\n							\n			\n									Additional Resources\n					Full Presentation_Evolving Standard of Care
URL:https://events.aiacalifornia.org/event/the-evolving-standard-of-care-resilient-design-2/
LOCATION:Virtual
CATEGORIES:Practice
ATTACH;FMTTYPE=image/jpeg:https://events.aiacalifornia.org/wp-content/uploads/2023/05/Practice-Webinar-The-Evolving-Standard-of-Care-Resilient-Design-1200x800-1.jpg
ORGANIZER;CN="Rebekah Aceves":MAILTO:raceves@aiacalifornia.org
END:VEVENT
END:VCALENDAR