BEGIN:VCALENDAR
VERSION:2.0
PRODID:-//AIA California Calendar - ECPv6.15.11//NONSGML v1.0//EN
CALSCALE:GREGORIAN
METHOD:PUBLISH
X-WR-CALNAME:AIA California Calendar
X-ORIGINAL-URL:https://events.aiacalifornia.org
X-WR-CALDESC:Events for AIA California Calendar
REFRESH-INTERVAL;VALUE=DURATION:PT1H
X-Robots-Tag:noindex
X-PUBLISHED-TTL:PT1H
BEGIN:VTIMEZONE
TZID:UTC
BEGIN:STANDARD
TZOFFSETFROM:+0000
TZOFFSETTO:+0000
TZNAME:UTC
DTSTART:20220101T000000
END:STANDARD
END:VTIMEZONE
BEGIN:VEVENT
DTSTART;TZID=UTC:20231016T180000
DTEND;TZID=UTC:20231016T190000
DTSTAMP:20260424T064633
CREATED:20231003T064146Z
LAST-MODIFIED:20240329T232151Z
UID:93074-1697479200-1697482800@events.aiacalifornia.org
SUMMARY:Study Hub: PcM Session 4: AIA Sec. 3/4: Delivery of Services\, Practice Methodologies
DESCRIPTION:Practice Management (PcM) focuses on the management of architectural practice\, including professional ethics\, fiduciary responsibilities\, and the regulations governing the practice of architecture. \nSpeaker: Betsey Olenick Dougherty\, FAIA\, LEED AP \nAbout Our Speaker:\nIn 1979\, Betsey Olenick Dougherty\, FAIA\, LEED AP established the firm Dougherty + Dougherty (now Perkins Eastman)\, and began a career emphasizing design excellence and sustainability for educational and community facilities. Betsey has been actively involved in the American Institute of Architects since 1976\, is a former local AIAOC and AIACC President\, a former California Regional Director to the AIA Board\, National AIA Secretary\, and is a former Chancellor of the National AIA College of Fellows. She has served as a member of the California Architects Board Professional Qualifications Committee\, the AIA California Long Range Planning Committee\, the AIA California Advocacy Committee\, and is currently the at-large member of the AIA California Academy of Emerging Professionals and a Regent to the California Architectural Foundation. \nBetsey Olenick Dougherty\, FAIA\, LEED AP
URL:https://events.aiacalifornia.org/event/study-hub-pcm-session-4-aia-sec-3-4-delivery-of-services-practice-methodologies/
LOCATION:Virtual
CATEGORIES:Practice
ATTACH;FMTTYPE=image/png:https://events.aiacalifornia.org/wp-content/uploads/2023/10/Study-HUB-SEssion-4-1200x800-1.png
ORGANIZER;CN="Rebekah Aceves":MAILTO:raceves@aiacalifornia.org
END:VEVENT
END:VCALENDAR