BEGIN:VCALENDAR
VERSION:2.0
PRODID:-//AIA California Calendar - ECPv6.15.11//NONSGML v1.0//EN
CALSCALE:GREGORIAN
METHOD:PUBLISH
X-WR-CALNAME:AIA California Calendar
X-ORIGINAL-URL:https://events.aiacalifornia.org
X-WR-CALDESC:Events for AIA California Calendar
REFRESH-INTERVAL;VALUE=DURATION:PT1H
X-Robots-Tag:noindex
X-PUBLISHED-TTL:PT1H
BEGIN:VTIMEZONE
TZID:UTC
BEGIN:STANDARD
TZOFFSETFROM:+0000
TZOFFSETTO:+0000
TZNAME:UTC
DTSTART:20220101T000000
END:STANDARD
END:VTIMEZONE
BEGIN:VEVENT
DTSTART;TZID=UTC:20231002T180000
DTEND;TZID=UTC:20231002T190000
DTSTAMP:20260424T084916
CREATED:20230920T055535Z
LAST-MODIFIED:20240329T232714Z
UID:92632-1696269600-1696273200@events.aiacalifornia.org
SUMMARY:Study Hub: PcM Session 3: AIA Contracts / Roles and Responsibilities
DESCRIPTION:Practice ManagementÂ (PcM)Â focuses on the management of architectural practice\, including professional ethics\, fiduciary responsibilities\, and the regulations governing the practice of architecture. \nSpeaker:Â Vasilies Beseau\, AIA / AIA San Diego \nVasilies Beseau\, AIA / AIA San Diego | Photo: CRB Portraits
URL:https://events.aiacalifornia.org/event/study-hub-pcm-session-3-aia-contracts-roles-and-responsibilities/
LOCATION:Virtual
CATEGORIES:Practice
ATTACH;FMTTYPE=image/png:https://events.aiacalifornia.org/wp-content/uploads/2023/09/HUB_1-PcM-Contracts-Square-1200x800-2.png
ORGANIZER;CN="Rebekah Aceves":MAILTO:raceves@aiacalifornia.org
END:VEVENT
END:VCALENDAR