BEGIN:VCALENDAR
VERSION:2.0
PRODID:-//AIA California Calendar - ECPv6.15.11//NONSGML v1.0//EN
CALSCALE:GREGORIAN
METHOD:PUBLISH
X-WR-CALNAME:AIA California Calendar
X-ORIGINAL-URL:https://events.aiacalifornia.org
X-WR-CALDESC:Events for AIA California Calendar
REFRESH-INTERVAL;VALUE=DURATION:PT1H
X-Robots-Tag:noindex
X-PUBLISHED-TTL:PT1H
BEGIN:VTIMEZONE
TZID:UTC
BEGIN:STANDARD
TZOFFSETFROM:+0000
TZOFFSETTO:+0000
TZNAME:UTC
DTSTART:20220101T000000
END:STANDARD
END:VTIMEZONE
BEGIN:VEVENT
DTSTART;TZID=UTC:20230927T120000
DTEND;TZID=UTC:20230927T130000
DTSTAMP:20260424T064915
CREATED:20230926T000028Z
LAST-MODIFIED:20231221T065730Z
UID:92790-1695816000-1695819600@events.aiacalifornia.org
SUMMARY:Standard of Care: A Decade of Passive House Projects in California
DESCRIPTION:The practice of ‘Passive House BB’ has been designing\, building\, and monitoring Passive House projects across California for more than a decade.\n\nThis presentation will provide a high-level review of that journey. It will touch on Passive House basics\, then look at how this standard has been integrated into the processes and practices of this firm. A selection of single- and multi- family projects located across California will be used to illustrate specific targets\, metrics and details\, including early forays into embodied carbon analysis.\n\nWe’ll close with a brief discussion of ‘Standard of Care’\, with a proposal for how architects can choose their own ‘standard of care’ to include outcomes well beyond the currently narrow legal definition of this term.\n\nSpeaker: Bronwyn Barry\, CPHD\, RA | Principal | Passive House BB\n\nBronwyn Barry\, CPHD\, RA\n\nModerator: Jennifer Kretschmer\, AIA\, NCARB\, LEED Green Associate | Principal | J. Kretschmer Architect\n\nJennifer Kretschmer\, AIA\, NCARB\, LEED Green Associate								\n				\n					\n		\n					\n		\n				\n						\n					\n			\n						\n				\n							\n			\n									Additional Resources\n							\n			\n									Additional Resources\n					Full Presentation_Standard of Care Passive House
URL:https://events.aiacalifornia.org/event/standard-of-care-a-decade-of-passive-house-projects-in-california/
LOCATION:Virtual
CATEGORIES:Climate Action
ATTACH;FMTTYPE=image/jpeg:https://events.aiacalifornia.org/wp-content/uploads/2023/09/2023-Climate-Action-Webinar-Standard-of-Care-Passive-House-1200x800-2.jpg
ORGANIZER;CN="Sarah Vasquez":MAILTO:svasquez@aiacalifornia.org
END:VEVENT
END:VCALENDAR