BEGIN:VCALENDAR
VERSION:2.0
PRODID:-//AIA California Calendar - ECPv6.15.11//NONSGML v1.0//EN
CALSCALE:GREGORIAN
METHOD:PUBLISH
X-WR-CALNAME:AIA California Calendar
X-ORIGINAL-URL:https://events.aiacalifornia.org
X-WR-CALDESC:Events for AIA California Calendar
REFRESH-INTERVAL;VALUE=DURATION:PT1H
X-Robots-Tag:noindex
X-PUBLISHED-TTL:PT1H
BEGIN:VTIMEZONE
TZID:UTC
BEGIN:STANDARD
TZOFFSETFROM:+0000
TZOFFSETTO:+0000
TZNAME:UTC
DTSTART:20210101T000000
END:STANDARD
END:VTIMEZONE
BEGIN:VEVENT
DTSTART;TZID=UTC:20220929T120000
DTEND;TZID=UTC:20220929T130000
DTSTAMP:20260424T132529
CREATED:20220503T035701Z
LAST-MODIFIED:20231214T024322Z
UID:64144-1664452800-1664456400@events.aiacalifornia.org
SUMMARY:Single Family Electrification Considerations and Requirements under the 2022 Energy Code
DESCRIPTION:With the 2022 Energy Code going into effect January 1\, 2023\, California is moving closer to meeting goals for carbon reduction\, grid harmonization and energy efficiency. Electrification\, photovoltaics\, and ever-increasing building efficiency measures are all tools utilized to help single-family construction achieve these goals. During this session\, we will review the electrification measures of the Energy Code and explore appliance choices\, such as space heating\, water heating\, cooktops and clothes dryers\, that can meet those measures taking into consideration installation criteria\, cost\, and fuel source; explore when the photovoltaics (PV) minimum requirements apply and how PV sizing should take into consideration these additional electric appliances and other electric loads of the home; discuss how battery storage allows the homeowner to store electric production from the PV system to utilize during peak use conditions and the Energy Code requirements when battery storage is not installed at time of construction. There is a lot of great information out there supporting electrification\, and we take a look at some of Energy Code Ace’s favorites. Speaker: Gina Rodda | Principal/Owner of Gabel Associates\, LLC  								\n				\n				\n				\n							\n					\n						\n				\n				\n				\n							\n			\n		\n						\n				\n				\n				\n									(Watching video recordings of past webinars does not give the opportunity to receive any AIA LUs / CE credit.)
URL:https://events.aiacalifornia.org/event/single-family-electrification-considerations-and-requirements-under-the-2022-energy-code/
CATEGORIES:Practice
ATTACH;FMTTYPE=:
END:VEVENT
END:VCALENDAR