BEGIN:VCALENDAR
VERSION:2.0
PRODID:-//AIA California Calendar - ECPv6.15.11//NONSGML v1.0//EN
CALSCALE:GREGORIAN
METHOD:PUBLISH
X-WR-CALNAME:AIA California Calendar
X-ORIGINAL-URL:https://events.aiacalifornia.org
X-WR-CALDESC:Events for AIA California Calendar
REFRESH-INTERVAL;VALUE=DURATION:PT1H
X-Robots-Tag:noindex
X-PUBLISHED-TTL:PT1H
BEGIN:VTIMEZONE
TZID:America/Los_Angeles
BEGIN:DAYLIGHT
TZOFFSETFROM:-0800
TZOFFSETTO:-0700
TZNAME:PDT
DTSTART:20240310T100000
END:DAYLIGHT
BEGIN:STANDARD
TZOFFSETFROM:-0700
TZOFFSETTO:-0800
TZNAME:PST
DTSTART:20241103T090000
END:STANDARD
BEGIN:DAYLIGHT
TZOFFSETFROM:-0800
TZOFFSETTO:-0700
TZNAME:PDT
DTSTART:20250309T100000
END:DAYLIGHT
BEGIN:STANDARD
TZOFFSETFROM:-0700
TZOFFSETTO:-0800
TZNAME:PST
DTSTART:20251102T090000
END:STANDARD
BEGIN:DAYLIGHT
TZOFFSETFROM:-0800
TZOFFSETTO:-0700
TZNAME:PDT
DTSTART:20260308T100000
END:DAYLIGHT
BEGIN:STANDARD
TZOFFSETFROM:-0700
TZOFFSETTO:-0800
TZNAME:PST
DTSTART:20261101T090000
END:STANDARD
END:VTIMEZONE
BEGIN:VEVENT
DTSTART;TZID=America/Los_Angeles:20250618T140000
DTEND;TZID=America/Los_Angeles:20250618T150000
DTSTAMP:20260424T064835
CREATED:20250516T000401Z
LAST-MODIFIED:20250923T230618Z
UID:139173-1750255200-1750258800@events.aiacalifornia.org
SUMMARY:Shaping Talent: Internship & Job Shadow Insights for Firms
DESCRIPTION:  \nThis panel discussion brings together architects from a range of firms to share insights\, strategies\, and proven practices for creating meaningful internship and job shadow experiences. Participants will explore the core components of successful programs\, discover engagement techniques that foster hands-on learning\, and learn how to support the professional growth of early career talent through inclusive and confidence-building environments. Panelists will also discuss the return on investment these programs offer—from enhancing firm culture to strengthening recruitment pipelines—and share practical\, scalable approaches any firm can adopt to get started or improve their efforts. \n  \nPANEL \n\nWendy Rodgers\, AIA | Chief Executive Officer at LPA\, Inc.\nBill Leddy\, FAIA | Principal at Leddy Maytum Stacy\nLee Salin\, AIA | Managing Principal at ABA
URL:https://events.aiacalifornia.org/event/shaping-talent-internship-job-shadow-insights-for-firms/
LOCATION:Virtual
CATEGORIES:Continuing Education,Practice
ATTACH;FMTTYPE=image/jpeg:https://events.aiacalifornia.org/wp-content/uploads/2025/05/2025_CAF_capX-meet-Up_.jpg
ORGANIZER;CN="Kimberly Anderson":MAILTO:kanderson@aiacalifornia.org
END:VEVENT
END:VCALENDAR