BEGIN:VCALENDAR
VERSION:2.0
PRODID:-//AIA California Calendar - ECPv6.15.11//NONSGML v1.0//EN
CALSCALE:GREGORIAN
METHOD:PUBLISH
X-WR-CALNAME:AIA California Calendar
X-ORIGINAL-URL:https://events.aiacalifornia.org
X-WR-CALDESC:Events for AIA California Calendar
REFRESH-INTERVAL;VALUE=DURATION:PT1H
X-Robots-Tag:noindex
X-PUBLISHED-TTL:PT1H
BEGIN:VTIMEZONE
TZID:America/Los_Angeles
BEGIN:DAYLIGHT
TZOFFSETFROM:-0800
TZOFFSETTO:-0700
TZNAME:PDT
DTSTART:20240310T100000
END:DAYLIGHT
BEGIN:STANDARD
TZOFFSETFROM:-0700
TZOFFSETTO:-0800
TZNAME:PST
DTSTART:20241103T090000
END:STANDARD
BEGIN:DAYLIGHT
TZOFFSETFROM:-0800
TZOFFSETTO:-0700
TZNAME:PDT
DTSTART:20250309T100000
END:DAYLIGHT
BEGIN:STANDARD
TZOFFSETFROM:-0700
TZOFFSETTO:-0800
TZNAME:PST
DTSTART:20251102T090000
END:STANDARD
BEGIN:DAYLIGHT
TZOFFSETFROM:-0800
TZOFFSETTO:-0700
TZNAME:PDT
DTSTART:20260308T100000
END:DAYLIGHT
BEGIN:STANDARD
TZOFFSETFROM:-0700
TZOFFSETTO:-0800
TZNAME:PST
DTSTART:20261101T090000
END:STANDARD
END:VTIMEZONE
BEGIN:VEVENT
DTSTART;TZID=America/Los_Angeles:20250422T120000
DTEND;TZID=America/Los_Angeles:20250422T130000
DTSTAMP:20260424T050846
CREATED:20250327T181542Z
LAST-MODIFIED:20250506T200337Z
UID:122866-1745323200-1745326800@events.aiacalifornia.org
SUMMARY:Seven Pillars of Highly Successful Architecture Firms
DESCRIPTION:Scroll down to see the video.\nCulled from experiences working with more than 3\,000 AE firms over 25 years\, this session will examine the seven common denominators of every successful firm. Success comes in many flavors. For some\, it’s money; for others\, it is peer recognition\, awards\, or fame; for most of us\, it’s having access to challenging or exciting projects. \nRegardless of how you measure success\, by adopting these Seven Pillars you will create the framework from which you and every member of your firm can achieve their professional goals. \n\nEarn 1 AIA LU for attending live. \nFREE registration for this webinar\, brought to you by BQE Software\, will close at 12:00 pm PT on Tuesday\, April 22\, 2025. \nPRESENTER: \nSteve Burns\, FAIA | Founder | The Well-Designed Firm
URL:https://events.aiacalifornia.org/event/seven-pillars-of-highly-successful-architecture-firms/
LOCATION:Virtual
CATEGORIES:Community Partner Event,Continuing Education
ATTACH;FMTTYPE=image/jpeg:https://events.aiacalifornia.org/wp-content/uploads/2025/03/Community-Partner-Webinar-Seven-Pillars-of-Highly-Successful-Architecture-Firms-1200x800-3.jpg
ORGANIZER;CN="Rebekah Aceves":MAILTO:raceves@aiacalifornia.org
END:VEVENT
END:VCALENDAR