BEGIN:VCALENDAR
VERSION:2.0
PRODID:-//AIA California Calendar - ECPv6.15.11//NONSGML v1.0//EN
CALSCALE:GREGORIAN
METHOD:PUBLISH
X-WR-CALNAME:AIA California Calendar
X-ORIGINAL-URL:https://events.aiacalifornia.org
X-WR-CALDESC:Events for AIA California Calendar
REFRESH-INTERVAL;VALUE=DURATION:PT1H
X-Robots-Tag:noindex
X-PUBLISHED-TTL:PT1H
BEGIN:VTIMEZONE
TZID:America/Los_Angeles
BEGIN:DAYLIGHT
TZOFFSETFROM:-0800
TZOFFSETTO:-0700
TZNAME:PDT
DTSTART:20240310T100000
END:DAYLIGHT
BEGIN:STANDARD
TZOFFSETFROM:-0700
TZOFFSETTO:-0800
TZNAME:PST
DTSTART:20241103T090000
END:STANDARD
BEGIN:DAYLIGHT
TZOFFSETFROM:-0800
TZOFFSETTO:-0700
TZNAME:PDT
DTSTART:20250309T100000
END:DAYLIGHT
BEGIN:STANDARD
TZOFFSETFROM:-0700
TZOFFSETTO:-0800
TZNAME:PST
DTSTART:20251102T090000
END:STANDARD
BEGIN:DAYLIGHT
TZOFFSETFROM:-0800
TZOFFSETTO:-0700
TZNAME:PDT
DTSTART:20260308T100000
END:DAYLIGHT
BEGIN:STANDARD
TZOFFSETFROM:-0700
TZOFFSETTO:-0800
TZNAME:PST
DTSTART:20261101T090000
END:STANDARD
END:VTIMEZONE
BEGIN:VEVENT
DTSTART;TZID=America/Los_Angeles:20251112T120000
DTEND;TZID=America/Los_Angeles:20251112T130000
DTSTAMP:20260424T064632
CREATED:20251013T205157Z
LAST-MODIFIED:20251217T170244Z
UID:144181-1762948800-1762952400@events.aiacalifornia.org
SUMMARY:Running a Practice | Empowering the Future of Architecture & Practice
DESCRIPTION:This session qualifies for 1 LU/HSW (live webinar attendees only\, pending AIA approval). \nRegistration for this webinar will close at 10am PT on Wednesday\, November 12\, 2025. Registrants will receive their Zoom link no later than 10:30am PT the day of.  \nArchitectural practices vary widely in size\, approach\, and perspective\, but what unites successful firms are the core values and principles that guide their decision-making and design processes. These foundational elements shape not only the projects a firm undertakes but also its workplace culture\, client relationships\, and ultimate impact on the built environment. \nIn our “Running a Practice” series\, AIA California explores how architectural firms are integrating three essential principles into their practice: \n\nEquity\, Diversity\, and Inclusion (EDI)\nClimate Action\nSupport for Emerging Professionals\n\nJoin us in the third session of this series that will offer insight into how today’s firm leaders are creating opportunities that cultivate tomorrow’s firm leaders within their practice\, hear testimonials from emerging professionals who are making a mark with their own practices\, and engage with young professionals who are influencing today’s architecture firms. \n  \nSpeakers: \nYoshi Jimenez\, Assoc. AIA\, NOMA | Designer & Project Lead\, Architects FORA \nAndrew Goodwin\, AIA\, NCARB | Owner and Architect\, AGD \nFrancisco Arias | Design Director\, Ware Malcom
URL:https://events.aiacalifornia.org/event/running-a-practice-empowering-the-future-of-architecture-practice/
LOCATION:Virtual
CATEGORIES:Continuing Education
ATTACH;FMTTYPE=image/jpeg:https://events.aiacalifornia.org/wp-content/uploads/2025/10/Running-a-Practice-Empowering-the-Future-1200x800-2.jpg
ORGANIZER;CN="Sarah Vasquez":MAILTO:svasquez@aiacalifornia.org
END:VEVENT
END:VCALENDAR