BEGIN:VCALENDAR
VERSION:2.0
PRODID:-//AIA California Calendar - ECPv6.15.11//NONSGML v1.0//EN
CALSCALE:GREGORIAN
METHOD:PUBLISH
X-WR-CALNAME:AIA California Calendar
X-ORIGINAL-URL:https://events.aiacalifornia.org
X-WR-CALDESC:Events for AIA California Calendar
REFRESH-INTERVAL;VALUE=DURATION:PT1H
X-Robots-Tag:noindex
X-PUBLISHED-TTL:PT1H
BEGIN:VTIMEZONE
TZID:America/Los_Angeles
BEGIN:DAYLIGHT
TZOFFSETFROM:-0800
TZOFFSETTO:-0700
TZNAME:PDT
DTSTART:20240310T100000
END:DAYLIGHT
BEGIN:STANDARD
TZOFFSETFROM:-0700
TZOFFSETTO:-0800
TZNAME:PST
DTSTART:20241103T090000
END:STANDARD
BEGIN:DAYLIGHT
TZOFFSETFROM:-0800
TZOFFSETTO:-0700
TZNAME:PDT
DTSTART:20250309T100000
END:DAYLIGHT
BEGIN:STANDARD
TZOFFSETFROM:-0700
TZOFFSETTO:-0800
TZNAME:PST
DTSTART:20251102T090000
END:STANDARD
BEGIN:DAYLIGHT
TZOFFSETFROM:-0800
TZOFFSETTO:-0700
TZNAME:PDT
DTSTART:20260308T100000
END:DAYLIGHT
BEGIN:STANDARD
TZOFFSETFROM:-0700
TZOFFSETTO:-0800
TZNAME:PST
DTSTART:20261101T090000
END:STANDARD
END:VTIMEZONE
BEGIN:VEVENT
DTSTART;TZID=America/Los_Angeles:20250716T120000
DTEND;TZID=America/Los_Angeles:20250716T130000
DTSTAMP:20260424T064742
CREATED:20250701T181515Z
LAST-MODIFIED:20260225T190134Z
UID:140732-1752667200-1752670800@events.aiacalifornia.org
SUMMARY:Running a Practice | Building Inclusive Foundations: Transforming Architecture Firms Through EDI Integration - Video
DESCRIPTION:SCROLL DOWN TO VIEW THE VIDEO.\nThis session qualifies for 1 LU/HSW (live webinar attendees only). \nRegistration for this webinar will close at 10am PT on Wednesday\, July 16\, 2025. Registrants will receive their Zoom link no later than 10:30am PT the day of.  \nArchitectural practices vary widely in size\, approach\, and perspective\, but what unites successful firms are the core values and principles that guide their decision-making and design processes. These foundational elements shape not only the projects a firm undertakes but also its workplace culture\, client relationships\, and ultimate impact on the built environment. \nIn our new “Running a Practice” series\, AIA California explores how architectural firms are integrating three essential principles into their practice: \n\nEquity\, Diversity\, and Inclusion (EDI)\nClimate Action\nSupport for Emerging Professionals\n\nJoin us for the inaugural session of this series as we spotlight three distinctive architectural practices that have successfully embedded EDI principles as core components of their business model. This session will offer actionable approaches to integrating EDI values into your firm’s DNA in ways that are authentic\, sustainable\, and transformative. \nSpeakers:\nMandy Freeland\, AIA | President and Principal Architect\, Mandy Freeland Architect\, Inc. \nQuinlin Messenger | Founder and Director\, JUST Design \nDebra Gerod\, FAIA | Partner\, Gruen Associates \nModerator:\nDan Perez\, AIA | Principal\, Studio Perez
URL:https://events.aiacalifornia.org/event/running-a-practice-building-inclusive-foundations-transforming-architecture-firms-through-edi-integration/
LOCATION:Virtual
CATEGORIES:Practice
ATTACH;FMTTYPE=image/jpeg:https://events.aiacalifornia.org/wp-content/uploads/2025/07/Practice-Resource-Building-Inclusive-Foundations-Video.jpg
ORGANIZER;CN="Sarah Vasquez":MAILTO:svasquez@aiacalifornia.org
END:VEVENT
END:VCALENDAR