BEGIN:VCALENDAR
VERSION:2.0
PRODID:-//AIA California Calendar - ECPv6.15.11//NONSGML v1.0//EN
CALSCALE:GREGORIAN
METHOD:PUBLISH
X-WR-CALNAME:AIA California Calendar
X-ORIGINAL-URL:https://events.aiacalifornia.org
X-WR-CALDESC:Events for AIA California Calendar
REFRESH-INTERVAL;VALUE=DURATION:PT1H
X-Robots-Tag:noindex
X-PUBLISHED-TTL:PT1H
BEGIN:VTIMEZONE
TZID:UTC
BEGIN:STANDARD
TZOFFSETFROM:+0000
TZOFFSETTO:+0000
TZNAME:UTC
DTSTART:20220101T000000
END:STANDARD
END:VTIMEZONE
BEGIN:VEVENT
DTSTART;TZID=UTC:20230920T120000
DTEND;TZID=UTC:20230920T133000
DTSTAMP:20260424T064319
CREATED:20230913T010752Z
LAST-MODIFIED:20240222T010718Z
UID:92412-1695211200-1695216600@events.aiacalifornia.org
SUMMARY:Reuse and Transform
DESCRIPTION:This webinar will explore how reusing and upgrading existing buildings can benefit the climate and community. Siegel and Strain Architects will present three recent and current reuse projects and discuss process\, opportunities\, and benefits as well as challenges and lessons learned. The carbon impacts will be evaluated using the recently launched CARE Tool. Why this is important? Presenting case studies on adaptive reuse projects and how carbon impacts are evaluated are incredibly important to show architects and design professionals that reusing existing buildings is possible\, and can be used as a decarbonization method. Moderator: Larry Strain\, FAIA\, LEED AP | Principal\, SIEGEL & STRAIN Architects   Speakers: Susi Marzuola\, AIA\, LEED BD+C | Principal\, SIEGEL & STRAIN Architects Allison Hyatt\, RA | Project Architect\, SIEGEL & STRAIN Architects Laura Levenberg\, AIA LEED BD+C | Project Architect\, SIEGEL & STRAIN Architects 								\n				\n				\n				\n							\n					\n						\n				\n					\n		\n					\n		\n				\n						\n					\n			\n						\n				\n							\n			\n									Additional Resources\n							\n			\n									Additional Resources\n					Full Presentation_Reuse and Transform
URL:https://events.aiacalifornia.org/event/reuse-and-transform/
LOCATION:Virtual
CATEGORIES:Climate Action
ATTACH;FMTTYPE=image/jpeg:https://events.aiacalifornia.org/wp-content/uploads/2023/09/2023-Climate-Action-Webinar-Reuse-and-Transform-1200x800-3.jpg
ORGANIZER;CN="Sarah Vasquez":MAILTO:svasquez@aiacalifornia.org
END:VEVENT
END:VCALENDAR