BEGIN:VCALENDAR
VERSION:2.0
PRODID:-//AIA California Calendar - ECPv6.15.11//NONSGML v1.0//EN
CALSCALE:GREGORIAN
METHOD:PUBLISH
X-WR-CALNAME:AIA California Calendar
X-ORIGINAL-URL:https://events.aiacalifornia.org
X-WR-CALDESC:Events for AIA California Calendar
REFRESH-INTERVAL;VALUE=DURATION:PT1H
X-Robots-Tag:noindex
X-PUBLISHED-TTL:PT1H
BEGIN:VTIMEZONE
TZID:UTC
BEGIN:STANDARD
TZOFFSETFROM:+0000
TZOFFSETTO:+0000
TZNAME:UTC
DTSTART:20220101T000000
END:STANDARD
END:VTIMEZONE
BEGIN:VEVENT
DTSTART;TZID=UTC:20230322T000000
DTEND;TZID=UTC:20230322T000000
DTSTAMP:20260424T064620
CREATED:20230203T084001Z
LAST-MODIFIED:20230809T003950Z
UID:71388-1679443200-1679443200@events.aiacalifornia.org
SUMMARY:Pikes Peak Summit Complex: An All-Electric & Severe Climate Case Study
DESCRIPTION:Units: 1 LU/HSW (pending approval) Qualifies for 1hr ZNCD MCE. Speaker: Pete Jefferson\, PE\, WELL Faculty\, LEED AP | Principal\, BranchPattern At 14\,115 feet above sea level\, Pikes Peak is a unique high mountain summit accessible to visitors from all over the world\, despite being in the harshest climate in North America. Despite the obstacles posed by the harsh climate\, the vision of the Summit Complex became one that aligned closely with the petals of the Living Building Challenge\, and ultimately certification became a project goal. At the heart of the design response is a bioclimatic design approach\, incorporating elements of biomimicry and regenerative design principles to achieve it. Having opened in June 2021 as the highest elevation public building in North America\, the project is now open to visitors. As the project team continues to live with the building to measure and optimize performance. Design decisions are constantly being tested by the climate\, and in this webinar you will get to hear what worked\, what didn’t\, and lessons learned in the Summit Complex project. 								\n				\n					\n		\n					\n		\n				\n						\n					\n			\n						\n				\n					Video coming soon.				\n				\n					\n		\n					\n		\n				\n						\n					\n			\n						\n				\n							\n			\n									Additional Resources\n							\n			\n									Additional Resources\n					Full Presentation_Pikes Peak Q&A Report_Pikes Peak
URL:https://events.aiacalifornia.org/event/pikes-peak-summit-complex-an-all-electric-severe-climate-case-study/
CATEGORIES:Climate Action
ATTACH;FMTTYPE=image/jpeg:https://events.aiacalifornia.org/wp-content/uploads/2023/02/2023-Climate-Action-Webinar-Pikes-Peak-1200x800-1.jpg
END:VEVENT
END:VCALENDAR