BEGIN:VCALENDAR
VERSION:2.0
PRODID:-//AIA California Calendar - ECPv6.15.11//NONSGML v1.0//EN
CALSCALE:GREGORIAN
METHOD:PUBLISH
X-WR-CALNAME:AIA California Calendar
X-ORIGINAL-URL:https://events.aiacalifornia.org
X-WR-CALDESC:Events for AIA California Calendar
REFRESH-INTERVAL;VALUE=DURATION:PT1H
X-Robots-Tag:noindex
X-PUBLISHED-TTL:PT1H
BEGIN:VTIMEZONE
TZID:UTC
BEGIN:STANDARD
TZOFFSETFROM:+0000
TZOFFSETTO:+0000
TZNAME:UTC
DTSTART:20220101T000000
END:STANDARD
END:VTIMEZONE
BEGIN:VEVENT
DTSTART;TZID=UTC:20230202T120000
DTEND;TZID=UTC:20230202T130000
DTSTAMP:20260424T193932
CREATED:20230124T081945Z
LAST-MODIFIED:20231221T082739Z
UID:71072-1675339200-1675342800@events.aiacalifornia.org
SUMMARY:Occupancy Evaluation Technologies: Insights and Trends
DESCRIPTION:Speaker: Flavia Grey\, PhD – Principal | ZGF Architects\, LLP. The purpose of this session is to provide an introduction to occupancy evaluation\, the range of applications\, and technologies available today. We will discuss the tradeoffs between effort of implementation and impact of the technology\, and how to select the right application for your projects.Flavia Grey\, PhDMore information and additional resources can be found here: https://site.aiacalifornia.org/staging/ NOTE: Multiple staff members from one office should register individually to receive separate log-ins. 								\n				\n				\n				\n							\n					\n						\n				\n					\n		\n					\n		\n				\n						\n					\n			\n						\n				\n							\n			\n		\n						\n				\n					\n		\n					\n		\n				\n						\n					\n			\n						\n				\n							\n			\n									Additional Resources\n							\n			\n									Additional Resources\n					Learning Objectives Slidedeck_Occupancy Evaluation
URL:https://events.aiacalifornia.org/event/occupancy-evaluation-technologies-insights-and-trends/
LOCATION:Virtual
CATEGORIES:Practice
ATTACH;FMTTYPE=image/jpeg:https://events.aiacalifornia.org/wp-content/uploads/2023/01/Practice-Webinar-Occupancy-Evaluation-Technologies-Insights-and-Trends-1200x800-1.jpg
ORGANIZER;CN="Rebekah Aceves":MAILTO:raceves@aiacalifornia.org
END:VEVENT
END:VCALENDAR