BEGIN:VCALENDAR
VERSION:2.0
PRODID:-//AIA California Calendar - ECPv6.15.11//NONSGML v1.0//EN
CALSCALE:GREGORIAN
METHOD:PUBLISH
X-WR-CALNAME:AIA California Calendar
X-ORIGINAL-URL:https://events.aiacalifornia.org
X-WR-CALDESC:Events for AIA California Calendar
REFRESH-INTERVAL;VALUE=DURATION:PT1H
X-Robots-Tag:noindex
X-PUBLISHED-TTL:PT1H
BEGIN:VTIMEZONE
TZID:UTC
BEGIN:STANDARD
TZOFFSETFROM:+0000
TZOFFSETTO:+0000
TZNAME:UTC
DTSTART:20220101T000000
END:STANDARD
END:VTIMEZONE
BEGIN:VEVENT
DTSTART;TZID=UTC:20230913T080000
DTEND;TZID=UTC:20230914T213000
DTSTAMP:20260424T095910
CREATED:20230912T230859Z
LAST-MODIFIED:20230913T064035Z
UID:92406-1694592000-1694727000@events.aiacalifornia.org
SUMMARY:Net Zero 2023 : The Net Zero Conference
DESCRIPTION:The Net Zero Conference has been bringing together climate leaders to build a net zero\, decarbonized future for a decade. \nWe showcase the latest on: CarbonÂ + Climate + Equity + ESG + Net Zero + Resilience \nVenue: Los Angeles Convention Center\, Los Angeles\, CA
URL:https://events.aiacalifornia.org/event/net-zero-2023-the-net-zero-conference/
LOCATION:Los Angeles Convention Center\, 1201 S Figueroa St\, Los Angeles\, CA\, 90015\, United States
CATEGORIES:Climate Action
ATTACH;FMTTYPE=image/jpeg:https://events.aiacalifornia.org/wp-content/uploads/2023/09/net-zero-2023-banner.jpg
END:VEVENT
END:VCALENDAR