BEGIN:VCALENDAR
VERSION:2.0
PRODID:-//AIA California Calendar - ECPv6.15.11//NONSGML v1.0//EN
CALSCALE:GREGORIAN
METHOD:PUBLISH
X-WR-CALNAME:AIA California Calendar
X-ORIGINAL-URL:https://events.aiacalifornia.org
X-WR-CALDESC:Events for AIA California Calendar
REFRESH-INTERVAL;VALUE=DURATION:PT1H
X-Robots-Tag:noindex
X-PUBLISHED-TTL:PT1H
BEGIN:VTIMEZONE
TZID:UTC
BEGIN:STANDARD
TZOFFSETFROM:+0000
TZOFFSETTO:+0000
TZNAME:UTC
DTSTART:20210101T000000
END:STANDARD
END:VTIMEZONE
BEGIN:VEVENT
DTSTART;TZID=UTC:20221122T120000
DTEND;TZID=UTC:20221122T130000
DTSTAMP:20260424T133007
CREATED:20220503T040726Z
LAST-MODIFIED:20231214T024203Z
UID:64157-1669118400-1669122000@events.aiacalifornia.org
SUMMARY:Multifamily Envelope Requirements Under the 2022 Energy Code
DESCRIPTION:The 2022 Energy Code\, going into effect January 1\, 2023\, has new chapters devoted to multifamily occupancies. These chapters include new envelope requirements supporting multifamily buildings (along with other increased efficiency measures not discussed during this session). Topics we will explore include: the new requirements for opaque surfaces (walls\, roofs and ceiling)\, the new fire rating considerations\, and how Quality Insulation Installation (QII) applies to new multifamily buildings; increased fenestration efficiency including a new AW (Architectural Window) performance class and new area allowances; and the new air barrier design considerations and testing requirements and compliance options for new multifamily buildings and how they will impact the design professional’s scope of work. We also will examine the performance method changes and how it might\, or might not\, allow the flexibility allowed in the past code cycles due to the major revisions by the Energy Commission in support the new multifamily requirements. In addition\, we will share how Energy Code Ace supports the design professional via their suite of classes\, resources and tools get up to speed on these new requirements. Speaker: Gina Rodda | Principal/Owner of Gabel Associates\, LLC  								\n				\n				\n				\n									(Watching video recordings of past webinars does not give the opportunity to receive any AIA LUs / CE credit.)								\n				\n				\n				\n							\n					\n						\n				\n					\n		\n					\n		\n				\n						\n					\n			\n						\n				\n							\n			\n									Additional Resources\n							\n			\n									Additional Resources\n					AIA CA 2022 Multifamily Handout
URL:https://events.aiacalifornia.org/event/multifamily-envelope-requirements-under-the-2022-energy-code/
CATEGORIES:Practice
ATTACH;FMTTYPE=:
END:VEVENT
END:VCALENDAR