BEGIN:VCALENDAR
VERSION:2.0
PRODID:-//AIA California Calendar - ECPv6.15.11//NONSGML v1.0//EN
CALSCALE:GREGORIAN
METHOD:PUBLISH
X-WR-CALNAME:AIA California Calendar
X-ORIGINAL-URL:https://events.aiacalifornia.org
X-WR-CALDESC:Events for AIA California Calendar
REFRESH-INTERVAL;VALUE=DURATION:PT1H
X-Robots-Tag:noindex
X-PUBLISHED-TTL:PT1H
BEGIN:VTIMEZONE
TZID:UTC
BEGIN:STANDARD
TZOFFSETFROM:+0000
TZOFFSETTO:+0000
TZNAME:UTC
DTSTART:20230101T000000
END:STANDARD
END:VTIMEZONE
BEGIN:VEVENT
DTSTART;TZID=UTC:20240618T120000
DTEND;TZID=UTC:20240618T130000
DTSTAMP:20260424T050541
CREATED:20240524T045146Z
LAST-MODIFIED:20240612T143420Z
UID:104622-1718712000-1718715600@events.aiacalifornia.org
SUMMARY:California Legislative Update
DESCRIPTION:With the California State Legislature currently in session ”“ Actively considering and voting and legislation ”“ Scott Terrell\, Director of Governmental Relations for AIA California\, will discuss the current political climate in California and highlight the legislation under consideration that is of interest to the architectural profession. In addition to his presentation\, he will offer an opportunity for a live question and answer session to the audience to gain further insight on specific regions. \nSpeakers: \nAIA CA Contract Lobbyist – California Advocates\nPresident\, Applied Architecture – Michael F. Malinowski\, FAIA\nDirector of Government Relations\, AIA California – Scott Terrell \nScott TerrellDirector of Government Relations\nMichael F. Malinowski\, FAIA | President | Applied Architecture\n  \n  \n  \n 
URL:https://events.aiacalifornia.org/event/leg-update/
LOCATION:Virtual
CATEGORIES:Practice
ATTACH;FMTTYPE=image/jpeg:https://events.aiacalifornia.org/wp-content/uploads/2024/05/Webinar-CA-Leg-Updates-1200x800-2.jpg
ORGANIZER;CN="Rebekah Aceves":MAILTO:raceves@aiacalifornia.org
END:VEVENT
END:VCALENDAR