BEGIN:VCALENDAR
VERSION:2.0
PRODID:-//AIA California Calendar - ECPv6.15.11//NONSGML v1.0//EN
CALSCALE:GREGORIAN
METHOD:PUBLISH
X-WR-CALNAME:AIA California Calendar
X-ORIGINAL-URL:https://events.aiacalifornia.org
X-WR-CALDESC:Events for AIA California Calendar
REFRESH-INTERVAL;VALUE=DURATION:PT1H
X-Robots-Tag:noindex
X-PUBLISHED-TTL:PT1H
BEGIN:VTIMEZONE
TZID:UTC
BEGIN:STANDARD
TZOFFSETFROM:+0000
TZOFFSETTO:+0000
TZNAME:UTC
DTSTART:20230101T000000
END:STANDARD
END:VTIMEZONE
BEGIN:VEVENT
DTSTART;TZID=UTC:20240418T120000
DTEND;TZID=UTC:20240418T130000
DTSTAMP:20260424T125412
CREATED:20240410T044927Z
LAST-MODIFIED:20240812T165906Z
UID:100395-1713441600-1713445200@events.aiacalifornia.org
SUMMARY:Integrating Sustainable Design Practices to Improve Project Outcomes without the Overhead
DESCRIPTION:This course addresses the urgent need for widespread adoption of sustainable architectural practices by covering essential topics such as building energy modeling and passive design strategies. It aims to impart a deep understanding of how to integrate sustainability into every aspect of the design process to lower energy use intensity (EUI)\, reduce carbon footprints\, and allow firmwide adoption of sustainable practices to optimize project outcomes\, without the overhead costs that come with it. Participants will explore innovative methodologies to create buildings that are environmentally responsible and economically viable. \nSpeaker: Sandeep Ahuja\, Co-founder and CEO of cove.tool \nSandeep Ahuja
URL:https://events.aiacalifornia.org/event/integrating-sustainable-design-practices-to-improve-project-outcomes-without-the-overhead-webinar/
LOCATION:Virtual
CATEGORIES:Community Partner Event,Continuing Education
ATTACH;FMTTYPE=image/jpeg:https://events.aiacalifornia.org/wp-content/uploads/2024/04/Community-Partner-Webinar-Integrating-Sustainable-Design-Pract-1200x800-1.jpg
ORGANIZER;CN="Rebekah Aceves":MAILTO:raceves@aiacalifornia.org
END:VEVENT
END:VCALENDAR