BEGIN:VCALENDAR
VERSION:2.0
PRODID:-//AIA California Calendar - ECPv6.15.11//NONSGML v1.0//EN
CALSCALE:GREGORIAN
METHOD:PUBLISH
X-WR-CALNAME:AIA California Calendar
X-ORIGINAL-URL:https://events.aiacalifornia.org
X-WR-CALDESC:Events for AIA California Calendar
REFRESH-INTERVAL;VALUE=DURATION:PT1H
X-Robots-Tag:noindex
X-PUBLISHED-TTL:PT1H
BEGIN:VTIMEZONE
TZID:UTC
BEGIN:STANDARD
TZOFFSETFROM:+0000
TZOFFSETTO:+0000
TZNAME:UTC
DTSTART:20220101T000000
END:STANDARD
END:VTIMEZONE
BEGIN:VEVENT
DTSTART;TZID=UTC:20231103T163000
DTEND;TZID=UTC:20231103T173000
DTSTAMP:20260424T083120
CREATED:20230829T235646Z
LAST-MODIFIED:20231101T020331Z
UID:91764-1699029000-1699032600@events.aiacalifornia.org
SUMMARY:Installation and Leadership Celebration
DESCRIPTION:Recognizing the passionate commitment to and generous spirit of improving the architectural profession in California. \nand \nInstalling Winston Thorne\, AIA as AIA California’s 79th president. \nDo join us on Zoom for a special evening with your colleagues and the AIA California Board of Directors.
URL:https://events.aiacalifornia.org/event/installation-and-leadership-celebration/
LOCATION:AIA California Office\, 1931 H Street\, Sacramento\, CA\, 95811\, United States
CATEGORIES:Board Meeting
ATTACH;FMTTYPE=image/png:https://events.aiacalifornia.org/wp-content/uploads/2023/08/Installation-2024-1200x800-1.png
ORGANIZER;CN="Nicki Dennis Stephens":MAILTO:ndennis@aiacalifornia.org
END:VEVENT
END:VCALENDAR