BEGIN:VCALENDAR
VERSION:2.0
PRODID:-//AIA California Calendar - ECPv6.15.11//NONSGML v1.0//EN
CALSCALE:GREGORIAN
METHOD:PUBLISH
X-WR-CALNAME:AIA California Calendar
X-ORIGINAL-URL:https://events.aiacalifornia.org
X-WR-CALDESC:Events for AIA California Calendar
REFRESH-INTERVAL;VALUE=DURATION:PT1H
X-Robots-Tag:noindex
X-PUBLISHED-TTL:PT1H
BEGIN:VTIMEZONE
TZID:UTC
BEGIN:STANDARD
TZOFFSETFROM:+0000
TZOFFSETTO:+0000
TZNAME:UTC
DTSTART:20210101T000000
END:STANDARD
END:VTIMEZONE
BEGIN:VEVENT
DTSTART;TZID=UTC:20220727T120000
DTEND;TZID=UTC:20220727T130000
DTSTAMP:20260424T150603
CREATED:20220630T053710Z
LAST-MODIFIED:20231214T024012Z
UID:65605-1658923200-1658926800@events.aiacalifornia.org
SUMMARY:In Practice: Life Cycle Assessment of Concrete Buildings
DESCRIPTION:When looking at the environmental impact of a building\, it is important to assess every stage of the environmental life cycle\, from material extraction and product manufacturing to building operations and maintenance through to end-of-life. Concrete offers many environmental attributes that help reduce the overall environmental life cycle impacts of a building. This presentation explores how life cycle assessment can be used to measure and lower the environmental impacts of buildings. The in-practice portion of this webinar will include case studies presented by leading industry sustainability advocates from Gensler and Magnusson Klemencic Associates and how they’ve incorporated LCA into their projects.
URL:https://events.aiacalifornia.org/event/in-practice-life-cycle-assessment-of-concrete-buildings/
CATEGORIES:Practice
ATTACH;FMTTYPE=:
END:VEVENT
END:VCALENDAR