BEGIN:VCALENDAR
VERSION:2.0
PRODID:-//AIA California Calendar - ECPv6.15.11//NONSGML v1.0//EN
CALSCALE:GREGORIAN
METHOD:PUBLISH
X-WR-CALNAME:AIA California Calendar
X-ORIGINAL-URL:https://events.aiacalifornia.org
X-WR-CALDESC:Events for AIA California Calendar
REFRESH-INTERVAL;VALUE=DURATION:PT1H
X-Robots-Tag:noindex
X-PUBLISHED-TTL:PT1H
BEGIN:VTIMEZONE
TZID:America/Los_Angeles
BEGIN:DAYLIGHT
TZOFFSETFROM:-0800
TZOFFSETTO:-0700
TZNAME:PDT
DTSTART:20240310T100000
END:DAYLIGHT
BEGIN:STANDARD
TZOFFSETFROM:-0700
TZOFFSETTO:-0800
TZNAME:PST
DTSTART:20241103T090000
END:STANDARD
BEGIN:DAYLIGHT
TZOFFSETFROM:-0800
TZOFFSETTO:-0700
TZNAME:PDT
DTSTART:20250309T100000
END:DAYLIGHT
BEGIN:STANDARD
TZOFFSETFROM:-0700
TZOFFSETTO:-0800
TZNAME:PST
DTSTART:20251102T090000
END:STANDARD
BEGIN:DAYLIGHT
TZOFFSETFROM:-0800
TZOFFSETTO:-0700
TZNAME:PDT
DTSTART:20260308T100000
END:DAYLIGHT
BEGIN:STANDARD
TZOFFSETFROM:-0700
TZOFFSETTO:-0800
TZNAME:PST
DTSTART:20261101T090000
END:STANDARD
END:VTIMEZONE
BEGIN:VEVENT
DTSTART;TZID=America/Los_Angeles:20251008T090000
DTEND;TZID=America/Los_Angeles:20251008T170000
DTSTAMP:20260424T050840
CREATED:20250421T191709Z
LAST-MODIFIED:20250916T232803Z
UID:138516-1759914000-1759942800@events.aiacalifornia.org
SUMMARY:2025 Healthcare Facilities Forum
DESCRIPTION:Each year the AIA CA Healthcare Facilities Forum brings you a glimpse into the future of healthcare facilities.  What trends\, technologies and numerous other factors will impact the design and delivery of hospitals and outpatient facilities? \nThis year we will explore such factors as emerging technologies\, hospital acquisitions and mergers\, changing demographics and challenging healthcare issues (including behavioral health) that are and will impact healthcare delivery  and facility design. \nWe are pleased to also be offering a virtual option for those unable to join us in Los Angeles. \nWe look forward to having you join us October 8\, 2025!
URL:https://events.aiacalifornia.org/event/healthcare-facilities-forum-2025/
LOCATION:Steelcase WorkLife Center Showroom\, 1150 S. Olive Street\, Los Angeles\, 90015\, United States
CATEGORIES:Conference,Healthcare
ATTACH;FMTTYPE=image/jpeg:https://events.aiacalifornia.org/wp-content/uploads/2025/04/Healthcare-Forum-Graphic-photobg-1200x800-2.jpg
ORGANIZER;CN="Amy Orr":MAILTO:conferences@aiacalifornia.org
END:VEVENT
END:VCALENDAR