BEGIN:VCALENDAR
VERSION:2.0
PRODID:-//AIA California Calendar - ECPv6.15.11//NONSGML v1.0//EN
CALSCALE:GREGORIAN
METHOD:PUBLISH
X-WR-CALNAME:AIA California Calendar
X-ORIGINAL-URL:https://events.aiacalifornia.org
X-WR-CALDESC:Events for AIA California Calendar
REFRESH-INTERVAL;VALUE=DURATION:PT1H
X-Robots-Tag:noindex
X-PUBLISHED-TTL:PT1H
BEGIN:VTIMEZONE
TZID:UTC
BEGIN:STANDARD
TZOFFSETFROM:+0000
TZOFFSETTO:+0000
TZNAME:UTC
DTSTART:20220101T000000
END:STANDARD
END:VTIMEZONE
BEGIN:VEVENT
DTSTART;TZID=UTC:20230907T120000
DTEND;TZID=UTC:20230907T133000
DTSTAMP:20260424T102032
CREATED:20230822T034650Z
LAST-MODIFIED:20231221T065243Z
UID:90920-1694088000-1694093400@events.aiacalifornia.org
SUMMARY:Gimme Shelter! Building Affordability\, Comfort\, and Community
DESCRIPTION:Architects have an important role in creating market-rate\, affordable\, and supportive housing. This panel has a breadth of experience in creating opportunities for future work\, examples of partnerships for funding\, community outreach\, and execution of a variety of housing scenarios. Learn about the definition of affordable housing\, the design of permanent supportive housing\, how to bring a team together\, and how architecture/design can embody a program and more. Moderator: Stephanie Reich\, AIA | Design and Historic Preservation Planner\, City of Santa Monica Panel: Hessam Vakili\, Assoc. AIA | Director of Design and Development at TAIT & Associates\, Inc Marsha Santry | Senior Development Manager at TAIT & Associates Aaron Clark | Architect at Lenity Architecture Maria Ogrydziak\, AIA | Founder\, Maria Ogrydziak Architecture Bill Pride | Executive Director of Davis Community Meals and Housing 								\n				\n				\n				\n							\n					\n						\n				\n				\n				\n									\n					\n						\n									Full Presentation\n					\n					\n				\n								\n				\n					\n		\n					\n		\n				\n						\n					\n			\n						\n				\n												\n																					Stephanie Reich\, AIA | Design and Historic Preservation Planner\, City of Santa Monica\n										\n									\n				\n					\n		\n				\n			\n						\n				\n												\n																					Aaron Clark | Architect at Lenity Architecture\n										\n									\n				\n					\n		\n				\n			\n						\n				\n												\n																					Bill Pride | Executive Director of Davis Community Meals and Housing\n										\n									\n				\n					\n		\n				\n			\n						\n				\n												\n																					Maria Ogrydziak\, AIA | Founder\, Maria Ogrydziak Architecture\n										\n									\n				\n					\n		\n					\n		\n				\n						\n					\n			\n						\n				\n												\n																					Hessam Vakili\, Assoc. AIA | Director of Design and Development at TAIT & Associates\, Inc\n										\n									\n				\n					\n		\n				\n			\n						\n				\n												\n																					Marsha Santry | Senior Development Manager at TAIT & Associates\n										\n									\n				\n					\n		\n				\n			\n							\n		\n				\n			\n							\n		\n					\n		\n				\n						\n					\n			\n						\n				\n							\n			\n									Additional Resources\n							\n			\n									Additional Resources\n					Full Presentation_Townhall 9 Gimme Shelter!
URL:https://events.aiacalifornia.org/event/gimme-shelter-building-affordability-comfort-and-community/
LOCATION:Virtual
CATEGORIES:Urban Design
ATTACH;FMTTYPE=image/jpeg:https://events.aiacalifornia.org/wp-content/uploads/2023/08/Urban-Design-Committee-Webinar-Gimme-Shelter-Building-Affordability-Comfort-and-Community-1200x800-2.jpg
ORGANIZER;CN="Rebekah Aceves":MAILTO:raceves@aiacalifornia.org
END:VEVENT
END:VCALENDAR