BEGIN:VCALENDAR
VERSION:2.0
PRODID:-//AIA California Calendar - ECPv6.15.11//NONSGML v1.0//EN
CALSCALE:GREGORIAN
METHOD:PUBLISH
X-WR-CALNAME:AIA California Calendar
X-ORIGINAL-URL:https://events.aiacalifornia.org
X-WR-CALDESC:Events for AIA California Calendar
REFRESH-INTERVAL;VALUE=DURATION:PT1H
X-Robots-Tag:noindex
X-PUBLISHED-TTL:PT1H
BEGIN:VTIMEZONE
TZID:America/Los_Angeles
BEGIN:DAYLIGHT
TZOFFSETFROM:-0800
TZOFFSETTO:-0700
TZNAME:PDT
DTSTART:20240310T100000
END:DAYLIGHT
BEGIN:STANDARD
TZOFFSETFROM:-0700
TZOFFSETTO:-0800
TZNAME:PST
DTSTART:20241103T090000
END:STANDARD
BEGIN:DAYLIGHT
TZOFFSETFROM:-0800
TZOFFSETTO:-0700
TZNAME:PDT
DTSTART:20250309T100000
END:DAYLIGHT
BEGIN:STANDARD
TZOFFSETFROM:-0700
TZOFFSETTO:-0800
TZNAME:PST
DTSTART:20251102T090000
END:STANDARD
BEGIN:DAYLIGHT
TZOFFSETFROM:-0800
TZOFFSETTO:-0700
TZNAME:PDT
DTSTART:20260308T100000
END:DAYLIGHT
BEGIN:STANDARD
TZOFFSETFROM:-0700
TZOFFSETTO:-0800
TZNAME:PST
DTSTART:20261101T090000
END:STANDARD
END:VTIMEZONE
BEGIN:VEVENT
DTSTART;TZID=America/Los_Angeles:20251210T120000
DTEND;TZID=America/Los_Angeles:20251210T130000
DTSTAMP:20260424T064742
CREATED:20251112T215712Z
LAST-MODIFIED:20260127T235046Z
UID:146511-1765368000-1765371600@events.aiacalifornia.org
SUMMARY:From Policy to Practice - Understanding the 2025 CA WUI Code Provisions and Wildfire Zone 0
DESCRIPTION:This session qualifies for 1 LU/HSW (live webinar attendees only\, pending AIA approval). \nRegistration for this webinar will close at 10am PT on Wednesday\, December 10\, 2025. Registrants will receive their Zoom link no later than 10:30am PT the day of.  \n2025 WUI updates and revisions have been adopted but are subject to the standard 6-month delay in activation. These revisions include a reorganization of information\, helping to clarify provisions that were previously scattered in different places and difficult to follow. \nIn this webinar\, our panelists will review these changes\, providing an overview of the newly established 2025 California Wildland-Urban Interface (CWUI) Code\, now Part 7 of Title 24. This summary will show how the CWUI Code consolidates wildland-urban interface requirements from three separate California codes into a single\, comprehensive document for clarity and consistency. This important webinar will also cover potential future developments to continue to support building design\, construction\, and code enforcement\, addressing broader wildfire risk reduction goals in California. \nSpeakers:\nPamela Brief\, PLA\, ASLA | President Pamela Studios & Instructor at UCLA Extension \nPaul Armstrong\, PE\, CBO | Regional Manager\, American Wood Council
URL:https://events.aiacalifornia.org/event/from-policy-to-practice-understanding-the-2025-ca-wui-code-provisions-and-wildfire-zone-0/
LOCATION:Virtual
CATEGORIES:California Building Code Changes,Continuing Education
ATTACH;FMTTYPE=image/jpeg:https://events.aiacalifornia.org/wp-content/uploads/2025/11/Climate-Action-Webinar-From-Policy-to-Practice-1200x800-1.jpg
ORGANIZER;CN="Sarah Vasquez":MAILTO:svasquez@aiacalifornia.org
END:VEVENT
END:VCALENDAR