BEGIN:VCALENDAR
VERSION:2.0
PRODID:-//AIA California Calendar - ECPv6.15.11//NONSGML v1.0//EN
CALSCALE:GREGORIAN
METHOD:PUBLISH
X-WR-CALNAME:AIA California Calendar
X-ORIGINAL-URL:https://events.aiacalifornia.org
X-WR-CALDESC:Events for AIA California Calendar
REFRESH-INTERVAL;VALUE=DURATION:PT1H
X-Robots-Tag:noindex
X-PUBLISHED-TTL:PT1H
BEGIN:VTIMEZONE
TZID:America/Los_Angeles
BEGIN:DAYLIGHT
TZOFFSETFROM:-0800
TZOFFSETTO:-0700
TZNAME:PDT
DTSTART:20240310T100000
END:DAYLIGHT
BEGIN:STANDARD
TZOFFSETFROM:-0700
TZOFFSETTO:-0800
TZNAME:PST
DTSTART:20241103T090000
END:STANDARD
BEGIN:DAYLIGHT
TZOFFSETFROM:-0800
TZOFFSETTO:-0700
TZNAME:PDT
DTSTART:20250309T100000
END:DAYLIGHT
BEGIN:STANDARD
TZOFFSETFROM:-0700
TZOFFSETTO:-0800
TZNAME:PST
DTSTART:20251102T090000
END:STANDARD
BEGIN:DAYLIGHT
TZOFFSETFROM:-0800
TZOFFSETTO:-0700
TZNAME:PDT
DTSTART:20260308T100000
END:DAYLIGHT
BEGIN:STANDARD
TZOFFSETFROM:-0700
TZOFFSETTO:-0800
TZNAME:PST
DTSTART:20261101T090000
END:STANDARD
END:VTIMEZONE
BEGIN:VEVENT
DTSTART;TZID=America/Los_Angeles:20250617T120000
DTEND;TZID=America/Los_Angeles:20250617T130000
DTSTAMP:20260424T050723
CREATED:20250515T003019Z
LAST-MODIFIED:20250701T214831Z
UID:139027-1750161600-1750165200@events.aiacalifornia.org
SUMMARY:Fire Response Session 6 | Legal Protections: Minimizing Exposure in Disaster Relief Work
DESCRIPTION:Scroll down to watch the video.\nThis session qualifies for 1 LU/HSW (live webinar attendees only). \nFREE registration for this webinar will close at 12pm PT on Tuesday\, June 17\, 2025. \nThe AIA in CALIFORNIA is responding to the recent southern California fires with a unified plan for response\, recovery and rebuilding for communities that were devastated by the disaster. This series of sessions will help the architectural profession understand the rapidly changing landscape\, the local issues facing communities\, and strategies for resilient design and disaster response; the AIA in California is connecting policy makers\, government officials\, and practitioners uniting architects in building a more just\, equitable\, and resilient future. \nIn response to the devastating recent fires in the Los Angeles region\, Architects across California have stepped forward to support the rebuilding process through volunteer and pro bono work. As these efforts grow\, so does the importance of understanding the legal and ethical responsibilities that come with them. This webinar\, a joint initiative by AIA Pasadena & Foothill and AIA California\, is designed to address the professional liability risks and obligations Architects face when providing voluntary services after a disaster. \nThis webinar will provide insight into how the standard of care is interpreted in non-traditional service arrangements\, along with key considerations related to self-certification practices in post-disaster recovery projects. This session is intended to offer essential information for protecting architects and their firm while delivering effective support to affected communities. \nModerator:\n\nAlex Atheson | Co-Founder\, President at The Foothill Catalog Foundation\n\nSpeakers:\n\nBrian K. Stewart | Attorney\, Collins + Collins LLP\nMark H. Savel\, AIA | savel Architects\nMichael Sganga | Enforcement Analyst\, California Architects Board\nJulia Donoho\, AIA\, Esq. | Architect and Attorney at Law\, Legal Constructs
URL:https://events.aiacalifornia.org/event/fire-response-session-6-legal-protections/
LOCATION:Virtual
CATEGORIES:Fire Response
ATTACH;FMTTYPE=image/jpeg:https://events.aiacalifornia.org/wp-content/uploads/2025/05/Fire-Response-Session-Legal-Protections-1200x800-1.jpg
ORGANIZER;CN="Sarah Vasquez":MAILTO:svasquez@aiacalifornia.org
END:VEVENT
END:VCALENDAR