BEGIN:VCALENDAR
VERSION:2.0
PRODID:-//AIA California Calendar - ECPv6.15.11//NONSGML v1.0//EN
CALSCALE:GREGORIAN
METHOD:PUBLISH
X-WR-CALNAME:AIA California Calendar
X-ORIGINAL-URL:https://events.aiacalifornia.org
X-WR-CALDESC:Events for AIA California Calendar
REFRESH-INTERVAL;VALUE=DURATION:PT1H
X-Robots-Tag:noindex
X-PUBLISHED-TTL:PT1H
BEGIN:VTIMEZONE
TZID:America/Los_Angeles
BEGIN:DAYLIGHT
TZOFFSETFROM:-0800
TZOFFSETTO:-0700
TZNAME:PDT
DTSTART:20240310T100000
END:DAYLIGHT
BEGIN:STANDARD
TZOFFSETFROM:-0700
TZOFFSETTO:-0800
TZNAME:PST
DTSTART:20241103T090000
END:STANDARD
BEGIN:DAYLIGHT
TZOFFSETFROM:-0800
TZOFFSETTO:-0700
TZNAME:PDT
DTSTART:20250309T100000
END:DAYLIGHT
BEGIN:STANDARD
TZOFFSETFROM:-0700
TZOFFSETTO:-0800
TZNAME:PST
DTSTART:20251102T090000
END:STANDARD
BEGIN:DAYLIGHT
TZOFFSETFROM:-0800
TZOFFSETTO:-0700
TZNAME:PDT
DTSTART:20260308T100000
END:DAYLIGHT
BEGIN:STANDARD
TZOFFSETFROM:-0700
TZOFFSETTO:-0800
TZNAME:PST
DTSTART:20261101T090000
END:STANDARD
END:VTIMEZONE
BEGIN:VEVENT
DTSTART;TZID=America/Los_Angeles:20250522T080000
DTEND;TZID=America/Los_Angeles:20250522T190000
DTSTAMP:20260424T080836
CREATED:20250506T172641Z
LAST-MODIFIED:20250507T001802Z
UID:138906-1747900800-1747940400@events.aiacalifornia.org
SUMMARY:Facades+ San Diego
DESCRIPTION:Facades+ returns with an all-new program featuring the latest developments in building enclosure design and technology \nEverything from high-performance facades\, to new iconic projects across the city and region\, and strategies for increasing climate resilience and energy performance. \nThemes to be explored: \n\nEmerging Trends in Sustainable Construction\nFacades and Energy Performance: Challenges and Solutions\nFabrication Futures: Advances in Materials for Building Envelope Excellence\nNew Definitions of Good Facade Design: Expanding the Envelope\n\n  \nSpecial pricing for friends of AIA California – $79 all admission tickets ($150 savings)! \nUse discount code: SD79
URL:https://events.aiacalifornia.org/event/facades-san-diego/
LOCATION:Hard Rock Hotel San Diego\, 207 Fifth Ave\, San Diego\, 92101\, United States
CATEGORIES:Community Partner Event,Conference
ATTACH;FMTTYPE=image/jpeg:https://events.aiacalifornia.org/wp-content/uploads/2025/05/Facades-1200x800-2.jpg
ORGANIZER;CN="Rebekah Aceves":MAILTO:raceves@aiacalifornia.org
END:VEVENT
END:VCALENDAR