BEGIN:VCALENDAR
VERSION:2.0
PRODID:-//AIA California Calendar - ECPv6.15.11//NONSGML v1.0//EN
CALSCALE:GREGORIAN
METHOD:PUBLISH
X-WR-CALNAME:AIA California Calendar
X-ORIGINAL-URL:https://events.aiacalifornia.org
X-WR-CALDESC:Events for AIA California Calendar
REFRESH-INTERVAL;VALUE=DURATION:PT1H
X-Robots-Tag:noindex
X-PUBLISHED-TTL:PT1H
BEGIN:VTIMEZONE
TZID:America/Los_Angeles
BEGIN:DAYLIGHT
TZOFFSETFROM:-0800
TZOFFSETTO:-0700
TZNAME:PDT
DTSTART:20230312T100000
END:DAYLIGHT
BEGIN:STANDARD
TZOFFSETFROM:-0700
TZOFFSETTO:-0800
TZNAME:PST
DTSTART:20231105T090000
END:STANDARD
BEGIN:DAYLIGHT
TZOFFSETFROM:-0800
TZOFFSETTO:-0700
TZNAME:PDT
DTSTART:20240310T100000
END:DAYLIGHT
BEGIN:STANDARD
TZOFFSETFROM:-0700
TZOFFSETTO:-0800
TZNAME:PST
DTSTART:20241103T090000
END:STANDARD
BEGIN:DAYLIGHT
TZOFFSETFROM:-0800
TZOFFSETTO:-0700
TZNAME:PDT
DTSTART:20250309T100000
END:DAYLIGHT
BEGIN:STANDARD
TZOFFSETFROM:-0700
TZOFFSETTO:-0800
TZNAME:PST
DTSTART:20251102T090000
END:STANDARD
END:VTIMEZONE
BEGIN:VEVENT
DTSTART;TZID=America/Los_Angeles:20240821T113000
DTEND;TZID=America/Los_Angeles:20240821T133000
DTSTAMP:20260424T064633
CREATED:20240730T202720Z
LAST-MODIFIED:20250807T183703Z
UID:107064-1724239800-1724247000@events.aiacalifornia.org
SUMMARY:Existing Buildings: Getting to Success with the Building Code Including the new CEBC Work Area Method
DESCRIPTION:Reuse and retrofit of existing buildings is a key climate action strategy.Â  When these projects create new housing from underused or empty commercial buildings\, it”™s a win-win: \n\nMajor embodied carbon benefits for greenhouse gas emission reductions\nUrban revitalization and economic development\nHousing in locations where it”™s critically needed\n\nThere are five different compliance paths that California architects have available for work on existing buildings.Â  This program will provide a high-level overview of all code options\, insights\, and information to make an informed code choice.Â  It will also provide a deep dive into the Work Area Methodology\, new to California as of July 1\, 2024.Â  Join architect Michael F. Malinowski\, FAIA for this fast-paced exploration of code choices and nuanced differences and learn about factors that can lead you to a code ”˜best fit”™ for your next existing building adventure. \nNote: This program targets design professionals with a basic familiarity of building code principles\, terminology and the application of codes to building design. \nSpeaker: Michael F. Malinowski\, FAIAÂ  – President\, Applied Architecture \nMichael F. Malinowski\, FAIA | President | Applied Architecture\n  \n  \n  \n  \n  \n  \n 
URL:https://events.aiacalifornia.org/event/existing-buildings-getting-to-success-with-the-building-code-including-the-new-cebc-work-area-method/
LOCATION:Virtual
CATEGORIES:Climate Action
ATTACH;FMTTYPE=image/jpeg:https://events.aiacalifornia.org/wp-content/uploads/2024/07/2024-Climate-Action-Webinar-Existing-Buildings-Getting-1200x800-updated-1.jpg
ORGANIZER;CN="Rebekah Aceves":MAILTO:raceves@aiacalifornia.org
END:VEVENT
END:VCALENDAR