BEGIN:VCALENDAR
VERSION:2.0
PRODID:-//AIA California Calendar - ECPv6.15.11//NONSGML v1.0//EN
CALSCALE:GREGORIAN
METHOD:PUBLISH
X-WR-CALNAME:AIA California Calendar
X-ORIGINAL-URL:https://events.aiacalifornia.org
X-WR-CALDESC:Events for AIA California Calendar
REFRESH-INTERVAL;VALUE=DURATION:PT1H
X-Robots-Tag:noindex
X-PUBLISHED-TTL:PT1H
BEGIN:VTIMEZONE
TZID:UTC
BEGIN:STANDARD
TZOFFSETFROM:+0000
TZOFFSETTO:+0000
TZNAME:UTC
DTSTART:20230101T000000
END:STANDARD
END:VTIMEZONE
BEGIN:VEVENT
DTSTART;TZID=UTC:20241108T100000
DTEND;TZID=UTC:20241108T140000
DTSTAMP:20260424T083121
CREATED:20231213T050442Z
LAST-MODIFIED:20240522T075213Z
UID:95920-1731060000-1731074400@events.aiacalifornia.org
SUMMARY:EXECUTIVE COMMITTEE NOVEMBER MEETING
DESCRIPTION:This is an in-person meeting taking place at the AIA CA Sacramento office.
URL:https://events.aiacalifornia.org/event/executive-committee-meeting-9/
LOCATION:AIA California Office\, 1931 H Street\, Sacramento\, CA\, 95811\, United States
CATEGORIES:Executive Committee
ATTACH;FMTTYPE=image/jpeg:https://events.aiacalifornia.org/wp-content/uploads/2023/12/General-AIACA-event-graphic-Meeting.jpg
ORGANIZER;CN="Mirna Douet":MAILTO:MDouet@AIACalifornia.org
END:VEVENT
END:VCALENDAR