BEGIN:VCALENDAR
VERSION:2.0
PRODID:-//AIA California Calendar - ECPv6.15.11//NONSGML v1.0//EN
CALSCALE:GREGORIAN
METHOD:PUBLISH
X-WR-CALNAME:AIA California Calendar
X-ORIGINAL-URL:https://events.aiacalifornia.org
X-WR-CALDESC:Events for AIA California Calendar
REFRESH-INTERVAL;VALUE=DURATION:PT1H
X-Robots-Tag:noindex
X-PUBLISHED-TTL:PT1H
BEGIN:VTIMEZONE
TZID:America/Los_Angeles
BEGIN:DAYLIGHT
TZOFFSETFROM:-0800
TZOFFSETTO:-0700
TZNAME:PDT
DTSTART:20230312T100000
END:DAYLIGHT
BEGIN:STANDARD
TZOFFSETFROM:-0700
TZOFFSETTO:-0800
TZNAME:PST
DTSTART:20231105T090000
END:STANDARD
BEGIN:DAYLIGHT
TZOFFSETFROM:-0800
TZOFFSETTO:-0700
TZNAME:PDT
DTSTART:20240310T100000
END:DAYLIGHT
BEGIN:STANDARD
TZOFFSETFROM:-0700
TZOFFSETTO:-0800
TZNAME:PST
DTSTART:20241103T090000
END:STANDARD
BEGIN:DAYLIGHT
TZOFFSETFROM:-0800
TZOFFSETTO:-0700
TZNAME:PDT
DTSTART:20250309T100000
END:DAYLIGHT
BEGIN:STANDARD
TZOFFSETFROM:-0700
TZOFFSETTO:-0800
TZNAME:PST
DTSTART:20251102T090000
END:STANDARD
END:VTIMEZONE
BEGIN:VEVENT
DTSTART;TZID=America/Los_Angeles:20241106T120000
DTEND;TZID=America/Los_Angeles:20241106T130000
DTSTAMP:20260424T094016
CREATED:20241022T033000Z
LAST-MODIFIED:20250220T002203Z
UID:115582-1730894400-1730898000@events.aiacalifornia.org
SUMMARY:Ethics and Diversity Considerations of Design Technology in Architecture
DESCRIPTION:The integration of Artificial Intelligence (AI) in architecture holds the potential to revolutionize design processes\, optimize building performance\, and personalize user experiences. However\, alongside these advancements come significant ethical considerations that demand our attention. This presentation will explore the ethical landscape of AI in architecture\, focusing on how we can intervene to contribute to a more inclusive architectural future\, and address issues like the future of practice\, algorithmic bias\, equitable data privacy\, and overall business implications. \nSpeakers: \nArgelia Barcena\, Assoc. AIA | Regional Design Technology Manager | Gensler \nCesar Escalante\, AIA | Senior Technical Marketing Manager | Autodesk \nModerator: \nDaniel Perez\, AIA | Principal | Studio Perez Earn 1 LU for attending live. \n  \nPlease Note: Registration for this webinar will close at 10:00 am on Wednesday\, November 6\, 2024.
URL:https://events.aiacalifornia.org/event/ethics-and-diversity-considerations-of-ai-in-architecture/
LOCATION:Virtual
CATEGORIES:Continuing Education,EDI,Practice
ATTACH;FMTTYPE=image/jpeg:https://events.aiacalifornia.org/wp-content/uploads/2024/10/EDI-Ethics-and-Diversity-Considerations-of-1200x800-3.jpg
ORGANIZER;CN="Rebekah Aceves":MAILTO:raceves@aiacalifornia.org
END:VEVENT
END:VCALENDAR