BEGIN:VCALENDAR
VERSION:2.0
PRODID:-//AIA California Calendar - ECPv6.15.11//NONSGML v1.0//EN
CALSCALE:GREGORIAN
METHOD:PUBLISH
X-WR-CALNAME:AIA California Calendar
X-ORIGINAL-URL:https://events.aiacalifornia.org
X-WR-CALDESC:Events for AIA California Calendar
REFRESH-INTERVAL;VALUE=DURATION:PT1H
X-Robots-Tag:noindex
X-PUBLISHED-TTL:PT1H
BEGIN:VTIMEZONE
TZID:America/Los_Angeles
BEGIN:DAYLIGHT
TZOFFSETFROM:-0800
TZOFFSETTO:-0700
TZNAME:PDT
DTSTART:20240310T100000
END:DAYLIGHT
BEGIN:STANDARD
TZOFFSETFROM:-0700
TZOFFSETTO:-0800
TZNAME:PST
DTSTART:20241103T090000
END:STANDARD
BEGIN:DAYLIGHT
TZOFFSETFROM:-0800
TZOFFSETTO:-0700
TZNAME:PDT
DTSTART:20250309T100000
END:DAYLIGHT
BEGIN:STANDARD
TZOFFSETFROM:-0700
TZOFFSETTO:-0800
TZNAME:PST
DTSTART:20251102T090000
END:STANDARD
BEGIN:DAYLIGHT
TZOFFSETFROM:-0800
TZOFFSETTO:-0700
TZNAME:PDT
DTSTART:20260308T100000
END:DAYLIGHT
BEGIN:STANDARD
TZOFFSETFROM:-0700
TZOFFSETTO:-0800
TZNAME:PST
DTSTART:20261101T090000
END:STANDARD
END:VTIMEZONE
BEGIN:VEVENT
DTSTART;TZID=America/Los_Angeles:20250925T120000
DTEND;TZID=America/Los_Angeles:20250925T130000
DTSTAMP:20260424T050707
CREATED:20250826T205139Z
LAST-MODIFIED:20250826T205228Z
UID:141622-1758801600-1758805200@events.aiacalifornia.org
SUMMARY:Economic Forecast
DESCRIPTION:AIA members interested in economic trends and influences on the profession and the industry over the next 18 months – Join us for this economic forecast! Michele Russo\, the AIA’s VP of Research will share an economic outlook for the profession and discuss the emerging developments shaping the future in California. \nThis session will focus on current impacts on the design and construction industry including providing insights on immigration\, labor\, tariffs\, and interest rates\, the economic forecast for the remainder of 2025 and 2026\, brand new information released from the Architecture Billings Index (ABI)\, and the economic forecast as it relates to California\, including residential and non-residential market sectors. \nRegistration for this AIA members only webinar will close at 11:45 am PT on Thursday\, September 25\, 2025. \n***** \nEarn 1 LU for attending live. Members only. \nSpeaker: Michele A. Russo\, LEED AP | Vice President\, Research | American Institute of Architects
URL:https://events.aiacalifornia.org/event/economic-forecast/
LOCATION:Virtual
CATEGORIES:AIACA
ATTACH;FMTTYPE=image/webp:https://events.aiacalifornia.org/wp-content/uploads/2025/08/Economic-Forecast-Michele-Russo-1200x800-1.webp
ORGANIZER;CN="Rebekah Aceves":MAILTO:raceves@aiacalifornia.org
END:VEVENT
END:VCALENDAR