BEGIN:VCALENDAR
VERSION:2.0
PRODID:-//AIA California Calendar - ECPv6.15.11//NONSGML v1.0//EN
CALSCALE:GREGORIAN
METHOD:PUBLISH
X-WR-CALNAME:AIA California Calendar
X-ORIGINAL-URL:https://events.aiacalifornia.org
X-WR-CALDESC:Events for AIA California Calendar
REFRESH-INTERVAL;VALUE=DURATION:PT1H
X-Robots-Tag:noindex
X-PUBLISHED-TTL:PT1H
BEGIN:VTIMEZONE
TZID:UTC
BEGIN:STANDARD
TZOFFSETFROM:+0000
TZOFFSETTO:+0000
TZNAME:UTC
DTSTART:20210101T000000
END:STANDARD
END:VTIMEZONE
BEGIN:VEVENT
DTSTART;TZID=UTC:20220630T120000
DTEND;TZID=UTC:20220630T130000
DTSTAMP:20260424T145915
CREATED:20220503T035043Z
LAST-MODIFIED:20250422T181328Z
UID:64129-1656590400-1656594000@events.aiacalifornia.org
SUMMARY:Easing Energy Code Compliance Through the Virtual Compliance Assistant
DESCRIPTION:Energy Code Ace strives to make energy code compliance fast and easy. During this session\, we’ll explore how designers can use the Virtual Compliance Assistant to document nonresidential envelope projects using the prescriptive approach\, verify compliance prior to permit submittal and even provide installers with pre-populated installation forms. Please join Jill Marver\, Energy Code Ace Program Manager\, and Sally Blair\, Director\, NORESCO\, for this engaging tour. Speakers: Sally Blair | Director\, NORESCO Jill Marver | Principal Program Manager\, Energy Code Ace   								\n				\n				\n				\n							\n					\n						\n				\n					\n		\n					\n		\n				\n						\n					\n			\n						\n				\n							\n			\n		\n						\n				\n				\n				\n									(Watching video recordings of past webinars does not give the opportunity to receive any AIA LUs / CE credit.)
URL:https://events.aiacalifornia.org/event/easing-energy-code-compliance-through-the-virtual-compliance-assistant/
CATEGORIES:Practice
ATTACH;FMTTYPE=:
END:VEVENT
END:VCALENDAR