BEGIN:VCALENDAR
VERSION:2.0
PRODID:-//AIA California Calendar - ECPv6.15.11//NONSGML v1.0//EN
CALSCALE:GREGORIAN
METHOD:PUBLISH
X-WR-CALNAME:AIA California Calendar
X-ORIGINAL-URL:https://events.aiacalifornia.org
X-WR-CALDESC:Events for AIA California Calendar
REFRESH-INTERVAL;VALUE=DURATION:PT1H
X-Robots-Tag:noindex
X-PUBLISHED-TTL:PT1H
BEGIN:VTIMEZONE
TZID:America/Los_Angeles
BEGIN:DAYLIGHT
TZOFFSETFROM:-0800
TZOFFSETTO:-0700
TZNAME:PDT
DTSTART:20230312T100000
END:DAYLIGHT
BEGIN:STANDARD
TZOFFSETFROM:-0700
TZOFFSETTO:-0800
TZNAME:PST
DTSTART:20231105T090000
END:STANDARD
BEGIN:DAYLIGHT
TZOFFSETFROM:-0800
TZOFFSETTO:-0700
TZNAME:PDT
DTSTART:20240310T100000
END:DAYLIGHT
BEGIN:STANDARD
TZOFFSETFROM:-0700
TZOFFSETTO:-0800
TZNAME:PST
DTSTART:20241103T090000
END:STANDARD
BEGIN:DAYLIGHT
TZOFFSETFROM:-0800
TZOFFSETTO:-0700
TZNAME:PDT
DTSTART:20250309T100000
END:DAYLIGHT
BEGIN:STANDARD
TZOFFSETFROM:-0700
TZOFFSETTO:-0800
TZNAME:PST
DTSTART:20251102T090000
END:STANDARD
END:VTIMEZONE
BEGIN:VEVENT
DTSTART;TZID=America/Los_Angeles:20241114T120000
DTEND;TZID=America/Los_Angeles:20241114T133000
DTSTAMP:20260424T035524
CREATED:20241031T180735Z
LAST-MODIFIED:20241105T184413Z
UID:115928-1731585600-1731591000@events.aiacalifornia.org
SUMMARY:Credit Cram ZNCD | Zero Carbon Multifamily Residential Buildings Part 1: Lessons from the Field
DESCRIPTION:CREDIT CRAM: ZNCD TRACK \nThis session qualifies forÂ 1.5 LU/HSW and 1.5hrs ofÂ ZNCD mandatory continuing educationÂ (live webinar attendees only). Made in partnership with theÂ William J. Worthen FoundationÂ and inspired by theÂ Building Decarbonization Practice Guide. \nDon”™t miss your chance to attend! Registration closes at 10am\, Thursday\, November 14. You should receive your Zoom confirmation link no later than 10:30am the day of.Â  \nMulti-family residential buildings present significant opportunities for decarbonization. Although not the most energy or carbon-intensive building type overall\, the 24 hour/365 day operation of these buildings\, coupled with high demand for new housing\, have great implications for decarbonization. Part 1 of Zero Carbon Multifamily Residential Buildings will identify various design strategies and considerations to address greenhouse gas emissions in multifamily housing and that promote equity through a community-first approach. The C4GS-ZEDlife Case Study of MountZED Ecovillage (a CEC “EPIC Challenge” winner) will be presented to showcase strategies in practice for delivering affordable\, equitable\, climate-resilient\, cost-competitive\, and emissions-free residential construction. \nSpeakers: \n\nLadan Ghobad\, Ph.D.\, LEED AP BD+C | CEO\, Principal\, Building Performance Specialist\, ENERlite\n \nDr. M.A. Greenstein | VP of Knowledge Transfer\, C4GS ZEDlife\n \nBill Dunster\, OBE | Co-founder and Environmental Architect\, C4GS ZEDlife\n\nModerator: \nKatie Ackerly\, AIA | Principal and Sustainable Design Director\, David Baker Architects\n  \n 
URL:https://events.aiacalifornia.org/event/credit-cram-zero-carbon-multifamily-residential-buildings-part-1-lessons-from-the-field/
LOCATION:Virtual
CATEGORIES:Climate Action,Credit Cram 2024
ATTACH;FMTTYPE=image/png:https://events.aiacalifornia.org/wp-content/uploads/2024/10/Credit-Cram-Zero-Carbon-Multifamily-Residential-Buildings-Part-1-Lessons-from-the-Field-1200x800-1.png
ORGANIZER;CN="Sarah Vasquez":MAILTO:svasquez@aiacalifornia.org
END:VEVENT
END:VCALENDAR