BEGIN:VCALENDAR
VERSION:2.0
PRODID:-//AIA California Calendar - ECPv6.15.11//NONSGML v1.0//EN
CALSCALE:GREGORIAN
METHOD:PUBLISH
X-WR-CALNAME:AIA California Calendar
X-ORIGINAL-URL:https://events.aiacalifornia.org
X-WR-CALDESC:Events for AIA California Calendar
REFRESH-INTERVAL;VALUE=DURATION:PT1H
X-Robots-Tag:noindex
X-PUBLISHED-TTL:PT1H
BEGIN:VTIMEZONE
TZID:UTC
BEGIN:STANDARD
TZOFFSETFROM:+0000
TZOFFSETTO:+0000
TZNAME:UTC
DTSTART:20220101T000000
END:STANDARD
END:VTIMEZONE
BEGIN:VEVENT
DTSTART;TZID=UTC:20231116T120000
DTEND;TZID=UTC:20231116T133000
DTSTAMP:20260424T101736
CREATED:20231108T014106Z
LAST-MODIFIED:20240123T034905Z
UID:94442-1700136000-1700141400@events.aiacalifornia.org
SUMMARY:Credit Cram | Transformational Equity in the Built Environment: The Regeneration Process
DESCRIPTION:Join AIA California’s Urban Design Committee for a panel discussion embracing embodied carbon strategies at the intersection of human justice\, professional practice\, and urban design principles for our livable communities. This panel will discuss the questions and opportunities of choice for our resilient cities and inclusive urban environments while exploring the concept of embodied justice and how we practice transformational cultural awareness. In a time with increasing challenges perpetuated by environmental and socioeconomic inequities\, cities are looking to implement more regenerative urban strategies that replenish resources faster than we consume through circular economies. This panel discusses adaptable tools and methods used across California to strengthen our cities and restore communities separated by policy and infrastructure systems. Moderator:								\n				\n				\n						\n					\n			\n						\n				\n									Maria Katticaran\, AIA\, LFA | Architect & Urban Designer\, HDR								\n				\n					\n		\n				\n			\n						\n				\n									Kevin Tyrrell\, AIA | Partner\, QDG Architecture								\n				\n					\n		\n				\n			\n							\n		\n					\n		\n				\n				\n					Speakers:				\n				\n				\n						\n					\n			\n						\n				\n									Leslie Sydnor\, AIA\, LEED AP | Director\, Public Project Management\, Cumming; 2023 AIALA President								\n				\n					\n		\n				\n			\n						\n				\n									Marcela Oliva | Professor of Architecture and Environmental Design\, LATTC								\n				\n					\n		\n				\n			\n						\n				\n									Jess Zimbabwe | Executive Director\, Environmental Works Community Design Center								\n				\n					\n		\n					\n		\n				\n				\n									Why it’s important:This program will explore data\, metrics and strategies in addressing equity\, resiliency\, and sustainability in communities. Creating opportunities and spaces for diversity and inclusion\, focusing on sustainability and building resiliency can promote equity\, address carbon emissions and maintain safety of buildings in the event of disaster or severe weather events. 								\n				\n				\n				\n							\n							\n																\n													\n									\n					\n						\n				\n					\n		\n					\n		\n				\n						\n					\n			\n						\n				\n							\n			\n									Additional Resources\n							\n			\n									Additional Resources\n					Full Presentation_ Townhall 10 Transformational Equity
URL:https://events.aiacalifornia.org/event/credit-cram-transformational-equity-in-the-built-environment-the-regeneration-process/
LOCATION:Virtual
CATEGORIES:Urban Design
ATTACH;FMTTYPE=image/jpeg:https://events.aiacalifornia.org/wp-content/uploads/2023/11/2023-AIACA-Credit-Cram-Transformation-1200x800-2.jpg
ORGANIZER;CN="Sarah Vasquez":MAILTO:svasquez@aiacalifornia.org
END:VEVENT
END:VCALENDAR