BEGIN:VCALENDAR
VERSION:2.0
PRODID:-//AIA California Calendar - ECPv6.15.11//NONSGML v1.0//EN
CALSCALE:GREGORIAN
METHOD:PUBLISH
X-WR-CALNAME:AIA California Calendar
X-ORIGINAL-URL:https://events.aiacalifornia.org
X-WR-CALDESC:Events for AIA California Calendar
REFRESH-INTERVAL;VALUE=DURATION:PT1H
X-Robots-Tag:noindex
X-PUBLISHED-TTL:PT1H
BEGIN:VTIMEZONE
TZID:America/Los_Angeles
BEGIN:DAYLIGHT
TZOFFSETFROM:-0800
TZOFFSETTO:-0700
TZNAME:PDT
DTSTART:20230312T100000
END:DAYLIGHT
BEGIN:STANDARD
TZOFFSETFROM:-0700
TZOFFSETTO:-0800
TZNAME:PST
DTSTART:20231105T090000
END:STANDARD
BEGIN:DAYLIGHT
TZOFFSETFROM:-0800
TZOFFSETTO:-0700
TZNAME:PDT
DTSTART:20240310T100000
END:DAYLIGHT
BEGIN:STANDARD
TZOFFSETFROM:-0700
TZOFFSETTO:-0800
TZNAME:PST
DTSTART:20241103T090000
END:STANDARD
BEGIN:DAYLIGHT
TZOFFSETFROM:-0800
TZOFFSETTO:-0700
TZNAME:PDT
DTSTART:20250309T100000
END:DAYLIGHT
BEGIN:STANDARD
TZOFFSETFROM:-0700
TZOFFSETTO:-0800
TZNAME:PST
DTSTART:20251102T090000
END:STANDARD
END:VTIMEZONE
BEGIN:VEVENT
DTSTART;TZID=America/Los_Angeles:20241112T120000
DTEND;TZID=America/Los_Angeles:20241112T133000
DTSTAMP:20260424T070827
CREATED:20241031T173000Z
LAST-MODIFIED:20241105T214931Z
UID:115920-1731412800-1731418200@events.aiacalifornia.org
SUMMARY:Credit Cram ZNCD | Shifting the Paradigm to Carbon Neutral Buildings with Equity in Mind
DESCRIPTION:CREDIT CRAM: ZNCD TRACK \nThis session qualifies forÂ 1.5 LU/HSW and 1.5hrs of ZNCD mandatory continuing education (live webinar attendees only). Made in partnership with the William J. Worthen Foundation and inspired by the Building Decarbonization Practice Guide. \nDon”™t miss your chance to attend! Registration closes at 10am\, Tuesday\, November 12. You should receive your Zoom confirmation link no later than 10:30am the day of.Â  \nThis session will show practitioners how they can deliver carbon neutral buildings in an equitable manner\, and how design professionals and the industry as a whole can take action to bridge the green building sector with equity as a key to meeting decarbonization\, resilience\, climate and energy democracy goals at pace and scale. Encouraging design of Zero Carbon buildings supports healthy environments\, addresses the climate crisis\, and additionally incorporating equitable principles throughout the design process upholds communities’ and the public’s health and wellbeing. \nSpeakers: \nBrett Rosenberg\, LEED AP | ESG Compliance Manager\, Cushman & Wakefield\nAlice Sung\, AIA\, LEED AP BD+C\, SEA | Principal\, Greenbank Associates\, VP\, Board of Directors\, Worthen Foundation\n  \n  \n  \n  \n  \n  \n  \n  \nModerator: \nSteve Guttman\, P.E.\, BCxP\, CDP\, LEED Fellow | Principal\, Guttmann & Blaevoet\n 
URL:https://events.aiacalifornia.org/event/credit-cram-shifting-the-paradigm-to-carbon-neutral-buildings-with-equity-in-mind/
LOCATION:Virtual
CATEGORIES:Climate Action,Credit Cram 2024
ATTACH;FMTTYPE=image/png:https://events.aiacalifornia.org/wp-content/uploads/2024/10/Credit-Cram-Shifting-the-Paradigm-to-Carbon-1200x800-1.png
ORGANIZER;CN="Sarah Vasquez":MAILTO:svasquez@aiacalifornia.org
END:VEVENT
END:VCALENDAR